{"text_format":"3","workbook":"xlsx","n_sheets":9,"sheets":["Menu","SlimFix","SlimFix Reno+","SlimFix RenoTwin","calcu","lijst RC"," lijst slimfix","lijst reno","lijst renotwin"],"not_rendered":{"images":8,"defined_names":6,"comments":1},"read":"whole","date_system":"1900"}

{"sheet":"Menu","index":0,"n_rows":9,"n_cols":2,"rows_kept":9}
[]
[null,"Hulpmaterialentool dakelementen"]
[null,"Met behulp van deze tool kunt u bij eenvoudige zadel- of lessenaarsdaken bepalen welke"]
[null,"en hoeveel bevestigers en profielen u nodig heeft bij de verwerking van de diverse types "]
[null,"dakelementen"]
[null,"Bij complexere dakconstructies geven wij u graag een projectspecifiek advies."]
[null,"Stuur hiervoor uw projectgegevens naar info@isobouw.nl"]
[]
[null,"Maak een productkeuze"]

{"sheet":"SlimFix","index":1,"n_rows":78,"n_cols":11,"rows_kept":78,"merged":[[13,3,13,9],[15,1,15,11],[29,3,29,7],[47,3,47,7],[58,1,58,11],[60,5,60,6]]}
[]
[null,"Hulpmaterialentool SlimFix dakelementen"]
[]
[null,"Met behulp van deze tool kunt u bij eenvoudige zadel- of lessenaarsdaken bepalen welke en hoeveel "]
[null,"bevestigers en profielen u nodig heeft bij de verwerking van de diverse types SlimFix dakelementen"]
[null,"Bij complexere dakconstructies geven wij u graag een projectspecifiek advies."]
[null,"Stuur hiervoor uw projectgegevens naar info@isobouw.nl"]
[]
[null,"Product"]
[{"$nulls":9},"Opnieuw selecteren bij typeverandering"]
[null,"Type dakelement",null,"_Type",{"$nulls":3},"RC-waarde"]
[{"$nulls":3},"Voor Solar-elementen verwijzen wij naar de verwerkingsvoorschriften op onze site"]
[]
[null,"Projectnaam (optioneel)"]
[]
[null,"Dakconstructie"]
[]
[]
[]
[{"$nulls":9},"d","dd"]
{"$rows_empty":7}
[null,"Dakvlak 1: Alle velden invullen m.u.v.'gewicht PV-panelen' Dat veld is optioneel."]
[]
[null,"Gebouwtype",null,"1,2 of 3 bouwlagen (ééngezinswoning)"]
[]
[null,"Breedte in mm",{"$nulls":4},"Lengte in mm"]
[]
[]
[null,"Aantal oplegpunten"]
[]
[]
[]
[]
[]
[null,"Gewicht pannen in kg/m2",{"$nulls":4},"PV-panelen  + plafond in kg/m2",{"$nulls":3},"(optioneel)"]
[]
[{"$nulls":6},"Totaal aantal gelijksoortige",null,null,"Minimaal 1 invullen"]
[null,"Dakhelling in graden",{"$nulls":4},"dakvlakken",null,null,1]
[]
[null,"Dakvlak 2 (indien van toepassing): Alle velden invullen m.u.v.'gewicht PV-panelen' Dat veld is optioneel."]
[]
[null,"Gebouwtype",null,"1,2 of 3 bouwlagen (ééngezinswoning)"]
[]
[null,"Breedte in mm",{"$nulls":4},"Lengte in mm"]
[]
[null,"Aantal oplegpunten"]
[]
[null,"Gewicht pannen in kg/m2",{"$nulls":4},"PV-panelen  + plafond in kg/m2",{"$nulls":3},"(optioneel)"]
[]
[{"$nulls":6},"Totaal aantal gelijksoortige",null,null,"Minimaal 1 invullen (indien van toepassing)"]
[null,"Dakhelling in graden",{"$nulls":4},"dakvlakken",null,null,1]
[]
[null,"Bevestigingsmethode"]
[]
[null,"Dakvlak 1:",{"$nulls":3},"Bevestigers",null,null,"Aantal "]
[null,{"$f":"VLOOKUP(calcu!$C$10,' lijst slimfix'!C6:AA96,23)","v":{"$error":"#N/A"}},{"$nulls":3},{"$f":"VLOOKUP(calcu!$C$10,' lijst slimfix'!C6:X96,4)","v":{"$error":"#N/A"}},null,{"$f":"IF($B$62=\"Door de tengel t.p.v. elke onderliggende gording/muurplaat:\",\" \",\"incl. volgplaatjes\")","v":{"$error":"#N/A"}},{"$f":"IF($D$32=0,0,VLOOKUP(calcu!$C$10,' lijst slimfix'!C6:AA96,24))","v":0},"per oplegging"]
[null,{"$f":"VLOOKUP(calcu!$C$10,' lijst slimfix'!C6:AA96,25)","v":{"$error":"#N/A"}},{"$nulls":3},{"$f":"IF($B$63=\" \",\"\",VLOOKUP(calcu!$C$10,' lijst slimfix'!C6:X96,9))","v":{"$error":"#N/A"}},null,{"$f":"IF($B$63=\" \",\" \",\"incl. volgplaatjes\")","v":{"$error":"#N/A"}},{"$f":"IF($B$63=\" \",\" \",VLOOKUP(calcu!$C$10,' lijst slimfix'!C6:X96,12))","v":{"$error":"#N/A"}},{"$f":"IF($B$63=\" \",\" \",\"per element\")","v":{"$error":"#N/A"}}]
[]
[null,{"$f":"IF($D$50=0,\" \",\"Dakvlak 2\")","v":" "}]
[null,{"$f":"IF($D$50=0,\" \",VLOOKUP(calcu!$C$10,' lijst slimfix'!C6:AA96,23))","v":" "},{"$nulls":3},{"$f":"IF($D$50=0,\" \",VLOOKUP(calcu!$C$10,' lijst slimfix'!C6:X96,4))","v":" "},null,{"$f":"IF(OR($B$66=\"Door de tengel t.p.v. elke onderliggende gording/muurplaat:\",$B$66=\" \"),\" \",\"incl. volgplaatjes\")","v":" "},{"$f":"IF($D$50=0,\" \",VLOOKUP(calcu!$C$10,' lijst slimfix'!C6:AA96,24))","v":" "},{"$f":"IF($D$50=0,\" \",\"per oplegging\")","v":" "}]
[null,{"$f":"IF($D$50=0,\" \",VLOOKUP(calcu!$C$10,' lijst slimfix'!C6:AA96,25))","v":" "},{"$nulls":3},{"$f":"IF($B$67=\" \",\" \",VLOOKUP(calcu!$C$10,' lijst slimfix'!C6:X96,9))","v":" "},null,{"$f":"IF($B$67=\" \",\" \",\"incl. volgplaatjes\")","v":" "},{"$f":"IF($B$67=\" \",\" \",VLOOKUP(calcu!$C$10,' lijst slimfix'!C6:X96,13))","v":" "},{"$f":"IF($B$67=\" \",\" \",\"per element\")","v":" "}]
[]
[null,"Totale hoeveelheid benodigde bevestigers en hulpmaterialen"]
[]
[null,"Product",null,"Eenheid",null,null,"Aantal"]
[null,{"$f":"VLOOKUP(calcu!$C$10,' lijst slimfix'!C6:V96,16)","v":{"$error":"#N/A"}},null,{"$f":"IF(B72=0,\" \",VLOOKUP(calcu!$C$10,' lijst slimfix'!C6:V96,5))","v":{"$error":"#N/A"}},{"$f":"IF(B72=0,\" \",\"st/ds\")","v":{"$error":"#N/A"}},null,{"$f":"IF(B72=0,\" \",VLOOKUP(calcu!$C$10,' lijst slimfix'!C6:V96,17))","v":{"$error":"#N/A"}},{"$f":"IF(B72=0,\" \",\"ds\")","v":{"$error":"#N/A"}}]
[null,{"$f":"VLOOKUP(calcu!$C$10,' lijst slimfix'!C6:V96,18)","v":{"$error":"#N/A"}},null,{"$f":"IF(B73=0,\" \",VLOOKUP(calcu!$C$10,' lijst slimfix'!C6:V96,10))","v":{"$error":"#N/A"}},{"$f":"IF(B73=0,\" \",\"st/ds\")","v":{"$error":"#N/A"}},null,{"$f":"IF(B73=0,\" \",VLOOKUP(calcu!$C$10,' lijst slimfix'!C6:V96,19))","v":{"$error":"#N/A"}},{"$f":"IF(B73=0,\" \",\"ds\")","v":{"$error":"#N/A"}}]
[null,{"$f":"IF(G74=0,\" \",\"Volgplaatjes\")","v":{"$error":"#N/A"}},null,{"$f":"IF(G74=0,\" \",100)","v":{"$error":"#N/A"}},{"$f":"IF(G74=0,\" \",\"st/ds\")","v":{"$error":"#N/A"}},null,{"$f":"VLOOKUP(calcu!$C$10,' lijst slimfix'!C6:X96,20)","v":{"$error":"#N/A"}},{"$f":"IF(G74=0,\" \",\"ds\")","v":{"$error":"#N/A"}}]
[null,{"$f":"VLOOKUP(calcu!$C$10,' lijst slimfix'!C6:X96,21)","v":{"$error":"#N/A"}},{"$nulls":4},{"$f":"VLOOKUP(calcu!$C$10,' lijst slimfix'!C6:X96,22)","v":{"$error":"#N/A"}},"m1"]
[]
[null,"Aan de uitkomsten van de berekeningen kunnen geen rechten worden ontleend"]
[null,"Bij de berekeningen is geen rekening gehouden met de toepassing van stuiknaden en/of elementen met kopgeveloverstekvoorziening"]

{"sheet":"SlimFix Reno+","index":2,"n_rows":67,"n_cols":11,"rows_kept":67,"merged":[[12,3,12,9],[14,1,14,11],[46,1,46,11],[48,5,48,6],[63,6,63,9],[66,1,71,11]]}
[]
[null,"Hulpmaterialentool SlimFix Reno+ elementen"]
[]
[null,"Met behulp van deze tool kunt u bij eenvoudige zadel- of lessenaarsdaken bepalen welke en hoeveel "]
[null,"bevestigers en profielen (optioneel) u nodig heeft bij de verwerking van de  SlimFix Reno+ elementen"]
[null,"Bij complexere dakconstructies geven wij u graag een projectspecifiek advies."]
[null,"Stuur hiervoor uw projectgegevens naar info@isobouw.nl"]
[]
[null,"Product"]
[]
[null,"Type dakelement",null,"SlimFix Reno+",{"$nulls":3},"RC-waarde"]
[]
[null,"Projectnaam (optioneel)"]
[]
[null,"Dakconstructie"]
[]
[]
[]
[{"$nulls":9},"d","dd"]
{"$rows_empty":7}
[null,"Dakvlak 1: Alle velden invullen."]
[]
[null,"Breedte in mm",{"$nulls":4},"Lengte in mm"]
[]
[]
[null,"Aantal oplegpunten/gordingen"]
[]
[]
[null,"Totaal aantal gelijksoortige",null,"Minimaal 1 invullen"]
[null,"dakvlakken",null,1]
[]
[null,"Dakvlak 2 (indien van toepassing): Alle velden invullen."]
[]
[null,"Breedte in mm",{"$nulls":4},"Lengte in mm"]
[]
[null,"Aantal oplegpunten/gordingen"]
[]
[null,"Totaal aantal gelijksoortige",null,"Minimaal 1 invullen (indien van toepassing)"]
[null,"dakvlakken",null,1]
[]
[null,"Bevestigingsmethode"]
[]
[null,"Dakvlak 1:",{"$nulls":3},"Bevestigers",null,null,"Aantal "]
[null,"Door de tengel t.p.v. elke onderliggende gording",{"$nulls":3},{"$f":"VLOOKUP('lijst reno'!M5,'lijst reno'!C5:F13,4)","v":{"$error":"#N/A"}},null,null,3,"per oplegging"]
[]
[null,{"$f":"IF($D$40=0,\" \",\"Dakvlak 2\")","v":" "}]
[null,{"$f":"IF($D$40=0,\" \",\"Door de tengel t.p.v. elke onderliggende gording\")","v":" "},{"$nulls":3},{"$f":"IF($D$40=0,\" \",VLOOKUP('lijst reno'!M5,'lijst reno'!C5:F13,7))","v":" "},null,null,{"$f":"IF($D$40=0,\" \",3)","v":" "},{"$f":"IF($D$40=0,\" \",\"per oplegging\")","v":" "}]
[]
[null,"Totale hoeveelheid benodigde bevestigers en hulpmaterialen"]
[]
[null,"Product",null,"Eenheid",null,null,"Aantal"]
[null,"Schroef",{"$f":"F50","v":{"$error":"#N/A"}},"100 st./ds",null,null,{"$f":"CEILING('lijst reno'!I5/100,1)","v":0},{"$f":"IF(C58=0,\" \",\"ds\")","v":{"$error":"#N/A"}}]
[]
[null,"Optioneel:"]
[null,"SlimFix Reno naadprofiel 3 m",null,"8 st./bundel",null,null,{"$f":"CEILING(((J29/1000)*'lijst reno'!G5)+((J40/1000)*'lijst reno'!H5),1)","v":0},"m1        oftewel",{"$f":"CEILING(G61/8,1)","v":0},"bundel"]
[]
[null,{"$f":"VLOOKUP('lijst reno'!M5,'lijst reno'!C5:K13,8)","v":{"$error":"#N/A"}},null,{"$f":"IF(B63=0,\" \",\"6 st./doos*\")","v":{"$error":"#N/A"}},null,null,{"$f":"IF(B63=0,\" \",CEILING(((D29*D36)+(D40*D45))/11700,1))","v":{"$error":"#N/A"}},{"$f":"IF(B63=0,\" \",\"ds\")","v":{"$error":"#N/A"}}]
[null,{"$f":"VLOOKUP('lijst reno'!M5,'lijst reno'!C5:K13,9)","v":{"$error":"#N/A"}},null,{"$f":"IF(B64=0,\" \",\"4 st./doos**\")","v":{"$error":"#N/A"}},null,null,{"$f":"IF(B64=0,\" \",\"aantal/toepassing afhankelijk van project\")","v":{"$error":"#N/A"}}]
[null,"Aan de uitkomsten van de berekeningen kunnen geen rechten worden ontleend"]
[]
[null,{"$f":"IF(B63=0,\" \",'lijst reno'!A15)","v":{"$error":"#N/A"}}]

{"sheet":"SlimFix RenoTwin","index":3,"n_rows":92,"n_cols":12,"rows_kept":92,"merged":[[14,3,14,9],[16,1,16,11],[57,1,57,11],[59,5,59,6],[88,6,88,9],[91,1,96,11]]}
[]
[null,"Hulpmaterialentool SlimFix RenoTwin elementen"]
[]
[null,"Met behulp van deze tool kunt u bij eenvoudige zadel- of lessenaarsdaken bepalen welke en hoeveel "]
[null,"bevestigers en profielen (optioneel) u nodig heeft bij de verwerking van de  SlimFix RenoTwin elementen"]
[null,"Bij complexere dakconstructies geven wij u graag een projectspecifiek advies."]
[null,"Stuur hiervoor uw projectgegevens naar info@isobouw.nl"]
[]
[null,"Product"]
[]
[null,"Type dakelement",null,"SlimFix RenoTwin",{"$nulls":3},"Type*"]
[{"$nulls":3},"* De Rc-waarde is mede afhankelijk van de onderconstructie (eventuele aanwezigheid oude isolatielaag)"]
[{"$nulls":3},"Voor Solar-elementen verwijzen wij naar de verwerkingsvoorschriften op onze site"]
[]
[null,"Projectnaam (optioneel)"]
[]
[null,"Dakconstructie"]
[]
[]
[]
[{"$nulls":9},"d","dd"]
{"$rows_empty":7}
[null,"Dakvlak 1: Alle velden invullen."]
[]
[null,"Breedte in mm",{"$nulls":4},"Lengte in mm"]
[]
[]
[null,"Aantal oplegpunten/gordingen"]
[]
[]
[]
[]
[null,"Uit te vlakken doorbuiging in mm",null,"_kies"]
[{"$nulls":6},"Totaal aantal gelijksoortige",null,null,"Minimaal 1 invullen"]
[null,"Dikte bestaand dakpakket in mm",null,"_kies",null,null,"dakvlakken",null,null,1]
[]
[null,"Is er sprake van een gootoverstek",null,"_kies"]
[]
[]
[null,"Dakvlak 2 (indien van toepassing): Alle velden invullen."]
[]
[null,"Breedte in mm",{"$nulls":4},"Lengte in mm"]
[]
[null,"Aantal oplegpunten/gordingen"]
[]
[null,"Uit te vlakken doorbuiging in mm",null,"_kies"]
[{"$nulls":6},"Totaal aantal gelijksoortige",null,null,"Minimaal 1 invullen (indien van toepassing)"]
[null,"Dikte bestaand dakpakket in mm",null,"_kies",null,null,"dakvlakken",null,null,1]
[]
[null,"Is er sprake van een gootoverstek",null,"_kies"]
[]
[null,"Bevestigingsmethode"]
[]
[null,"Dakvlak 1:",{"$nulls":3},"Bevestigers",null,null,"Aantal "]
[null,"Door de tengel t.p.v. elke onderliggende gording",{"$nulls":3},{"$f":"IF(D39=\"_kies\",\"?? \",VLOOKUP(('lijst renotwin'!N5&D39&D41),'lijst renotwin'!B27:E176,4))","v":"?? "},"RenoTwin schroef",null,3,"per oplegging"]
[]
[null,{"$f":"IF(D43=\"ja\",\"T.b.v. gootoverstek:\",\" \")","v":" "}]
[null,{"$f":"IF(D43=\"ja\",\"67° bevestiging door de tengel t.p.v. de muurplaat \",\" \")","v":" "},{"$nulls":3},{"$f":"IF(D43=\"ja\",VLOOKUP('lijst renotwin'!N5,'lijst renotwin'!C5:L15,10),\" \")","v":" "},{"$f":"IF(D43=\"ja\",\"RenoTwin schroef\",\" \")","v":" "},null,{"$f":"IF(D43=\"ja\",3,\" \")","v":" "},{"$f":"IF(D43=\"ja\",\"per element\",\" \")","v":" "}]
[{"$nulls":6},{"$f":"IF(D43=\"ja\",VLOOKUP('lijst renotwin'!N5,'lijst renotwin'!C5:L15,9),\" \")","v":" "},{"$f":"IF(D43=\"ja\",\"mm afstand tot horiz. schroef)\",\" \")","v":" "}]
[null,{"$f":"IF($D$48=0,\" \",\"Dakvlak 2\")","v":" "}]
[null,{"$f":"IF($D$48=0,\" \",\"Door de tengel t.p.v. elke onderliggende gording\")","v":" "},{"$nulls":3},{"$f":"IF(D48=0,\" \",L67)","v":" "},{"$f":"IF(D48=0,\" \",\"RenoTwin schroef\")","v":" "},null,{"$f":"IF($D$48=0,\" \",3)","v":" "},{"$f":"IF($D$48=0,\" \",\"per oplegging\")","v":" "},null,{"$f":"IF(D52=\"_kies\",\" \",VLOOKUP(('lijst renotwin'!N5&D52&D54),'lijst renotwin'!B27:E326,4))","v":" "}]
[]
[null,{"$f":"IF(D56=\"ja\",\"T.b.v. gootoverstek:\",\" \")","v":" "}]
[null,{"$f":"IF(D56=\"ja\",\"67° bevestiging in de muurplaat \",\" \")","v":" "},{"$nulls":3},{"$f":"IF(D56=\"ja\",VLOOKUP('lijst renotwin'!N5,'lijst renotwin'!C5:L15,10),\" \")","v":" "},{"$f":"IF(D56=\"ja\",\"RenoTwin schroef\",\" \")","v":" "},null,{"$f":"IF(D56=\"ja\",3,\" \")","v":" "},{"$f":"IF(D56=\"ja\",\"per element\",\" \")","v":" "}]
[{"$nulls":6},{"$f":"IF(D56=\"ja\",VLOOKUP('lijst renotwin'!N5,'lijst renotwin'!C5:L15,9),\" \")","v":" "},{"$f":"IF(D56=\"ja\",\"mm afstand tot horiz. schroef)\",\" \")","v":" "}]
[]
[null,"Totale hoeveelheid benodigde bevestigers en hulpmaterialen"]
[]
[null,"Product",null,"Eenheid",null,null,"Aantal"]
[null,"RenoTwin schroef",{"$f":"F61","v":"?? "},{"$f":"VLOOKUP(C76,'lijst renotwin'!J27:M38,2)","v":{"$error":"#N/A"}},null,null,{"$f":"CEILING('lijst renotwin'!F5/VLOOKUP(C76,'lijst renotwin'!J27:M38,3),1)","v":{"$error":"#N/A"}},{"$f":"IF(C76=0,\" \",\"ds t.b.v. dakvlak 1\")","v":"ds t.b.v. dakvlak 1"}]
[null,{"$f":"IF(D48=0,\" \",\"RenoTwin schroef\")","v":" "},{"$f":"IF(B77= \" \",\" \",$L$67)","v":" "},{"$f":"IF(B77=\" \",\" \",VLOOKUP(C77,'lijst renotwin'!J27:M38,2))","v":" "},null,null,{"$f":"IF(B77=\" \",\" \",CEILING('lijst renotwin'!G5/VLOOKUP(C77,'lijst renotwin'!J27:M38,3),1))","v":" "},{"$f":"IF(C77=\" \",\" \",\"ds t.b.v. dakvlak 2\")","v":" "}]
[]
[null,{"$f":"IF(OR(D43=\"ja\",D56=\"ja\"),\"T.b.v. gootoverstek\",\" \")","v":" "}]
[null,{"$f":"IF(C80=\" \",\" \",\"RenoTwin schroef\")","v":" "},{"$f":"F64","v":" "},{"$f":"IF(B80=\" \",\" \",VLOOKUP(C80,'lijst renotwin'!J27:M38,2))","v":" "},null,null,{"$f":"IF(B80=\" \",\" \",CEILING(('lijst renotwin'!D5+'lijst renotwin'!E5)*3/VLOOKUP(C80,'lijst renotwin'!J27:M38,3),1))","v":" "},{"$f":"IF(C80=\" \",\" \",\"ds\")","v":" "}]
[]
[null,"Optioneel:"]
[null,"SlimFix Reno naadprofiel 3 m",null,"8 st./bundel",null,null,{"$f":"CEILING(((J31/1000)*'lijst renotwin'!D5)+((J48/1000)*'lijst renotwin'!E5),1)","v":0},"m1        oftewel",{"$f":"CEILING(G83/8,1)","v":0},"bundel"]
[null,"Voldraadschroef 6x120 t.b.v. kopgeveloverstek",null,"100 st./ds",null,null,{"$f":"CEILING(((D31/1000*4*2*J41)+(D48/1000*4*2*J54))/100,1)","v":0},"ds (flexoptie bij een kopgeveloverstekvoorziening,"]
[{"$nulls":7},"       volume gebas.op toepassing bij iedere boeiboord)"]
[null,{"$f":"IF(J11>=5,\"Schroefhulp\",\" \")","v":" "},{"$nulls":4},{"$f":"IF(B86=\" \",\" \",1)","v":" "},{"$f":"IF(B86=\" \",\" \",\"st.\")","v":" "}]
[]
[null,{"$f":"VLOOKUP('lijst renotwin'!N5,'lijst renotwin'!C5:I15,6)","v":{"$error":"#N/A"}},null,{"$f":"IF(B88=0,\" \",\"6 st./doos*\")","v":{"$error":"#N/A"}},null,null,{"$f":"CEILING(((D31*J41)+(D48*J54))/11700,1)","v":0},{"$f":"IF(B88=0,\" \",\"ds\")","v":{"$error":"#N/A"}}]
[null,{"$f":"VLOOKUP('lijst renotwin'!N5,'lijst renotwin'!C5:I15,7)","v":{"$error":"#N/A"}},null,{"$f":"IF(B89=0,\" \",\"4 st./doos**\")","v":{"$error":"#N/A"}},null,null,"aantal/toepassing afhankelijk van project"]
[null,"Aan de uitkomsten van de berekeningen kunnen geen rechten worden ontleend"]
[]
[null,{"$f":"IF(B88=0,\" \",'lijst reno'!A15)","v":{"$error":"#N/A"}}]

{"sheet":"calcu","index":4,"n_rows":43,"n_cols":28,"rows_kept":43,"hidden":true,"merged":[[1,0,3,9],[1,12,3,21],[9,2,9,3],[9,14,9,15],[36,0,36,9],[36,12,36,21],[37,0,37,9],[37,12,37,21]]}
[]
["Dakvlak 1",{"$nulls":11},"Dakvlak 2",{"$nulls":10},"Rapport SHR 2023","rekenwaarden afschuifsterkte"]
[{"$nulls":23},"rapp.code: 22.0675","FV,Rd,blijvend  [kN]",null,"FV,Rd,kort [kN]"]
[{"$nulls":23},"2023-08-10","schroef Ø 6","schroef Ø 8","schroef Ø 6","schroef Ø 8"]
[null,"SNEEUW:",null,"NEN-EN 1991-1-3+C1:2011/NB:2011",{"$nulls":9},"SNEEUW:",null,"NEN-EN 1991-1-3+C1:2011/NB:2011",{"$nulls":7},"3 mm sp.pl.",0.36,0.51,0.75,1.04]
["Daktype:","Zadel / lessenaarsdak (sneeuw wordt NIET belet van dak te glijden\";\"sneeuw wordt belet van dak te glijden)",{"$nulls":10},"Daktype:","Zadel / lessenaarsdak (sneeuw wordt NIET belet van dak te glijden\";\"sneeuw wordt belet van dak te glijden)",{"$nulls":9},"8 mm sp.pl.",0.85,1.07,1.75,2.2]
[null,"μ1 =",{"$f":"IF(AND(C11>=0,C11<=30),0.8,IF(AND(C11>30,C11<60),(60-C11)/30*0.8,IF(AND(C11>=60,C11<=90),0,IF(C11>90,\" hoek ???\",IF(C11<0,\" hoek ???\",\" \")))))","v":{"v":0.8,"d":"0.80"}},null,"Ce =",1,"sk50 =",{"$f":"0.7*((1-(H8*SQRT(6)/PI()*(LN(-LN(1-1/50))+0.57222)))/(1+2.5923*H8))","v":{"v":0.7007052261979702,"d":"0.7"}},"kN/m2",{"$nulls":4},"μ1 =",{"$f":"IF(AND(O11>=0,O11<=30),0.8,IF(AND(O11>30,O11<60),(60-O11)/30*0.8,IF(AND(O11>=60,O11<=90),0,IF(O11>90,\" hoek ???\",IF(O11<0,\" hoek ???\",\" \")))))","v":{"v":0.8,"d":"0.80"}},null,"Ce =",1,"sk50 =",{"$f":"0.7*((1-(T8*SQRT(6)/PI()*(LN(-LN(1-1/50))+0.57222)))/(1+2.5923*T8))","v":{"v":0.7007052261979702,"d":"0.7"}},"kN/m2",null,null,"3 mm sp.pl + XT rib",1.15,null,1.72]
[null,"s = μi Ce Ct sk =",{"$f":"C7*F7*F8*H7","v":{"v":0.5605641809583761,"d":"0.56"}},"kN/m2","Ct =",1,"V =",0.8,{"$nulls":5},"s = μi Ce Ct sk =",{"$f":"O7*R7*R8*T7","v":{"v":0.5605641809583761,"d":"0.56"}},"kN/m2","Ct =",1,"V =",0.8,{"$nulls":3},"8 mm sp.pl + XT rib",1.34,null,2.01]
[{"$nulls":5},"NEN-EN 1995-1-1:2005/NB:2011 art.2.3.1.2",{"$nulls":11},"NEN-EN 1995-1-1:2005/NB:2011 art.2.3.1.2"]
[null,"element :",{"$f":"SlimFix!D11&\" \"&SlimFix!J11","v":"_Type "},null,null,"Belastingsduurklasse",{"$nulls":3},"Belastingsvoorbeelden",{"$nulls":3},"element :",{"$f":"SlimFix!D11&\" \"&SlimFix!J11","v":"_Type "},null,null,"Belastingsduurklasse",{"$nulls":3},"Belastingsvoorbeelden",null,"NEN-EN 1995-1-1:2005/NB:2011 art.2.3.1.2"]
[null,"dakhelling  α =",{"$f":"SlimFix!D44","v":0},null,null,"blijvend",{"$nulls":3},"eigen gewicht",{"$nulls":3},"dakhelling  α =",{"$f":"SlimFix!$D$57","v":0},null,null,"blijvend",{"$nulls":3},"eigen gewicht",null,"Belastingsduurklasse",{"$nulls":3},"Belastingsvoorbeelden"]
[{"$nulls":5},"Kort",{"$nulls":3},"Sneeuw, wind",{"$nulls":7},"Kort",{"$nulls":3},"Sneeuw, wind",null,"blijvend",{"$nulls":3},"eigen gewicht"]
[{"$nulls":23},"Kort",{"$nulls":3},"Sneeuw, wind"]
[null,"eigen gewicht",{"$f":"VLOOKUP(C10,' lijst slimfix'!C6:E96,3)","v":{"$error":"#N/A"}},"kN/m2",null,{"$f":"SlimFix!D30","v":"1,2 of 3 bouwlagen (ééngezinswoning)"},{"$nulls":7},"eigen gewicht",{"$f":"VLOOKUP(C10,' lijst slimfix'!C6:E96,3)","v":{"$error":"#N/A"}},"kN/m2",null,{"$f":"SlimFix!D48","v":"1,2 of 3 bouwlagen (ééngezinswoning)"}]
[null,"pannen",{"$f":"SlimFix!D41","v":0},"kg/m2","evenwijdig ",{"$nulls":8},"pannen",{"$f":"SlimFix!$D$54","v":0},"kg/m2","evenwijdig "]
[null,"PV opdak",{"$f":"SlimFix!J41","v":0},"kg/m2","aan dakvl.",{"$nulls":3},"F",{"$nulls":4},"PV opdak",{"$f":"SlimFix!$J$54","v":0},"kg/m2","aan dakvl.",{"$nulls":3},"F"]
[null,"tot perm.",{"$f":"SUM(C14:C16)/100","v":{"$error":"#N/A"}},"kN/m2 =",{"$f":"C17*SIN(C11/180*PI())*E19*0.981","v":{"$error":"#N/A"}},"kN/m1   x",{"$f":"E20","v":0},"=",{"$f":"E17*G17","v":{"$error":"#N/A"}},"kN",{"$nulls":3},"tot perm.",{"$f":"SUM(O14:O16)/100","v":{"$error":"#N/A"}},"kN/m2 =",{"$f":"O17*SIN(O11/180*PI())*Q19*0.981","v":{"$error":"#N/A"}},"kN/m1   x",{"$f":"Q20","v":0},"=",{"$f":"Q17*S17","v":{"$error":"#N/A"}},"kN"]
[null,"tot sneeuw",{"$f":"C8","v":{"v":0.5605641809583761,"d":"0.56"}},"kN/m2 =",{"$f":"C18*COS(C11/180*PI())*SIN(C11/180*PI())*E19*0.981","v":{"v":0,"d":"0.00"}},"kN/m1   x",{"$f":"E20","v":0},"=",{"$f":"E18*G18","v":{"v":0,"d":"0.00"}},"kN",{"$nulls":3},"tot sneeuw",{"$f":"O8","v":{"v":0.5605641809583761,"d":"0.56"}},"kN/m2 =",{"$f":"O18*COS(O11/180*PI())*SIN(O11/180*PI())*Q19*0.981","v":{"v":0,"d":"0.00"}},"kN/m1   x",{"$f":"Q20","v":0},"=",{"$f":"Q18*S18","v":{"v":0,"d":"0.00"}},"kN"]
[{"$nulls":3},"elementbreedte =",1.02,"m",{"$nulls":9},"elementbreedte =",1.02,"m"]
[{"$nulls":3},"Daklengte =",{"$f":"SlimFix!J32/1000","v":0},"m",{"$nulls":9},"Daklengte =",{"$f":"SlimFix!J50/1000","v":0},"m"]
[]
[{"$nulls":3},"veiligheids ",null,"veiligheids ",{"$nulls":9},"veiligheids ",null,"veiligheids "]
[null,"Korte duur:",null,"factor γ","F","factor γ","F",{"$nulls":6},"Korte duur:",null,"factor γ","F","factor γ","F"]
["(6.10a)",null,"Ned,kort =",{"$f":"IF(F14=\"Meer dan 3 bouwlagen (appartement, openbaar gebouw)\",1.35,1.2)","v":1.2},{"$f":"I17","v":{"$error":"#N/A"}},null,null,"=",{"$f":"D24*E24","v":{"$error":"#N/A"}},{"$f":"IF(I24>=I25,\"kN = max\",\"kN\")","v":{"$error":"#N/A"}},null,null,"(6.10a)",null,"Ned,kort =",{"$f":"IF(R14=\"Meer dan 3 bouwlagen (appartement, openbaar gebouw)\",1.35,1.2)","v":1.2},{"$f":"U17","v":{"$error":"#N/A"}},null,null,"=",{"$f":"P24*Q24","v":{"$error":"#N/A"}},{"$f":"IF(U24>=U25,\"kN = max\",\"kN\")","v":{"$error":"#N/A"}}]
["(6.10b)",null,"Ned,kort =",{"$f":"IF(F14=\"Meer dan 3 bouwlagen (appartement, openbaar gebouw)\",1.2,1.08)","v":1.08},{"$f":"I17","v":{"$error":"#N/A"}},{"$f":"IF(F14=\"Meer dan 3 bouwlagen (appartement, openbaar gebouw)\",1.5,1.35)","v":1.35},{"$f":"I18","v":{"v":0,"d":"0.00"}},"=",{"$f":"D25*E25+F25*G25","v":{"$error":"#N/A"}},{"$f":"IF(I25>=I24,\"kN = max\",\"kN\")","v":{"$error":"#N/A"}},null,null,"(6.10b)",null,"Ned,kort =",{"$f":"IF(R14=\"Meer dan 3 bouwlagen (appartement, openbaar gebouw)\",1.2,1.08)","v":1.08},{"$f":"U17","v":{"$error":"#N/A"}},{"$f":"IF(R14=\"Meer dan 3 bouwlagen (appartement, openbaar gebouw)\",1.5,1.35)","v":1.35},{"$f":"U18","v":{"v":0,"d":"0.00"}},"=",{"$f":"P25*Q25+R25*S25","v":{"$error":"#N/A"}},{"$f":"IF(U25>=U24,\"kN = max\",\"kN\")","v":{"$error":"#N/A"}}]
[null,"Blijvend:",{"$nulls":11},"Blijvend:"]
["(6.10a)",null,"Ned,blijvend =",{"$f":"IF(F14=\"Meer dan 3 bouwlagen (appartement, openbaar gebouw)\",1.35,1.2)","v":1.2},{"$f":"I17","v":{"$error":"#N/A"}},null,null,"=",{"$f":"D27*E27","v":{"$error":"#N/A"}},{"$f":"IF(I27>=I28,\"kN = max\",\"kN\")","v":{"$error":"#N/A"}},null,null,"(6.10a)",null,"Ned,blijvend =",{"$f":"IF(R14=\"Meer dan 3 bouwlagen (appartement, openbaar gebouw)\",1.35,1.2)","v":1.2},{"$f":"U17","v":{"$error":"#N/A"}},null,null,"=",{"$f":"P27*Q27","v":{"$error":"#N/A"}},{"$f":"IF(U27>=U28,\"kN = max\",\"kN\")","v":{"$error":"#N/A"}}]
["(6.10b)",null,"Ned,blijvend =",{"$f":"IF(F14=\"Meer dan 3 bouwlagen (appartement, openbaar gebouw)\",1.2,1.08)","v":1.08},{"$f":"I17","v":{"$error":"#N/A"}},null,null,"=",{"$f":"D28*E28","v":{"$error":"#N/A"}},{"$f":"IF(I28>=I27,\"kN = max\",\"kN\")","v":{"$error":"#N/A"}},null,null,"(6.10b)",null,"Ned,blijvend =",{"$f":"IF(R14=\"Meer dan 3 bouwlagen (appartement, openbaar gebouw)\",1.2,1.08)","v":1.08},{"$f":"U17","v":{"$error":"#N/A"}},null,null,"=",{"$f":"P28*Q28","v":{"$error":"#N/A"}},{"$f":"IF(U28>=U27,\"kN = max\",\"kN\")","v":{"$error":"#N/A"}}]
[]
[{"$nulls":4},"SHR 2023 getest",null,null,"opgen door 3 ø 6 ","daarnaast",{"$nulls":7},"SHR 2023 getest",null,null,"opgen door 3 ø 6 ","daarnaast"]
[null,"spaanplaat =",{"$f":"VLOOKUP(C10,' lijst slimfix'!C6:D96,2)","v":{"$error":"#N/A"}},"mm","kort","blijvend","kort","blijvend","nog nodig",{"$nulls":4},"spaanplaat =",{"$f":"VLOOKUP(C10,' lijst slimfix'!C6:D96,2)","v":{"$error":"#N/A"}},"mm","kort","blijvend","kort","blijvend","nog nodig"]
["opneembaar door schroef ø 6 in 3mm plaat",{"$nulls":3},{"$f":"$AA$5*1000","v":750},{"$f":"$Y$5*1000","v":360},{"$f":"3*$E$32","v":2250},{"$f":"$F$32*3","v":1080},{"$f":"CEILING(MAX((MAX(I24:I25)-G32/1000)/(E32/1000),(MAX(I27:I28)-H32/1000)/(F32/1000)),1)","v":{"$error":"#N/A"}},"sts ø 6 ",null,null,"opneembaar door schroef ø 6 in 3mm plaat",{"$nulls":3},{"$f":"$AA$5*1000","v":750},{"$f":"$Y$5*1000","v":360},{"$f":"3*$E$32","v":2250},{"$f":"$F$32*3","v":1080},{"$f":"CEILING(MAX((MAX(U24:U25)-S32/1000)/(Q32/1000),(MAX(U27:U28)-T32/1000)/(R32/1000)),1)","v":{"$error":"#N/A"}},"sts ø 6 "]
["opneembaar door schroef ø 8 in 3mm plaat",{"$nulls":3},{"$f":"$AB$5*1000","v":1040},{"$f":"$Z$5*1000","v":510},{"$f":"3*$E$32","v":2250},{"$f":"$F$32*3","v":1080},{"$f":"CEILING(MAX((MAX(I24:I25)-G33/1000)/(E33/1000),(MAX(I27:I28)-H33/1000)/(F33/1000)),1)","v":{"$error":"#N/A"}},"sts ø 8",null,null,"opneembaar door schroef ø 8 in 3mm plaat",{"$nulls":3},{"$f":"$AB$5*1000","v":1040},{"$f":"$Z$5*1000","v":510},{"$f":"3*$E$32","v":2250},{"$f":"$F$32*3","v":1080},{"$f":"CEILING(MAX((MAX(U24:U25)-S33/1000)/(Q33/1000),(MAX(U27:U28)-T33/1000)/(R33/1000)),1)","v":{"$error":"#N/A"}},"sts ø 8"]
["opneembaar door schroef ø 6 in 8mm plaat",{"$nulls":3},{"$f":"$AA$6*1000","v":1750},{"$f":"$Y$6*1000","v":850},{"$f":"3*$E$34","v":5250},{"$f":"$F$34*3","v":2550},{"$f":"CEILING(MAX((MAX(I24:I25)-G34/1000)/(E34/1000),(MAX(I27:I28)-H34/1000)/(F34/1000)),1)","v":{"$error":"#N/A"}},"sts ø 6 ",null,null,"opneembaar door schroef ø 6 in 8mm plaat",{"$nulls":3},{"$f":"$AA$6*1000","v":1750},{"$f":"$Y$6*1000","v":850},{"$f":"3*$E$34","v":5250},{"$f":"$F$34*3","v":2550},{"$f":"CEILING(MAX((MAX(U24:U25)-S34/1000)/(Q34/1000),(MAX(U27:U28)-T34/1000)/(R34/1000)),1)","v":{"$error":"#N/A"}},"sts ø 6 "]
["opneembaar door schroef ø 8 in 8mm plaat",{"$nulls":3},{"$f":"$AB$6*1000","v":2200},{"$f":"$Z$6*1000","v":1070},{"$f":"3*$E$34","v":5250},{"$f":"$F$34*3","v":2550},{"$f":"CEILING(MAX((MAX(I24:I25)-G35/1000)/(E35/1000),(MAX(I27:I28)-H35/1000)/(F35/1000)),1)","v":{"$error":"#N/A"}},"sts ø 8",null,null,"opneembaar door schroef ø 8 in 8mm plaat",{"$nulls":3},{"$f":"$AB$6*1000","v":2200},{"$f":"$Z$6*1000","v":1070},{"$f":"3*$E$34","v":5250},{"$f":"$F$34*3","v":2550},{"$f":"CEILING(MAX((MAX(U24:U25)-S35/1000)/(Q35/1000),(MAX(U27:U28)-T35/1000)/(R35/1000)),1)","v":{"$error":"#N/A"}},"sts ø 8"]
[]
["SlimFixXT type R",{"$nulls":11},"SlimFixXT type R"]
["dakvlak 1",{"$nulls":11},"Dakvlak 2"]
[]
[{"$nulls":4},"SHR 2023 getest",null,null,"opgen door 3 ø 6 (2rib)","daarnaast",{"$nulls":7},"SHR 2023 getest",null,null,"opgen door 3 ø 6 (2rib)","daarnaast"]
[null,"spaanplaat =",{"$f":"VLOOKUP(C10,' lijst slimfix'!C6:D96,2)","v":{"$error":"#N/A"}},"mm","kort","blijvend","kort","blijvend","nog nodig",{"$nulls":4},"spaanplaat =",{"$f":"VLOOKUP(O10,' lijst slimfix'!C6:D96,2)","v":{"$error":"#N/A"}},"mm","kort","blijvend","kort","blijvend","nog nodig"]
["opneembaar door schroef ø 6 in 3mm plaat",{"$nulls":3},{"$f":"$AA$5*1000","v":750},{"$f":"$Y$5*1000","v":360},{"$f":"2*$AA$7*1000+$E$42","v":4190},{"$f":"2*$Y$7*1000+$F$42","v":2660},{"$f":"CEILING(MAX((MAX(I24:I25)-G42/1000)/(E42/1000),(MAX(I27:I28)-H42/1000)/(F42/1000)),1)","v":{"$error":"#N/A"}},"sts ø 6 ",null,null,"opneembaar door schroef ø 6 in 3mm plaat",{"$nulls":3},{"$f":"$AA$5*1000","v":750},{"$f":"$Y$5*1000","v":360},{"$f":"2*$AA$7*1000+$E$42","v":4190},{"$f":"2*$Y$7*1000+$F$42","v":2660},{"$f":"CEILING(MAX((MAX(U24:U25)-S42/1000)/(Q42/1000),(MAX(U27:U28)-T42/1000)/(R42/1000)),1)","v":{"$error":"#N/A"}},"sts ø 6 "]
["opneembaar door schroef ø 6 in 8mm plaat",{"$nulls":3},{"$f":"$AA$6*1000","v":1750},{"$f":"$Y$6*1000","v":850},{"$f":"2*$Y$8*1000+$E$43","v":4430},{"$f":"2*$Y$8*1000+$F$43","v":3530},{"$f":"CEILING(MAX((MAX(I24:I25)-G43/1000)/(E43/1000),(MAX(I27:I28)-H43/1000)/(F43/1000)),1)","v":{"$error":"#N/A"}},"sts ø 6 ",null,null,"opneembaar door schroef ø 6 in 8mm plaat",{"$nulls":3},{"$f":"$AA$6*1000","v":1750},{"$f":"$Y$6*1000","v":850},{"$f":"2*$Y$8*1000+$E$43","v":4430},{"$f":"2*$Y$8*1000+$F$43","v":3530},{"$f":"CEILING(MAX((MAX(U24:U25)-S43/1000)/(Q43/1000),(MAX(U27:U28)-T43/1000)/(R43/1000)),1)","v":{"$error":"#N/A"}},"sts ø 6 "]

{"sheet":"lijst RC","index":5,"n_rows":10,"n_cols":15,"rows_kept":10,"hidden":true}
[{"$f":"SlimFix!$D$11","v":"_Type"},"SlimFix 3/3","SlimFix 3/3L","SlimFix 8/8","SlimFix 8/8L","SlimFix Riet","SlimFix Spoor","SlimFix-XT 3/3L","SlimFix-XT 3/3R","SlimFix-XT 8/8L","SlimFix-XT 8/8R","SlimFix-XT Passief","SlimFix-XT Passief M","SlimFix-XT Riet","ATTENTIE: type op alfabetische volgorde"]
[{"$f":"IF(HLOOKUP($A$1,B1:N10,2)>0,HLOOKUP($A$1,B1:N10,2),\" \")","v":{"$error":"#N/A"}},2.5,2.5,2.5,2.5,"1.5+4.0",2.5,2.5,2.5,2.5,2.5,{"v":9,"d":"9.0"},{"v":8,"d":"8.0"},"2.5+4.0"]
[{"$f":"IF(HLOOKUP($A$1,$B$1:$N$10,3)>0,HLOOKUP($A$1,$B$1:$N$10,3),\" \")","v":{"$error":"#N/A"}},{"v":3,"d":"3.0"},{"v":3,"d":"3.0"},{"v":3,"d":"3.0"},{"v":3,"d":"3.0"},"2.5+4.0",{"v":3,"d":"3.0"},{"v":3,"d":"3.0"},{"v":3,"d":"3.0"},{"v":3,"d":"3.0"},{"v":3,"d":"3.0"},{"v":10,"d":"10.0"},null,"3.0+4.0"]
[{"$f":"IF(HLOOKUP($A$1,$B$1:$N$10,4)>0,HLOOKUP($A$1,$B$1:$N$10,4),\" \")","v":{"$error":"#N/A"}},3.5,3.5,3.5,3.5,"3.0+4.0",3.5,3.5,3.5,3.5,3.5,null,null,"3.5+4.0"]
[{"$f":"IF(HLOOKUP($A$1,$B$1:$N$10,5)>0,HLOOKUP($A$1,$B$1:$N$10,5),\" \")","v":{"$error":"#N/A"}},{"v":4,"d":"4.0"},{"v":4,"d":"4.0"},{"v":4,"d":"4.0"},{"v":4,"d":"4.0"},"3.5+4.0",{"v":4,"d":"4.0"},{"v":4,"d":"4.0"},{"v":4,"d":"4.0"},{"v":4,"d":"4.0"},{"v":4,"d":"4.0"},null,null,"4.0+4.0"]
[{"$f":"IF(HLOOKUP($A$1,$B$1:$N$10,6)>0,HLOOKUP($A$1,$B$1:$N$10,6),\" \")","v":{"$error":"#N/A"}},4.5,4.5,4.5,4.5,"4.0+4.0",4.5,4.5,4.5,4.5,4.5,null,null,"4.5+4.0"]
[{"$f":"IF(HLOOKUP($A$1,$B$1:$N$10,7)>0,HLOOKUP($A$1,$B$1:$N$10,7),\" \")","v":{"$error":"#N/A"}},{"v":5,"d":"5.0"},{"v":5,"d":"5.0"},{"v":5,"d":"5.0"},{"v":5,"d":"5.0"},"4.5+4.0",{"v":5,"d":"5.0"},{"v":5,"d":"5.0"},{"v":5,"d":"5.0"},{"v":5,"d":"5.0"},{"v":5,"d":"5.0"},null,null,"5.5+4.0"]
[{"$f":"IF(HLOOKUP($A$1,$B$1:$N$10,8)>0,HLOOKUP($A$1,$B$1:$N$10,8),\" \")","v":{"$error":"#N/A"}},5.5,5.5,5.5,5.5,"5.5+4.0",5.5,5.5,5.5,5.5,5.5,null,null,"6.3+4.0"]
[{"$f":"IF(HLOOKUP($A$1,$B$1:$N$10,9)>0,HLOOKUP($A$1,$B$1:$N$10,9),\" \")","v":{"$error":"#N/A"}},6.3,6.3,6.3,6.3,"6.3+4.0",6.3,6.3,6.3,6.3,6.3]
[{"$f":"IF(HLOOKUP($A$1,$B$1:$N$10,10)>0,HLOOKUP($A$1,$B$1:$N$10,10),\" \")","v":{"$error":"#N/A"}},{"v":7,"d":"7.0"},{"v":7,"d":"7.0"},{"v":7,"d":"7.0"},{"v":7,"d":"7.0"},null,{"v":7,"d":"7.0"},{"v":7,"d":"7.0"},{"v":7,"d":"7.0"},{"v":7,"d":"7.0"},{"v":7,"d":"7.0"}]

{"sheet":" lijst slimfix","index":6,"n_rows":122,"n_cols":35,"rows_kept":122,"hidden":true,"merged":[[1,0,3,4],[1,17,2,21],[2,5,2,9],[2,10,2,15],[3,10,3,12],[3,17,3,18],[3,19,3,20]]}
[null,null,1,2,3,4,5,6,7,8,9,10,11,12,13,14,15,16,17,18,19,20,21,22,23,24,25]
["Keuzevelden",{"$nulls":16},"AANTAL "]
[{"$nulls":5},"t.p.v. kruising tengel/gording",{"$nulls":4},"afschuifkrachten"]
[{"$nulls":7},"dakvlak 1","dakvlak 2",{"$nulls":4},"dakvlak 1","dakvlak 2",null,null,"Schroef 1",null,"Schroef 2",null,"Volgplaatjes",null,"Lucht. Profielen"]
["type","RC-waarde","samen","beplating","gewicht","type","eenheid/ds","aantal elem","aantal elem","schroef tot",null,"eenheid/ds","dikte schr","aantal/pl","aantal/pl","schroef tot.",null,"type","aantal eenheden","type","aantal eenheden","aantal eenheden",null,"m1",null,"aantal"]
["SlimFix 3/3",2.5,{"$f":"A6&\" \"&B6","v":"SlimFix 3/3 2,5"},3,6.5,"Schroef 160xØ6",100,{"$f":"CEILING(SlimFix!$D$32*SlimFix!$J$44/1020,1)","v":0},{"$f":"CEILING(SlimFix!$D$50*SlimFix!$J$57/1020,1)","v":0},{"$f":"((H6*SlimFix!$D$35)+(I6*SlimFix!$D$52))*3","v":0},"Schroef 160xØ6",100,6,{"$f":"IF(calcu!$I$32<=0,0,calcu!$I$32)","v":{"$error":"#N/A"}},{"$f":"IF(OR(I6=0,calcu!$U$32<=0),0,calcu!$U$32)","v":{"$error":"#N/A"}},{"$f":"(H6*N6)+(I6*O6)","v":{"$error":"#N/A"}},null,{"$f":"F6","v":"Schroef 160xØ6"},{"$f":"CEILING((J6+P6)/G6,1)","v":{"$error":"#N/A"}},null,null,{"$f":"CEILING(P6/100,1)","v":{"$error":"#N/A"}},"Luchtdichte afdekprofielen",{"$f":"CEILING((H6*(SlimFix!$J$32/1000))+(I6*(SlimFix!$J$50/1000)),1)","v":0},"Door de tengel t.p.v. elke onderliggende gording/muurplaat:",3,"Tussen de tengels t.p.v. de plaatvaste oplegging/muurplaat:",null,{"$f":"VLOOKUP($AC$5,A6:B96,2)","v":{"$error":"#N/A"}},null,2.5,2.5,2.5,2.5,"1.5+4.0"]
["SlimFix 3/3",{"v":3,"d":"3.0"},"SlimFix 3/3 3",3,7,"Schroef 160xØ6",100,{"$f":"CEILING(SlimFix!$D$32*SlimFix!$J$44/1020,1)","v":0},{"$f":"CEILING(SlimFix!$D$50*SlimFix!$J$57/1020,1)","v":0},{"$f":"((H7*SlimFix!$D$35)+(I7*SlimFix!$D$52))*3","v":0},"Schroef 160xØ6",100,6,{"$f":"IF(calcu!$I$32<=0,0,calcu!$I$32)","v":{"$error":"#N/A"}},{"$f":"IF(OR(I7=0,calcu!$U$32<=0),0,calcu!$U$32)","v":{"$error":"#N/A"}},{"$f":"(H7*N7)+(I7*O7)","v":{"$error":"#N/A"}},null,{"$f":"F7","v":"Schroef 160xØ6"},{"$f":"CEILING((J7+P7)/G7,1)","v":{"$error":"#N/A"}},null,null,{"$f":"CEILING(P7/100,1)","v":{"$error":"#N/A"}},"Luchtdichte afdekprofielen",{"$f":"CEILING((H7*(SlimFix!$J$32/1000))+(I7*(SlimFix!$J$50/1000)),1)","v":0},"Door de tengel t.p.v. elke onderliggende gording/muurplaat:",3,"Tussen de tengels t.p.v. de plaatvaste oplegging/muurplaat:",{"$nulls":3},{"v":3,"d":"3.0"},{"v":3,"d":"3.0"},{"v":3,"d":"3.0"},{"v":3,"d":"3.0"},"2.5+4.0"]
["SlimFix 3/3",3.5,"SlimFix 3/3 3,5",3,7,"Schroef 180xØ6",100,{"$f":"CEILING(SlimFix!$D$32*SlimFix!$J$44/1020,1)","v":0},{"$f":"CEILING(SlimFix!$D$50*SlimFix!$J$57/1020,1)","v":0},{"$f":"((H8*SlimFix!$D$35)+(I8*SlimFix!$D$52))*3","v":0},"Schroef 180xØ6",100,6,{"$f":"IF(calcu!$I$32<=0,0,calcu!$I$32)","v":{"$error":"#N/A"}},{"$f":"IF(OR(I8=0,calcu!$U$32<=0),0,calcu!$U$32)","v":{"$error":"#N/A"}},{"$error":"#N/A"},null,"Schroef 180xØ6",{"$f":"CEILING((J8+P8)/G8,1)","v":{"$error":"#N/A"}},null,null,{"$error":"#N/A"},"Luchtdichte afdekprofielen",{"$f":"CEILING((H8*(SlimFix!$J$32/1000))+(I8*(SlimFix!$J$50/1000)),1)","v":0},"Door de tengel t.p.v. elke onderliggende gording/muurplaat:",3,"Tussen de tengels t.p.v. de plaatvaste oplegging/muurplaat:",{"$nulls":3},3.5,3.5,3.5,3.5,"3.0+4.0"]
["SlimFix 3/3",{"v":4,"d":"4.0"},"SlimFix 3/3 4",3,7.5,"Schroef 200xØ6",100,{"$f":"CEILING(SlimFix!$D$32*SlimFix!$J$44/1020,1)","v":0},{"$f":"CEILING(SlimFix!$D$50*SlimFix!$J$57/1020,1)","v":0},{"$f":"((H9*SlimFix!$D$35)+(I9*SlimFix!$D$52))*3","v":0},"Schroef 200xØ8",50,8,{"$f":"IF(calcu!$I$33<=0,0,calcu!$I$33)","v":{"$error":"#N/A"}},{"$f":"IF(OR(I9=0,calcu!$U$33<=0),0,calcu!$U$33)","v":{"$error":"#N/A"}},{"$error":"#N/A"},null,"Schroef 200xØ6",{"$f":"CEILING(J9/G9,1)","v":0},{"$f":"K9","v":"Schroef 200xØ8"},{"$f":"CEILING(P9/L9,1)","v":{"$error":"#N/A"}},{"$error":"#N/A"},"Luchtdichte afdekprofielen",{"$f":"CEILING((H9*(SlimFix!$J$32/1000))+(I9*(SlimFix!$J$50/1000)),1)","v":0},"Door de tengel t.p.v. elke onderliggende gording/muurplaat:",3,"Tussen de tengels t.p.v. de plaatvaste oplegging/muurplaat:",{"$nulls":3},{"v":4,"d":"4.0"},{"v":4,"d":"4.0"},{"v":4,"d":"4.0"},{"v":4,"d":"4.0"},"3.5+4.0"]
["SlimFix 3/3",4.5,"SlimFix 3/3 4,5",3,8,"Schroef 220xØ6",100,{"$f":"CEILING(SlimFix!$D$32*SlimFix!$J$44/1020,1)","v":0},{"$f":"CEILING(SlimFix!$D$50*SlimFix!$J$57/1020,1)","v":0},{"$f":"((H10*SlimFix!$D$35)+(I10*SlimFix!$D$52))*3","v":0},"Schroef 200xØ8",50,8,{"$f":"IF(calcu!$I$33<=0,0,calcu!$I$33)","v":{"$error":"#N/A"}},{"$f":"IF(OR(I10=0,calcu!$U$33<=0),0,calcu!$U$33)","v":{"$error":"#N/A"}},{"$error":"#N/A"},null,"Schroef 220xØ6",{"$f":"CEILING(J10/G10,1)","v":0},{"$f":"K10","v":"Schroef 200xØ8"},{"$f":"CEILING(P10/L10,1)","v":{"$error":"#N/A"}},{"$error":"#N/A"},"Luchtdichte afdekprofielen",{"$f":"CEILING((H10*(SlimFix!$J$32/1000))+(I10*(SlimFix!$J$50/1000)),1)","v":0},"Door de tengel t.p.v. elke onderliggende gording/muurplaat:",3,"Tussen de tengels t.p.v. de plaatvaste oplegging/muurplaat:",{"$nulls":3},4.5,4.5,4.5,4.5,"4.0+4.0"]
["SlimFix 3/3",{"v":5,"d":"5.0"},"SlimFix 3/3 5",3,9,"Schroef 240xØ6",100,{"$f":"CEILING(SlimFix!$D$32*SlimFix!$J$44/1020,1)","v":0},{"$f":"CEILING(SlimFix!$D$50*SlimFix!$J$57/1020,1)","v":0},{"$f":"((H11*SlimFix!$D$35)+(I11*SlimFix!$D$52))*3","v":0},"Schroef 240xØ8",50,8,{"$f":"IF(calcu!$I$33<=0,0,calcu!$I$33)","v":{"$error":"#N/A"}},{"$f":"IF(OR(I11=0,calcu!$U$33<=0),0,calcu!$U$33)","v":{"$error":"#N/A"}},{"$error":"#N/A"},null,"Schroef 240xØ6",0,"Schroef 240xØ8",{"$error":"#N/A"},{"$error":"#N/A"},"Luchtdichte afdekprofielen",{"$f":"CEILING((H11*(SlimFix!$J$32/1000))+(I11*(SlimFix!$J$50/1000)),1)","v":0},"Door de tengel t.p.v. elke onderliggende gording/muurplaat:",3,"Tussen de tengels t.p.v. de plaatvaste oplegging/muurplaat:",{"$nulls":3},{"v":5,"d":"5.0"},{"v":5,"d":"5.0"},{"v":5,"d":"5.0"},{"v":5,"d":"5.0"},"4.5+4.0"]
["SlimFix 3/3",5.5,"SlimFix 3/3 5,5",3,9,"Schroef 260xØ6",100,{"$f":"CEILING(SlimFix!$D$32*SlimFix!$J$44/1020,1)","v":0},{"$f":"CEILING(SlimFix!$D$50*SlimFix!$J$57/1020,1)","v":0},{"$f":"((H12*SlimFix!$D$35)+(I12*SlimFix!$D$52))*3","v":0},"Schroef 240xØ8",50,8,{"$f":"IF(calcu!$I$33<=0,0,calcu!$I$33)","v":{"$error":"#N/A"}},{"$f":"IF(OR(I12=0,calcu!$U$33<=0),0,calcu!$U$33)","v":{"$error":"#N/A"}},{"$error":"#N/A"},null,"Schroef 260xØ6",0,"Schroef 240xØ8",{"$error":"#N/A"},{"$error":"#N/A"},"Luchtdichte afdekprofielen",{"$f":"CEILING((H12*(SlimFix!$J$32/1000))+(I12*(SlimFix!$J$50/1000)),1)","v":0},"Door de tengel t.p.v. elke onderliggende gording/muurplaat:",3,"Tussen de tengels t.p.v. de plaatvaste oplegging/muurplaat:",{"$nulls":3},5.5,5.5,5.5,5.5,"5.5+4.0"]
["SlimFix 3/3",6.3,"SlimFix 3/3 6,3",3,9.5,"Schroef 280xØ6",100,{"$f":"CEILING(SlimFix!$D$32*SlimFix!$J$44/1020,1)","v":0},{"$f":"CEILING(SlimFix!$D$50*SlimFix!$J$57/1020,1)","v":0},{"$f":"((H13*SlimFix!$D$35)+(I13*SlimFix!$D$52))*3","v":0},"Schroef 260xØ8",50,8,{"$f":"IF(calcu!$I$33<=0,0,calcu!$I$33)","v":{"$error":"#N/A"}},{"$f":"IF(OR(I13=0,calcu!$U$33<=0),0,calcu!$U$33)","v":{"$error":"#N/A"}},{"$error":"#N/A"},null,"Schroef 280xØ6",0,"Schroef 260xØ8",{"$error":"#N/A"},{"$error":"#N/A"},"Luchtdichte afdekprofielen",{"$f":"CEILING((H13*(SlimFix!$J$32/1000))+(I13*(SlimFix!$J$50/1000)),1)","v":0},"Door de tengel t.p.v. elke onderliggende gording/muurplaat:",3,"Tussen de tengels t.p.v. de plaatvaste oplegging/muurplaat:",{"$nulls":3},6.3,6.3,6.3,6.3]
["SlimFix 3/3",{"v":7,"d":"7.0"},"SlimFix 3/3 7",3,10,"Schroef 300xØ6",100,{"$f":"CEILING(SlimFix!$D$32*SlimFix!$J$44/1020,1)","v":0},{"$f":"CEILING(SlimFix!$D$50*SlimFix!$J$57/1020,1)","v":0},{"$f":"((H14*SlimFix!$D$35)+(I14*SlimFix!$D$52))*3","v":0},"Schroef 280xØ8",50,8,{"$f":"IF(calcu!$I$33<=0,0,calcu!$I$33)","v":{"$error":"#N/A"}},{"$f":"IF(OR(I14=0,calcu!$U$33<=0),0,calcu!$U$33)","v":{"$error":"#N/A"}},{"$error":"#N/A"},null,"Schroef 300xØ6",0,"Schroef 280xØ8",{"$error":"#N/A"},{"$error":"#N/A"},"Luchtdichte afdekprofielen",{"$f":"CEILING((H14*(SlimFix!$J$32/1000))+(I14*(SlimFix!$J$50/1000)),1)","v":0},"Door de tengel t.p.v. elke onderliggende gording/muurplaat:",3,"Tussen de tengels t.p.v. de plaatvaste oplegging/muurplaat:",null,null,{"$f":"IF(OR($C$10=\"SlimFix 3/3L\",$C$10=\"SlimFix 3/3\",$C$10=\"SlimFix 8/8\",$C$10=\"SlimFix 8/8L\"),' lijst slimfix'!$B$15:$B$23,IF(OR($C$10=\"SlimFix-XT 3/3R\",$C$10=\"SlimFix-XT 8/8R\"),' lijst slimfix'!$B$62:$B$68,2))","v":2},{"v":7,"d":"7.0"},{"v":7,"d":"7.0"},{"v":7,"d":"7.0"},{"v":7,"d":"7.0"}]
["SlimFix 3/3L",2.5,"SlimFix 3/3L 2,5",3,8.5,"Schroef 160xØ6",100,{"$f":"CEILING(SlimFix!$D$32*SlimFix!$J$44/1020,1)","v":0},{"$f":"CEILING(SlimFix!$D$50*SlimFix!$J$57/1020,1)","v":0},{"$f":"((H15*SlimFix!$D$35)+(I15*SlimFix!$D$52))*3","v":0},"Schroef 160xØ6",50,6,{"$f":"IF(calcu!$I$32<=0,0,calcu!$I$32)","v":{"$error":"#N/A"}},{"$f":"IF(OR(I15=0,calcu!$U$32<=0),0,calcu!$U$32)","v":{"$error":"#N/A"}},{"$error":"#N/A"},null,"Schroef 160xØ6",{"$f":"CEILING((J15+P15)/G15,1)","v":{"$error":"#N/A"}},null,null,{"$error":"#N/A"},"Luchtdichte afdekprofielen",{"$f":"CEILING((H15*(SlimFix!$J$32/1000))+(I15*(SlimFix!$J$50/1000)),1)","v":0},"Door de tengel t.p.v. elke onderliggende gording/muurplaat:",3,"Tussen de tengels t.p.v. de plaatvaste oplegging/muurplaat:"]
["SlimFix 3/3L",{"v":3,"d":"3.0"},"SlimFix 3/3L 3",3,9,"Schroef 180xØ6",100,{"$f":"CEILING(SlimFix!$D$32*SlimFix!$J$44/1020,1)","v":0},{"$f":"CEILING(SlimFix!$D$50*SlimFix!$J$57/1020,1)","v":0},{"$f":"((H16*SlimFix!$D$35)+(I16*SlimFix!$D$52))*3","v":0},"Schroef 180xØ6",50,6,{"$f":"IF(calcu!$I$32<=0,0,calcu!$I$32)","v":{"$error":"#N/A"}},{"$f":"IF(OR(I16=0,calcu!$U$32<=0),0,calcu!$U$32)","v":{"$error":"#N/A"}},{"$error":"#N/A"},null,"Schroef 180xØ6",{"$f":"CEILING((J16+P16)/G16,1)","v":{"$error":"#N/A"}},null,null,{"$error":"#N/A"},"Luchtdichte afdekprofielen",{"$f":"CEILING((H16*(SlimFix!$J$32/1000))+(I16*(SlimFix!$J$50/1000)),1)","v":0},"Door de tengel t.p.v. elke onderliggende gording/muurplaat:",3,"Tussen de tengels t.p.v. de plaatvaste oplegging/muurplaat:",null,null,{"$f":"IF(OR($C$10=\"SlimFix 3/3L\",$C$10=\"SlimFix 3/3\",$C$10=\"SlimFix 8/8\",$C$10=\"SlimFix 8/8L\"),' lijst slimfix'!$B$15:$B$23,IF(OR($C$10=\"SlimFix-XT 3/3R\",$C$10=\"SlimFix-XT 8/8R\"),' lijst slimfix'!$B$62:$B$68,IF($C$10=\"SlimFix-XT Passief\",' lijst slimfix'!$B$87:$B$88,2)))","v":2}]
["SlimFix 3/3L",3.5,"SlimFix 3/3L 3,5",3,9.5,"Schroef 200xØ6",100,{"$f":"CEILING(SlimFix!$D$32*SlimFix!$J$44/1020,1)","v":0},{"$f":"CEILING(SlimFix!$D$50*SlimFix!$J$57/1020,1)","v":0},{"$f":"((H17*SlimFix!$D$35)+(I17*SlimFix!$D$52))*3","v":0},"Schroef 180xØ8",50,8,{"$f":"IF(calcu!$I$33<=0,0,calcu!$I$33)","v":{"$error":"#N/A"}},{"$f":"IF(OR(I17=0,calcu!$U$33<=0),0,calcu!$U$33)","v":{"$error":"#N/A"}},{"$error":"#N/A"},null,"Schroef 200xØ6",{"$f":"CEILING(J17/G17,1)","v":0},{"$f":"K17","v":"Schroef 180xØ8"},{"$f":"CEILING(P17/L17,1)","v":{"$error":"#N/A"}},{"$error":"#N/A"},"Luchtdichte afdekprofielen",{"$f":"CEILING((H17*(SlimFix!$J$32/1000))+(I17*(SlimFix!$J$50/1000)),1)","v":0},"Door de tengel t.p.v. elke onderliggende gording/muurplaat:",3,"Tussen de tengels t.p.v. de plaatvaste oplegging/muurplaat:"]
["SlimFix 3/3L",{"v":4,"d":"4.0"},"SlimFix 3/3L 4",3,10,"Schroef 220xØ6",100,{"$f":"CEILING(SlimFix!$D$32*SlimFix!$J$44/1020,1)","v":0},{"$f":"CEILING(SlimFix!$D$50*SlimFix!$J$57/1020,1)","v":0},{"$f":"((H18*SlimFix!$D$35)+(I18*SlimFix!$D$52))*3","v":0},"Schroef 200xØ8",50,8,{"$f":"IF(calcu!$I$33<=0,0,calcu!$I$33)","v":{"$error":"#N/A"}},{"$f":"IF(OR(I18=0,calcu!$U$33<=0),0,calcu!$U$33)","v":{"$error":"#N/A"}},{"$error":"#N/A"},null,"Schroef 220xØ6",0,"Schroef 200xØ8",{"$error":"#N/A"},{"$error":"#N/A"},"Luchtdichte afdekprofielen",{"$f":"CEILING((H18*(SlimFix!$J$32/1000))+(I18*(SlimFix!$J$50/1000)),1)","v":0},"Door de tengel t.p.v. elke onderliggende gording/muurplaat:",3,"Tussen de tengels t.p.v. de plaatvaste oplegging/muurplaat:"]
["SlimFix 3/3L",4.5,"SlimFix 3/3L 4,5",3,11,"Schroef 240xØ6",100,{"$f":"CEILING(SlimFix!$D$32*SlimFix!$J$44/1020,1)","v":0},{"$f":"CEILING(SlimFix!$D$50*SlimFix!$J$57/1020,1)","v":0},{"$f":"((H19*SlimFix!$D$35)+(I19*SlimFix!$D$52))*3","v":0},"Schroef 240xØ8",50,8,{"$f":"IF(calcu!$I$33<=0,0,calcu!$I$33)","v":{"$error":"#N/A"}},{"$f":"IF(OR(I19=0,calcu!$U$33<=0),0,calcu!$U$33)","v":{"$error":"#N/A"}},{"$error":"#N/A"},null,"Schroef 240xØ6",0,"Schroef 240xØ8",{"$error":"#N/A"},{"$error":"#N/A"},"Luchtdichte afdekprofielen",{"$f":"CEILING((H19*(SlimFix!$J$32/1000))+(I19*(SlimFix!$J$50/1000)),1)","v":0},"Door de tengel t.p.v. elke onderliggende gording/muurplaat:",3,"Tussen de tengels t.p.v. de plaatvaste oplegging/muurplaat:"]
["SlimFix 3/3L",{"v":5,"d":"5.0"},"SlimFix 3/3L 5",3,11.5,"Schroef 260xØ6",100,{"$f":"CEILING(SlimFix!$D$32*SlimFix!$J$44/1020,1)","v":0},{"$f":"CEILING(SlimFix!$D$50*SlimFix!$J$57/1020,1)","v":0},{"$f":"((H20*SlimFix!$D$35)+(I20*SlimFix!$D$52))*3","v":0},"Schroef 260xØ8",50,8,{"$f":"IF(calcu!$I$33<=0,0,calcu!$I$33)","v":{"$error":"#N/A"}},{"$f":"IF(OR(I20=0,calcu!$U$33<=0),0,calcu!$U$33)","v":{"$error":"#N/A"}},{"$error":"#N/A"},null,"Schroef 260xØ6",0,"Schroef 260xØ8",{"$error":"#N/A"},{"$error":"#N/A"},"Luchtdichte afdekprofielen",{"$f":"CEILING((H20*(SlimFix!$J$32/1000))+(I20*(SlimFix!$J$50/1000)),1)","v":0},"Door de tengel t.p.v. elke onderliggende gording/muurplaat:",3,"Tussen de tengels t.p.v. de plaatvaste oplegging/muurplaat:"]
["SlimFix 3/3L",5.5,"SlimFix 3/3L 5,5",3,12,"Schroef 260xØ6",100,{"$f":"CEILING(SlimFix!$D$32*SlimFix!$J$44/1020,1)","v":0},{"$f":"CEILING(SlimFix!$D$50*SlimFix!$J$57/1020,1)","v":0},{"$f":"((H21*SlimFix!$D$35)+(I21*SlimFix!$D$52))*3","v":0},"Schroef 260xØ8",50,8,{"$f":"IF(calcu!$I$33<=0,0,calcu!$I$33)","v":{"$error":"#N/A"}},{"$f":"IF(OR(I21=0,calcu!$U$33<=0),0,calcu!$U$33)","v":{"$error":"#N/A"}},{"$error":"#N/A"},null,"Schroef 260xØ6",0,"Schroef 260xØ8",{"$error":"#N/A"},{"$error":"#N/A"},"Luchtdichte afdekprofielen",{"$f":"CEILING((H21*(SlimFix!$J$32/1000))+(I21*(SlimFix!$J$50/1000)),1)","v":0},"Door de tengel t.p.v. elke onderliggende gording/muurplaat:",3,"Tussen de tengels t.p.v. de plaatvaste oplegging/muurplaat:"]
["SlimFix 3/3L",6.3,"SlimFix 3/3L 6,3",3,13,"Schroef 300xØ6",100,{"$f":"CEILING(SlimFix!$D$32*SlimFix!$J$44/1020,1)","v":0},{"$f":"CEILING(SlimFix!$D$50*SlimFix!$J$57/1020,1)","v":0},{"$f":"((H22*SlimFix!$D$35)+(I22*SlimFix!$D$52))*3","v":0},"Schroef 280xØ8",50,8,{"$f":"IF(calcu!$I$33<=0,0,calcu!$I$33)","v":{"$error":"#N/A"}},{"$f":"IF(OR(I22=0,calcu!$U$33<=0),0,calcu!$U$33)","v":{"$error":"#N/A"}},{"$error":"#N/A"},null,"Schroef 300xØ6",0,"Schroef 280xØ8",{"$error":"#N/A"},{"$error":"#N/A"},"Luchtdichte afdekprofielen",{"$f":"CEILING((H22*(SlimFix!$J$32/1000))+(I22*(SlimFix!$J$50/1000)),1)","v":0},"Door de tengel t.p.v. elke onderliggende gording/muurplaat:",3,"Tussen de tengels t.p.v. de plaatvaste oplegging/muurplaat:"]
["SlimFix 3/3L",{"v":7,"d":"7.0"},"SlimFix 3/3L 7",3,14.5,"Schroef 300xØ8",50,{"$f":"CEILING(SlimFix!$D$32*SlimFix!$J$44/1020,1)","v":0},{"$f":"CEILING(SlimFix!$D$50*SlimFix!$J$57/1020,1)","v":0},{"$f":"((H23*SlimFix!$D$35)+(I23*SlimFix!$D$52))*2","v":0},"Schroef 300xØ8",50,8,{"$f":"IF(calcu!$I$33<=0,0,calcu!$I$33)","v":{"$error":"#N/A"}},{"$f":"IF(OR(I23=0,calcu!$U$33<=0),0,calcu!$U$33)","v":{"$error":"#N/A"}},{"$error":"#N/A"},{"$nulls":3},"Schroef 300xØ8",{"$f":"CEILING((P23+J23)/L23,1)","v":{"$error":"#N/A"}},{"$f":"CEILING((P23+J23)/100,1)","v":{"$error":"#N/A"}},"Luchtdichte afdekprofielen",{"$f":"CEILING((H23*(SlimFix!$J$32/1000))+(I23*(SlimFix!$J$50/1000)),1)","v":0},"Tussen de tengel t.p.v. elke onderliggende gording/muurplaat:",2,"Tussen de tengels t.p.v. de plaatvaste oplegging/muurplaat:"]
["SlimFix 8/8",2.5,"SlimFix 8/8 2,5",8,12.5,"Schroef 160xØ6",100,{"$f":"CEILING(SlimFix!$D$32*SlimFix!$J$44/1020,1)","v":0},{"$f":"CEILING(SlimFix!$D$50*SlimFix!$J$57/1020,1)","v":0},{"$f":"((H24*SlimFix!$D$35)+(I24*SlimFix!$D$52))*3","v":0},"Schroef 160xØ6",100,6,{"$f":"IF(calcu!$I$34<=0,0,calcu!$I$34)","v":{"$error":"#N/A"}},{"$f":"IF(OR(I24=0,calcu!$U$34<=0),0,calcu!$U$34)","v":{"$error":"#N/A"}},{"$error":"#N/A"},null,"Schroef 160xØ6",{"$f":"CEILING((J24+P24)/G24,1)","v":{"$error":"#N/A"}},null,null,{"$f":"CEILING(P24/100,1)","v":{"$error":"#N/A"}},"Luchtdichte afdekprofielen",{"$f":"CEILING((H24*(SlimFix!$J$32/1000))+(I24*(SlimFix!$J$50/1000)),1)","v":0},"Door de tengel t.p.v. elke onderliggende gording/muurplaat:",3,"Tussen de tengels t.p.v. de plaatvaste oplegging/muurplaat:"]
["SlimFix 8/8",{"v":3,"d":"3.0"},"SlimFix 8/8 3",8,13,"Schroef 180xØ6",100,{"$f":"CEILING(SlimFix!$D$32*SlimFix!$J$44/1020,1)","v":0},{"$f":"CEILING(SlimFix!$D$50*SlimFix!$J$57/1020,1)","v":0},{"$f":"((H25*SlimFix!$D$35)+(I25*SlimFix!$D$52))*3","v":0},"Schroef 180xØ6",100,6,{"$f":"IF(calcu!$I$34<=0,0,calcu!$I$34)","v":{"$error":"#N/A"}},{"$f":"IF(OR(I25=0,calcu!$U$34<=0),0,calcu!$U$34)","v":{"$error":"#N/A"}},{"$error":"#N/A"},null,"Schroef 180xØ6",{"$f":"CEILING((J25+P25)/G25,1)","v":{"$error":"#N/A"}},null,null,{"$error":"#N/A"},"Luchtdichte afdekprofielen",{"$f":"CEILING((H25*(SlimFix!$J$32/1000))+(I25*(SlimFix!$J$50/1000)),1)","v":0},"Door de tengel t.p.v. elke onderliggende gording/muurplaat:",3,"Tussen de tengels t.p.v. de plaatvaste oplegging/muurplaat:"]
["SlimFix 8/8",3.5,"SlimFix 8/8 3,5",8,13,"Schroef 200xØ6",100,{"$f":"CEILING(SlimFix!$D$32*SlimFix!$J$44/1020,1)","v":0},{"$f":"CEILING(SlimFix!$D$50*SlimFix!$J$57/1020,1)","v":0},{"$f":"((H26*SlimFix!$D$35)+(I26*SlimFix!$D$52))*3","v":0},"Schroef 180xØ8",50,8,{"$f":"IF(calcu!$I$35<=0,0,calcu!$I$35)","v":{"$error":"#N/A"}},{"$f":"IF(OR(I26=0,calcu!$U$35<=0),0,calcu!$U$35)","v":{"$error":"#N/A"}},{"$error":"#N/A"},null,"Schroef 200xØ6",{"$f":"CEILING(J26/G26,1)","v":0},{"$f":"K26","v":"Schroef 180xØ8"},{"$f":"CEILING(P26/L26,1)","v":{"$error":"#N/A"}},{"$error":"#N/A"},"Luchtdichte afdekprofielen",{"$f":"CEILING((H26*(SlimFix!$J$32/1000))+(I26*(SlimFix!$J$50/1000)),1)","v":0},"Door de tengel t.p.v. elke onderliggende gording/muurplaat:",3,"Tussen de tengels t.p.v. de plaatvaste oplegging/muurplaat:"]
["SlimFix 8/8",{"v":4,"d":"4.0"},"SlimFix 8/8 4",8,13,"Schroef 220xØ6",100,{"$f":"CEILING(SlimFix!$D$32*SlimFix!$J$44/1020,1)","v":0},{"$f":"CEILING(SlimFix!$D$50*SlimFix!$J$57/1020,1)","v":0},{"$f":"((H27*SlimFix!$D$35)+(I27*SlimFix!$D$52))*3","v":0},"Schroef 200xØ8",50,8,{"$f":"IF(calcu!$I$35<=0,0,calcu!$I$35)","v":{"$error":"#N/A"}},{"$f":"IF(OR(I27=0,calcu!$U$35<=0),0,calcu!$U$35)","v":{"$error":"#N/A"}},{"$error":"#N/A"},null,"Schroef 220xØ6",0,"Schroef 200xØ8",{"$error":"#N/A"},{"$error":"#N/A"},"Luchtdichte afdekprofielen",{"$f":"CEILING((H27*(SlimFix!$J$32/1000))+(I27*(SlimFix!$J$50/1000)),1)","v":0},"Door de tengel t.p.v. elke onderliggende gording/muurplaat:",3,"Tussen de tengels t.p.v. de plaatvaste oplegging/muurplaat:"]
["SlimFix 8/8",4.5,"SlimFix 8/8 4,5",8,14,"Schroef 220xØ6",100,{"$f":"CEILING(SlimFix!$D$32*SlimFix!$J$44/1020,1)","v":0},{"$f":"CEILING(SlimFix!$D$50*SlimFix!$J$57/1020,1)","v":0},{"$f":"((H28*SlimFix!$D$35)+(I28*SlimFix!$D$52))*3","v":0},"Schroef 220xØ8",50,8,{"$f":"IF(calcu!$I$35<=0,0,calcu!$I$35)","v":{"$error":"#N/A"}},{"$f":"IF(OR(I28=0,calcu!$U$35<=0),0,calcu!$U$35)","v":{"$error":"#N/A"}},{"$error":"#N/A"},null,"Schroef 220xØ6",0,"Schroef 220xØ8",{"$error":"#N/A"},{"$error":"#N/A"},"Luchtdichte afdekprofielen",{"$f":"CEILING((H28*(SlimFix!$J$32/1000))+(I28*(SlimFix!$J$50/1000)),1)","v":0},"Door de tengel t.p.v. elke onderliggende gording/muurplaat:",3,"Tussen de tengels t.p.v. de plaatvaste oplegging/muurplaat:"]
["SlimFix 8/8",{"v":5,"d":"5.0"},"SlimFix 8/8 5",8,14,"Schroef 240xØ6",100,{"$f":"CEILING(SlimFix!$D$32*SlimFix!$J$44/1020,1)","v":0},{"$f":"CEILING(SlimFix!$D$50*SlimFix!$J$57/1020,1)","v":0},{"$f":"((H29*SlimFix!$D$35)+(I29*SlimFix!$D$52))*3","v":0},"Schroef 240xØ8",50,8,{"$f":"IF(calcu!$I$35<=0,0,calcu!$I$35)","v":{"$error":"#N/A"}},{"$f":"IF(OR(I29=0,calcu!$U$35<=0),0,calcu!$U$35)","v":{"$error":"#N/A"}},{"$error":"#N/A"},null,"Schroef 240xØ6",0,"Schroef 240xØ8",{"$error":"#N/A"},{"$error":"#N/A"},"Luchtdichte afdekprofielen",{"$f":"CEILING((H29*(SlimFix!$J$32/1000))+(I29*(SlimFix!$J$50/1000)),1)","v":0},"Door de tengel t.p.v. elke onderliggende gording/muurplaat:",3,"Tussen de tengels t.p.v. de plaatvaste oplegging/muurplaat:"]
["SlimFix 8/8",5.5,"SlimFix 8/8 5,5",8,14,"Schroef 260xØ6",100,{"$f":"CEILING(SlimFix!$D$32*SlimFix!$J$44/1020,1)","v":0},{"$f":"CEILING(SlimFix!$D$50*SlimFix!$J$57/1020,1)","v":0},{"$f":"((H30*SlimFix!$D$35)+(I30*SlimFix!$D$52))*3","v":0},"Schroef 260xØ8",50,8,{"$f":"IF(calcu!$I$35<=0,0,calcu!$I$35)","v":{"$error":"#N/A"}},{"$f":"IF(OR(I30=0,calcu!$U$35<=0),0,calcu!$U$35)","v":{"$error":"#N/A"}},{"$error":"#N/A"},null,"Schroef 260xØ6",0,"Schroef 260xØ8",{"$error":"#N/A"},{"$error":"#N/A"},"Luchtdichte afdekprofielen",{"$f":"CEILING((H30*(SlimFix!$J$32/1000))+(I30*(SlimFix!$J$50/1000)),1)","v":0},"Door de tengel t.p.v. elke onderliggende gording/muurplaat:",3,"Tussen de tengels t.p.v. de plaatvaste oplegging/muurplaat:"]
["SlimFix 8/8",6.3,"SlimFix 8/8 6,3",8,14.5,"Schroef 280xØ6",100,{"$f":"CEILING(SlimFix!$D$32*SlimFix!$J$44/1020,1)","v":0},{"$f":"CEILING(SlimFix!$D$50*SlimFix!$J$57/1020,1)","v":0},{"$f":"((H31*SlimFix!$D$35)+(I31*SlimFix!$D$52))*3","v":0},"Schroef 260xØ8",50,8,{"$f":"IF(calcu!$I$35<=0,0,calcu!$I$35)","v":{"$error":"#N/A"}},{"$f":"IF(OR(I31=0,calcu!$U$35<=0),0,calcu!$U$35)","v":{"$error":"#N/A"}},{"$error":"#N/A"},null,"Schroef 280xØ6",0,"Schroef 260xØ8",{"$error":"#N/A"},{"$error":"#N/A"},"Luchtdichte afdekprofielen",{"$f":"CEILING((H31*(SlimFix!$J$32/1000))+(I31*(SlimFix!$J$50/1000)),1)","v":0},"Door de tengel t.p.v. elke onderliggende gording/muurplaat:",3,"Tussen de tengels t.p.v. de plaatvaste oplegging/muurplaat:"]
["SlimFix 8/8",{"v":7,"d":"7.0"},"SlimFix 8/8 7",8,15,"Schroef 300xØ6",100,{"$f":"CEILING(SlimFix!$D$32*SlimFix!$J$44/1020,1)","v":0},{"$f":"CEILING(SlimFix!$D$50*SlimFix!$J$57/1020,1)","v":0},{"$f":"((H32*SlimFix!$D$35)+(I32*SlimFix!$D$52))*3","v":0},"Schroef 280xØ8",50,8,{"$f":"IF(calcu!$I$35<=0,0,calcu!$I$35)","v":{"$error":"#N/A"}},{"$f":"IF(OR(I32=0,calcu!$U$35<=0),0,calcu!$U$35)","v":{"$error":"#N/A"}},{"$error":"#N/A"},null,"Schroef 300xØ6",0,"Schroef 280xØ8",{"$error":"#N/A"},{"$error":"#N/A"},"Luchtdichte afdekprofielen",{"$f":"CEILING((H32*(SlimFix!$J$32/1000))+(I32*(SlimFix!$J$50/1000)),1)","v":0},"Door de tengel t.p.v. elke onderliggende gording/muurplaat:",3,"Tussen de tengels t.p.v. de plaatvaste oplegging/muurplaat:"]
["SlimFix 8/8L",2.5,"SlimFix 8/8L 2,5",8,14,"Schroef 160xØ6",100,{"$f":"CEILING(SlimFix!$D$32*SlimFix!$J$44/1020,1)","v":0},{"$f":"CEILING(SlimFix!$D$50*SlimFix!$J$57/1020,1)","v":0},{"$f":"((H33*SlimFix!$D$35)+(I33*SlimFix!$D$52))*3","v":0},"Schroef 160xØ6",100,6,{"$f":"IF(calcu!$I$34<=0,0,calcu!$I$34)","v":{"$error":"#N/A"}},{"$f":"IF(OR(I33=0,calcu!$U$34<=0),0,calcu!$U$34)","v":{"$error":"#N/A"}},{"$error":"#N/A"},null,"Schroef 160xØ6",{"$f":"CEILING((J33+P33)/G33,1)","v":{"$error":"#N/A"}},null,null,{"$error":"#N/A"},"Luchtdichte afdekprofielen",{"$f":"CEILING((H33*(SlimFix!$J$32/1000))+(I33*(SlimFix!$J$50/1000)),1)","v":0},"Door de tengel t.p.v. elke onderliggende gording/muurplaat:",3,"Tussen de tengels t.p.v. de plaatvaste oplegging/muurplaat:"]
["SlimFix 8/8L",{"v":3,"d":"3.0"},"SlimFix 8/8L 3",8,15,"Schroef 180xØ6",100,{"$f":"CEILING(SlimFix!$D$32*SlimFix!$J$44/1020,1)","v":0},{"$f":"CEILING(SlimFix!$D$50*SlimFix!$J$57/1020,1)","v":0},{"$f":"((H34*SlimFix!$D$35)+(I34*SlimFix!$D$52))*3","v":0},"Schroef 180xØ6",100,6,{"$f":"IF(calcu!$I$34<=0,0,calcu!$I$34)","v":{"$error":"#N/A"}},{"$f":"IF(OR(I34=0,calcu!$U$34<=0),0,calcu!$U$34)","v":{"$error":"#N/A"}},{"$error":"#N/A"},null,"Schroef 180xØ6",{"$f":"CEILING((J34+P34)/G34,1)","v":{"$error":"#N/A"}},null,null,{"$error":"#N/A"},"Luchtdichte afdekprofielen",{"$f":"CEILING((H34*(SlimFix!$J$32/1000))+(I34*(SlimFix!$J$50/1000)),1)","v":0},"Door de tengel t.p.v. elke onderliggende gording/muurplaat:",3,"Tussen de tengels t.p.v. de plaatvaste oplegging/muurplaat:"]
["SlimFix 8/8L",3.5,{"$f":"A35&\" \"&B35","v":"SlimFix 8/8L 3,5"},8,15.5,"Schroef 220xØ6",100,{"$f":"CEILING(SlimFix!$D$32*SlimFix!$J$44/1020,1)","v":0},{"$f":"CEILING(SlimFix!$D$50*SlimFix!$J$57/1020,1)","v":0},{"$f":"((H35*SlimFix!$D$35)+(I35*SlimFix!$D$52))*3","v":0},"Schroef 200xØ8",50,8,{"$f":"IF(calcu!$I$35<=0,0,calcu!$I$35)","v":{"$error":"#N/A"}},{"$f":"IF(OR(I35=0,calcu!$U$35<=0),0,calcu!$U$35)","v":{"$error":"#N/A"}},{"$error":"#N/A"},null,"Schroef 220xØ6",{"$f":"CEILING(J35/G35,1)","v":0},{"$f":"K35","v":"Schroef 200xØ8"},{"$f":"CEILING(P35/L35,1)","v":{"$error":"#N/A"}},{"$error":"#N/A"},"Luchtdichte afdekprofielen",{"$f":"CEILING((H35*(SlimFix!$J$32/1000))+(I35*(SlimFix!$J$50/1000)),1)","v":0},"Door de tengel t.p.v. elke onderliggende gording/muurplaat:",3,"Tussen de tengels t.p.v. de plaatvaste oplegging/muurplaat:"]
["SlimFix 8/8L",{"v":4,"d":"4.0"},"SlimFix 8/8L 4",8,16,"Schroef 220xØ6",100,{"$f":"CEILING(SlimFix!$D$32*SlimFix!$J$44/1020,1)","v":0},{"$f":"CEILING(SlimFix!$D$50*SlimFix!$J$57/1020,1)","v":0},{"$f":"((H36*SlimFix!$D$35)+(I36*SlimFix!$D$52))*3","v":0},"Schroef 220xØ8",50,8,{"$f":"IF(calcu!$I$35<=0,0,calcu!$I$35)","v":{"$error":"#N/A"}},{"$f":"IF(OR(I36=0,calcu!$U$35<=0),0,calcu!$U$35)","v":{"$error":"#N/A"}},{"$error":"#N/A"},null,"Schroef 220xØ6",0,"Schroef 220xØ8",{"$error":"#N/A"},{"$error":"#N/A"},"Luchtdichte afdekprofielen",{"$f":"CEILING((H36*(SlimFix!$J$32/1000))+(I36*(SlimFix!$J$50/1000)),1)","v":0},"Door de tengel t.p.v. elke onderliggende gording/muurplaat:",3,"Tussen de tengels t.p.v. de plaatvaste oplegging/muurplaat:"]
["SlimFix 8/8L",4.5,"SlimFix 8/8L 4,5",8,17,"Schroef 240xØ6",100,{"$f":"CEILING(SlimFix!$D$32*SlimFix!$J$44/1020,1)","v":0},{"$f":"CEILING(SlimFix!$D$50*SlimFix!$J$57/1020,1)","v":0},{"$f":"((H37*SlimFix!$D$35)+(I37*SlimFix!$D$52))*3","v":0},"Schroef 240xØ8",50,8,{"$f":"IF(calcu!$I$35<=0,0,calcu!$I$35)","v":{"$error":"#N/A"}},{"$f":"IF(OR(I37=0,calcu!$U$35<=0),0,calcu!$U$35)","v":{"$error":"#N/A"}},{"$error":"#N/A"},null,"Schroef 240xØ6",0,"Schroef 240xØ8",{"$error":"#N/A"},{"$error":"#N/A"},"Luchtdichte afdekprofielen",{"$f":"CEILING((H37*(SlimFix!$J$32/1000))+(I37*(SlimFix!$J$50/1000)),1)","v":0},"Door de tengel t.p.v. elke onderliggende gording/muurplaat:",3,"Tussen de tengels t.p.v. de plaatvaste oplegging/muurplaat:"]
["SlimFix 8/8L",{"v":5,"d":"5.0"},"SlimFix 8/8L 5",8,17.5,"Schroef 260xØ6",100,{"$f":"CEILING(SlimFix!$D$32*SlimFix!$J$44/1020,1)","v":0},{"$f":"CEILING(SlimFix!$D$50*SlimFix!$J$57/1020,1)","v":0},{"$f":"((H38*SlimFix!$D$35)+(I38*SlimFix!$D$52))*3","v":0},"Schroef 260xØ8",50,8,{"$f":"IF(calcu!$I$35<=0,0,calcu!$I$35)","v":{"$error":"#N/A"}},{"$f":"IF(OR(I38=0,calcu!$U$35<=0),0,calcu!$U$35)","v":{"$error":"#N/A"}},{"$error":"#N/A"},null,"Schroef 260xØ6",0,"Schroef 260xØ8",{"$error":"#N/A"},{"$error":"#N/A"},"Luchtdichte afdekprofielen",{"$f":"CEILING((H38*(SlimFix!$J$32/1000))+(I38*(SlimFix!$J$50/1000)),1)","v":0},"Door de tengel t.p.v. elke onderliggende gording/muurplaat:",3,"Tussen de tengels t.p.v. de plaatvaste oplegging/muurplaat:"]
["SlimFix 8/8L",5.5,"SlimFix 8/8L 5,5",8,18,"Schroef 280xØ6",100,{"$f":"CEILING(SlimFix!$D$32*SlimFix!$J$44/1020,1)","v":0},{"$f":"CEILING(SlimFix!$D$50*SlimFix!$J$57/1020,1)","v":0},{"$f":"((H39*SlimFix!$D$35)+(I39*SlimFix!$D$52))*3","v":0},"Schroef 260xØ8",50,8,{"$f":"IF(calcu!$I$35<=0,0,calcu!$I$35)","v":{"$error":"#N/A"}},{"$f":"IF(OR(I39=0,calcu!$U$35<=0),0,calcu!$U$35)","v":{"$error":"#N/A"}},{"$error":"#N/A"},null,"Schroef 280xØ6",0,"Schroef 260xØ8",{"$error":"#N/A"},{"$error":"#N/A"},"Luchtdichte afdekprofielen",{"$f":"CEILING((H39*(SlimFix!$J$32/1000))+(I39*(SlimFix!$J$50/1000)),1)","v":0},"Door de tengel t.p.v. elke onderliggende gording/muurplaat:",3,"Tussen de tengels t.p.v. de plaatvaste oplegging/muurplaat:"]
["SlimFix 8/8L",6.3,"SlimFix 8/8L 6,3",8,19,"Schroef 300xØ6",100,{"$f":"CEILING(SlimFix!$D$32*SlimFix!$J$44/1020,1)","v":0},{"$f":"CEILING(SlimFix!$D$50*SlimFix!$J$57/1020,1)","v":0},{"$f":"((H40*SlimFix!$D$35)+(I40*SlimFix!$D$52))*3","v":0},"Schroef 280xØ8",50,8,{"$f":"IF(calcu!$I$35<=0,0,calcu!$I$35)","v":{"$error":"#N/A"}},{"$f":"IF(OR(I40=0,calcu!$U$35<=0),0,calcu!$U$35)","v":{"$error":"#N/A"}},{"$error":"#N/A"},null,"Schroef 300xØ6",0,"Schroef 280xØ8",{"$error":"#N/A"},{"$error":"#N/A"},"Luchtdichte afdekprofielen",{"$f":"CEILING((H40*(SlimFix!$J$32/1000))+(I40*(SlimFix!$J$50/1000)),1)","v":0},"Door de tengel t.p.v. elke onderliggende gording/muurplaat:",3,"Tussen de tengels t.p.v. de plaatvaste oplegging/muurplaat:"]
["SlimFix 8/8L",{"v":7,"d":"7.0"},"SlimFix 8/8L 7",8,20,"Schroef 320xØ8",50,{"$f":"CEILING(SlimFix!$D$32*SlimFix!$J$44/1020,1)","v":0},{"$f":"CEILING(SlimFix!$D$50*SlimFix!$J$57/1020,1)","v":0},{"$f":"((H41*SlimFix!$D$35)+(I41*SlimFix!$D$52))*2","v":0},"Schroef 320xØ8",50,8,{"$f":"IF(calcu!$I$35<=0,0,calcu!$I$35)","v":{"$error":"#N/A"}},{"$f":"IF(OR(I41=0,calcu!$U$35<=0),0,calcu!$U$35)","v":{"$error":"#N/A"}},{"$error":"#N/A"},{"$nulls":3},"Schroef 320xØ8",{"$f":"CEILING((P41+J41)/L41,1)","v":{"$error":"#N/A"}},{"$f":"CEILING((P41+J41)/100,1)","v":{"$error":"#N/A"}},"Luchtdichte afdekprofielen",{"$f":"CEILING((H41*(SlimFix!$J$32/1000))+(I41*(SlimFix!$J$50/1000)),1)","v":0},"Tussen de tengel t.p.v. elke onderliggende gording/muurplaat:",2,"Tussen de tengels t.p.v. de plaatvaste oplegging/muurplaat:"]
["SlimFix Spoor",2.5,"SlimFix Spoor 2,5",null,null,"schroef 160xØ6",100,{"$nulls":3}," ",{"$nulls":6},"schroef 160xØ6",null," "]
["SlimFix Spoor",{"v":3,"d":"3.0"},"SlimFix Spoor 3",null,null,"schroef 160xØ6",100,{"$nulls":3}," ",{"$nulls":6},"schroef 160xØ6",null," "]
["SlimFix Spoor",3.5,"SlimFix Spoor 3,5",null,null,"schroef 180xØ6",100,{"$nulls":3}," ",{"$nulls":6},"schroef 180xØ6",null," "]
["SlimFix Spoor",{"v":4,"d":"4.0"},"SlimFix Spoor 4",null,null,"schroef 200xØ6",100,{"$nulls":3}," ",{"$nulls":6},"schroef 200xØ6",null," "]
["SlimFix Spoor",4.5,"SlimFix Spoor 4,5",null,null,"schroef 220xØ6",100,{"$nulls":3}," ",{"$nulls":6},"schroef 220xØ6",null," "]
["SlimFix Spoor",{"v":5,"d":"5.0"},"SlimFix Spoor 5",null,null,"schroef 240xØ6",100,{"$nulls":3}," ",{"$nulls":6},"schroef 240xØ6",null," "]
["SlimFix Spoor",5.5,"SlimFix Spoor 5,5",null,null,"schroef 260xØ6",100,{"$nulls":3}," ",{"$nulls":6},"schroef 260xØ6",null," "]
["SlimFix Spoor",6.3,"SlimFix Spoor 6,3",null,null,"schroef 280xØ6",100,{"$nulls":3}," ",{"$nulls":6},"schroef 280xØ6",null," "]
["SlimFix Spoor",{"v":7,"d":"7.0"},"SlimFix Spoor 7",null,null,"schroef 300xØ6",100,{"$nulls":3}," ",{"$nulls":6},"schroef 300xØ6",null," "]
["SlimFix-XT 3/3L",2.5,"SlimFix-XT 3/3L 2,5",3,10.1,"Schroef 160xØ6",100,{"$f":"CEILING(SlimFix!$D$32*SlimFix!$J$44/1020,1)","v":0},{"$f":"CEILING(SlimFix!$D$50*SlimFix!$J$57/1020,1)","v":0},{"$f":"((H51*SlimFix!$D$35)+(I51*SlimFix!$D$52))*3","v":0},"Schroef 160xØ6",100,6,{"$f":"IF(calcu!$I$32<=0,0,calcu!$I$32)","v":{"$error":"#N/A"}},{"$f":"IF(OR(I51=0,calcu!$U$32<=0),0,calcu!$U$32)","v":{"$error":"#N/A"}},{"$f":"(H51*N51)+(I51*O51)","v":{"$error":"#N/A"}},null,"Schroef 160xØ6",{"$f":"CEILING((J51+P51)/G51,1)","v":{"$error":"#N/A"}},null,null,{"$f":"CEILING(P51/100,1)","v":{"$error":"#N/A"}},"Luchtdichte afdekprofielen",{"$f":"CEILING((H51*(SlimFix!$J$32/1000))+(I51*(SlimFix!$J$50/1000)),1)","v":0},"Door de tengel t.p.v. elke onderliggende gording/muurplaat:",3,"Tussen de tengels t.p.v. de plaatvaste oplegging/muurplaat:"]
["SlimFix-XT 3/3L",{"v":3,"d":"3.0"},"SlimFix-XT 3/3L 3",3,10.7,"Schroef 180xØ6",100,{"$f":"CEILING(SlimFix!$D$32*SlimFix!$J$44/1020,1)","v":0},{"$f":"CEILING(SlimFix!$D$50*SlimFix!$J$57/1020,1)","v":0},{"$f":"((H52*SlimFix!$D$35)+(I52*SlimFix!$D$52))*3","v":0},"Schroef 180xØ6",100,6,{"$f":"IF(calcu!$I$32<=0,0,calcu!$I$32)","v":{"$error":"#N/A"}},{"$f":"IF(OR(I52=0,calcu!$U$32<=0),0,calcu!$U$32)","v":{"$error":"#N/A"}},{"$error":"#N/A"},null,"Schroef 180xØ6",{"$f":"CEILING((J52+P52)/G52,1)","v":{"$error":"#N/A"}},null,null,{"$error":"#N/A"},"Luchtdichte afdekprofielen",{"$f":"CEILING((H52*(SlimFix!$J$32/1000))+(I52*(SlimFix!$J$50/1000)),1)","v":0},"Door de tengel t.p.v. elke onderliggende gording/muurplaat:",3,"Tussen de tengels t.p.v. de plaatvaste oplegging/muurplaat:"]
["SlimFix-XT 3/3L",3.5,{"$f":"A53&\" \"&B53","v":"SlimFix-XT 3/3L 3,5"},3,11.4,"Schroef 200xØ6",100,{"$f":"CEILING(SlimFix!$D$32*SlimFix!$J$44/1020,1)","v":0},{"$f":"CEILING(SlimFix!$D$50*SlimFix!$J$57/1020,1)","v":0},{"$f":"((H53*SlimFix!$D$35)+(I53*SlimFix!$D$52))*3","v":0},"Schroef 200xØ6",100,6,{"$f":"IF(calcu!$I$32<=0,0,calcu!$I$32)","v":{"$error":"#N/A"}},{"$f":"IF(OR(I53=0,calcu!$U$32<=0),0,calcu!$U$32)","v":{"$error":"#N/A"}},{"$f":"(H53*N53)+(I53*O53)","v":{"$error":"#N/A"}},null,"Schroef 200xØ6",{"$error":"#N/A"},null,null,{"$f":"CEILING(P53/100,1)","v":{"$error":"#N/A"}},"Luchtdichte afdekprofielen",{"$f":"CEILING((H53*(SlimFix!$J$32/1000))+(I53*(SlimFix!$J$50/1000)),1)","v":0},"Door de tengel t.p.v. elke onderliggende gording/muurplaat:",3,"Tussen de tengels t.p.v. de plaatvaste oplegging/muurplaat:"]
["SlimFix-XT 3/3L",{"v":4,"d":"4.0"},"SlimFix-XT 3/3L 4",3,{"v":12,"d":"12.0"},"Schroef 220xØ6",100,{"$f":"CEILING(SlimFix!$D$32*SlimFix!$J$44/1020,1)","v":0},{"$f":"CEILING(SlimFix!$D$50*SlimFix!$J$57/1020,1)","v":0},{"$f":"((H54*SlimFix!$D$35)+(I54*SlimFix!$D$52))*3","v":0},"Schroef 220xØ6",100,6,{"$f":"IF(calcu!$I$32<=0,0,calcu!$I$32)","v":{"$error":"#N/A"}},{"$f":"IF(OR(I54=0,calcu!$U$32<=0),0,calcu!$U$32)","v":{"$error":"#N/A"}},{"$error":"#N/A"},null,"Schroef 220xØ6",{"$error":"#N/A"},null,null,{"$error":"#N/A"},"Luchtdichte afdekprofielen",{"$f":"CEILING((H54*(SlimFix!$J$32/1000))+(I54*(SlimFix!$J$50/1000)),1)","v":0},"Door de tengel t.p.v. elke onderliggende gording/muurplaat:",3,"Tussen de tengels t.p.v. de plaatvaste oplegging/muurplaat:"]
["SlimFix-XT 3/3L",4.5,"SlimFix-XT 3/3L 4,5",3,12.8,"Schroef 240xØ6",100,{"$f":"CEILING(SlimFix!$D$32*SlimFix!$J$44/1020,1)","v":0},{"$f":"CEILING(SlimFix!$D$50*SlimFix!$J$57/1020,1)","v":0},{"$f":"((H55*SlimFix!$D$35)+(I55*SlimFix!$D$52))*3","v":0},"Schroef 240xØ6",100,6,{"$f":"IF(calcu!$I$32<=0,0,calcu!$I$32)","v":{"$error":"#N/A"}},{"$f":"IF(OR(I55=0,calcu!$U$32<=0),0,calcu!$U$32)","v":{"$error":"#N/A"}},{"$error":"#N/A"},null,"Schroef 240xØ6",{"$error":"#N/A"},null,null,{"$error":"#N/A"},"Luchtdichte afdekprofielen",{"$f":"CEILING((H55*(SlimFix!$J$32/1000))+(I55*(SlimFix!$J$50/1000)),1)","v":0},"Door de tengel t.p.v. elke onderliggende gording/muurplaat:",3,"Tussen de tengels t.p.v. de plaatvaste oplegging/muurplaat:"]
["SlimFix-XT 3/3L",{"v":5,"d":"5.0"},"SlimFix-XT 3/3L 5",3,13.4,"Schroef 260xØ6",100,{"$f":"CEILING(SlimFix!$D$32*SlimFix!$J$44/1020,1)","v":0},{"$f":"CEILING(SlimFix!$D$50*SlimFix!$J$57/1020,1)","v":0},{"$f":"((H56*SlimFix!$D$35)+(I56*SlimFix!$D$52))*3","v":0},"Schroef 260xØ6",100,6,{"$f":"IF(calcu!$I$32<=0,0,calcu!$I$32)","v":{"$error":"#N/A"}},{"$f":"IF(OR(I56=0,calcu!$U$32<=0),0,calcu!$U$32)","v":{"$error":"#N/A"}},{"$error":"#N/A"},null,"Schroef 260xØ6",{"$error":"#N/A"},null,null,{"$error":"#N/A"},"Luchtdichte afdekprofielen",{"$f":"CEILING((H56*(SlimFix!$J$32/1000))+(I56*(SlimFix!$J$50/1000)),1)","v":0},"Door de tengel t.p.v. elke onderliggende gording/muurplaat:",3,"Tussen de tengels t.p.v. de plaatvaste oplegging/muurplaat:"]
["SlimFix-XT 3/3L",5.5,"SlimFix-XT 3/3L 5,5",3,13.9,"Schroef 260xØ6",100,{"$f":"CEILING(SlimFix!$D$32*SlimFix!$J$44/1020,1)","v":0},{"$f":"CEILING(SlimFix!$D$50*SlimFix!$J$57/1020,1)","v":0},{"$f":"((H57*SlimFix!$D$35)+(I57*SlimFix!$D$52))*3","v":0},"Schroef 260xØ6",100,6,{"$f":"IF(calcu!$I$32<=0,0,calcu!$I$32)","v":{"$error":"#N/A"}},{"$f":"IF(OR(I57=0,calcu!$U$32<=0),0,calcu!$U$32)","v":{"$error":"#N/A"}},{"$error":"#N/A"},null,"Schroef 260xØ6",{"$error":"#N/A"},null,null,{"$error":"#N/A"},"Luchtdichte afdekprofielen",{"$f":"CEILING((H57*(SlimFix!$J$32/1000))+(I57*(SlimFix!$J$50/1000)),1)","v":0},"Door de tengel t.p.v. elke onderliggende gording/muurplaat:",3,"Tussen de tengels t.p.v. de plaatvaste oplegging/muurplaat:"]
["SlimFix-XT 3/3L",6.3,"SlimFix-XT 3/3L 6,3",3,{"v":15,"d":"15.0"},"Schroef 300xØ6",100,{"$f":"CEILING(SlimFix!$D$32*SlimFix!$J$44/1020,1)","v":0},{"$f":"CEILING(SlimFix!$D$50*SlimFix!$J$57/1020,1)","v":0},{"$f":"((H58*SlimFix!$D$35)+(I58*SlimFix!$D$52))*3","v":0},"Schroef 300xØ6",100,6,{"$f":"IF(calcu!$I$32<=0,0,calcu!$I$32)","v":{"$error":"#N/A"}},{"$f":"IF(OR(I58=0,calcu!$U$32<=0),0,calcu!$U$32)","v":{"$error":"#N/A"}},{"$error":"#N/A"},null,"Schroef 300xØ6",{"$error":"#N/A"},null,null,{"$error":"#N/A"},"Luchtdichte afdekprofielen",{"$f":"CEILING((H58*(SlimFix!$J$32/1000))+(I58*(SlimFix!$J$50/1000)),1)","v":0},"Door de tengel t.p.v. elke onderliggende gording/muurplaat:",3,"Tussen de tengels t.p.v. de plaatvaste oplegging/muurplaat:"]
["SlimFix-XT 3/3L",{"v":7,"d":"7.0"},"SlimFix-XT 3/3L 7",3,{"v":16,"d":"16.0"},"Schroef 300xØ6",100,{"$f":"CEILING(SlimFix!$D$32*SlimFix!$J$44/1020,1)","v":0},{"$f":"CEILING(SlimFix!$D$50*SlimFix!$J$57/1020,1)","v":0},{"$f":"((H59*SlimFix!$D$35)+(I59*SlimFix!$D$52))*2","v":0},"Schroef 300xØ6",100,6,{"$f":"IF(calcu!$I$32<=0,0,calcu!$I$32+1)","v":{"$error":"#N/A"}},{"$f":"IF(OR(I59=0,calcu!$U$32<=0),0,calcu!$U$32+1)","v":{"$error":"#N/A"}},{"$error":"#N/A"},{"$nulls":3},{"$f":"K59","v":"Schroef 300xØ6"},{"$f":"CEILING((P59+J59)/L59,1)","v":{"$error":"#N/A"}},{"$f":"CEILING((P59+J59)/100,1)","v":{"$error":"#N/A"}},"Luchtdichte afdekprofielen",{"$f":"CEILING((H59*(SlimFix!$J$32/1000))+(I59*(SlimFix!$J$50/1000)),1)","v":0},"Tussen de tengel t.p.v. elke onderliggende gording/muurplaat:",2,"Tussen de tengels t.p.v. de plaatvaste oplegging/muurplaat:"]
["SlimFix-XT 3/3R",2.5,"SlimFix-XT 3/3R 2,5",3,8.6,"Schroef 160xØ6",100,{"$f":"CEILING(SlimFix!$D$32*SlimFix!$J$44/1020,1)","v":0},{"$f":"CEILING(SlimFix!$D$50*SlimFix!$J$57/1020,1)","v":0},{"$f":"((H60*SlimFix!$D$35)+(I60*SlimFix!$D$52))*3","v":0},"Schroef 160xØ6",100,6,{"$f":"IF(calcu!$I$42<=0,0,calcu!$I$42)","v":{"$error":"#N/A"}},{"$f":"IF(calcu!$U$42<=0,0,calcu!$U$42)","v":{"$error":"#N/A"}},{"$error":"#N/A"},null,"Schroef 160xØ6",{"$f":"CEILING((J60+P60)/G60,1)","v":{"$error":"#N/A"}},null,null,{"$f":"CEILING(P60/100,1)","v":{"$error":"#N/A"}},"Luchtdichte afdekprofielen",{"$f":"CEILING((H60*(SlimFix!$J$32/1000))+(I60*(SlimFix!$J$50/1000)),1)","v":0},"Door de tengel t.p.v. elke onderliggende gording/muurplaat:",3,{"$f":"IF(P60=0,\" \",\"Tussen de tengels t.p.v. muurplaat:\")","v":{"$error":"#N/A"}}]
["SlimFix-XT 3/3R",{"v":3,"d":"3.0"},"SlimFix-XT 3/3R 3",3,8.9,"Schroef 160xØ6",100,{"$f":"CEILING(SlimFix!$D$32*SlimFix!$J$44/1020,1)","v":0},{"$f":"CEILING(SlimFix!$D$50*SlimFix!$J$57/1020,1)","v":0},{"$f":"((H61*SlimFix!$D$35)+(I61*SlimFix!$D$52))*3","v":0},"Schroef 160xØ6",100,6,{"$f":"IF(calcu!$I$42<=0,0,calcu!$I$42)","v":{"$error":"#N/A"}},{"$f":"IF(calcu!$U$42<=0,0,calcu!$U$42)","v":{"$error":"#N/A"}},{"$error":"#N/A"},null,"Schroef 160xØ6",{"$f":"CEILING((J61+P61)/G61,1)","v":{"$error":"#N/A"}},null,null,{"$error":"#N/A"},"Luchtdichte afdekprofielen",{"$f":"CEILING((H61*(SlimFix!$J$32/1000))+(I61*(SlimFix!$J$50/1000)),1)","v":0},"Door de tengel t.p.v. elke onderliggende gording/muurplaat:",3,{"$error":"#N/A"}]
["SlimFix-XT 3/3R",3.5,"SlimFix-XT 3/3R 3,5",3,9.2,"Schroef 180xØ6",100,{"$f":"CEILING(SlimFix!$D$32*SlimFix!$J$44/1020,1)","v":0},{"$f":"CEILING(SlimFix!$D$50*SlimFix!$J$57/1020,1)","v":0},{"$f":"((H62*SlimFix!$D$35)+(I62*SlimFix!$D$52))*3","v":0},"Schroef 180xØ6",100,6,{"$f":"IF(calcu!$I$42<=0,0,calcu!$I$42)","v":{"$error":"#N/A"}},{"$f":"IF(calcu!$U$42<=0,0,calcu!$U$42)","v":{"$error":"#N/A"}},{"$f":"(H62*N62)+(I62*O62)","v":{"$error":"#N/A"}},null,"Schroef 180xØ6",{"$f":"CEILING((J62+P62)/G62,1)","v":{"$error":"#N/A"}},null,null,{"$f":"CEILING(P62/100,1)","v":{"$error":"#N/A"}},"Luchtdichte afdekprofielen",{"$f":"CEILING((H62*(SlimFix!$J$32/1000))+(I62*(SlimFix!$J$50/1000)),1)","v":0},"Door de tengel t.p.v. elke onderliggende gording/muurplaat:",3,{"$f":"IF(P62=0,\" \",\"Tussen de tengels t.p.v. muurplaat:\")","v":{"$error":"#N/A"}}]
["SlimFix-XT 3/3R",{"v":4,"d":"4.0"},"SlimFix-XT 3/3R 4",3,9.5,"Schroef 200xØ6",100,{"$f":"CEILING(SlimFix!$D$32*SlimFix!$J$44/1020,1)","v":0},{"$f":"CEILING(SlimFix!$D$50*SlimFix!$J$57/1020,1)","v":0},{"$f":"((H63*SlimFix!$D$35)+(I63*SlimFix!$D$52))*3","v":0},"Schroef 200xØ6",100,6,{"$f":"IF(calcu!$I$42<=0,0,calcu!$I$42)","v":{"$error":"#N/A"}},{"$f":"IF(calcu!$U$42<=0,0,calcu!$U$42)","v":{"$error":"#N/A"}},{"$error":"#N/A"},null,"Schroef 200xØ6",{"$f":"CEILING((J63+P63)/G63,1)","v":{"$error":"#N/A"}},null,null,{"$error":"#N/A"},"Luchtdichte afdekprofielen",{"$f":"CEILING((H63*(SlimFix!$J$32/1000))+(I63*(SlimFix!$J$50/1000)),1)","v":0},"Door de tengel t.p.v. elke onderliggende gording/muurplaat:",3,{"$error":"#N/A"}]
["SlimFix-XT 3/3R",4.5,"SlimFix-XT 3/3R 4,5",3,9.7,"Schroef 220xØ6",100,{"$f":"CEILING(SlimFix!$D$32*SlimFix!$J$44/1020,1)","v":0},{"$f":"CEILING(SlimFix!$D$50*SlimFix!$J$57/1020,1)","v":0},{"$f":"((H64*SlimFix!$D$35)+(I64*SlimFix!$D$52))*3","v":0},"Schroef 220xØ6",100,6,{"$f":"IF(calcu!$I$42<=0,0,calcu!$I$42)","v":{"$error":"#N/A"}},{"$f":"IF(calcu!$U$42<=0,0,calcu!$U$42)","v":{"$error":"#N/A"}},{"$error":"#N/A"},null,"Schroef 220xØ6",{"$error":"#N/A"},null,null,{"$error":"#N/A"},"Luchtdichte afdekprofielen",{"$f":"CEILING((H64*(SlimFix!$J$32/1000))+(I64*(SlimFix!$J$50/1000)),1)","v":0},"Door de tengel t.p.v. elke onderliggende gording/muurplaat:",3,{"$error":"#N/A"}]
["SlimFix-XT 3/3R",{"v":5,"d":"5.0"},"SlimFix-XT 3/3R 5",3,{"v":10,"d":"10.0"},"Schroef 240xØ6",100,{"$f":"CEILING(SlimFix!$D$32*SlimFix!$J$44/1020,1)","v":0},{"$f":"CEILING(SlimFix!$D$50*SlimFix!$J$57/1020,1)","v":0},{"$f":"((H65*SlimFix!$D$35)+(I65*SlimFix!$D$52))*3","v":0},"Schroef 240xØ6",100,6,{"$f":"IF(calcu!$I$42<=0,0,calcu!$I$42)","v":{"$error":"#N/A"}},{"$f":"IF(calcu!$U$42<=0,0,calcu!$U$42)","v":{"$error":"#N/A"}},{"$error":"#N/A"},null,"Schroef 240xØ6",{"$error":"#N/A"},null,null,{"$error":"#N/A"},"Luchtdichte afdekprofielen",{"$f":"CEILING((H65*(SlimFix!$J$32/1000))+(I65*(SlimFix!$J$50/1000)),1)","v":0},"Door de tengel t.p.v. elke onderliggende gording/muurplaat:",3,{"$error":"#N/A"}]
["SlimFix-XT 3/3R",5.5,"SlimFix-XT 3/3R 5,5",3,10.3,"Schroef 240xØ6",100,{"$f":"CEILING(SlimFix!$D$32*SlimFix!$J$44/1020,1)","v":0},{"$f":"CEILING(SlimFix!$D$50*SlimFix!$J$57/1020,1)","v":0},{"$f":"((H66*SlimFix!$D$35)+(I66*SlimFix!$D$52))*3","v":0},"Schroef 240xØ6",100,6,{"$f":"IF(calcu!$I$42<=0,0,calcu!$I$42)","v":{"$error":"#N/A"}},{"$f":"IF(calcu!$U$42<=0,0,calcu!$U$42)","v":{"$error":"#N/A"}},{"$error":"#N/A"},null,"Schroef 240xØ6",{"$error":"#N/A"},null,null,{"$error":"#N/A"},"Luchtdichte afdekprofielen",{"$f":"CEILING((H66*(SlimFix!$J$32/1000))+(I66*(SlimFix!$J$50/1000)),1)","v":0},"Door de tengel t.p.v. elke onderliggende gording/muurplaat:",3,{"$error":"#N/A"}]
["SlimFix-XT 3/3R",6.3,{"$f":"A67&\" \"&B67","v":"SlimFix-XT 3/3R 6,3"},3,10.7,"Schroef 280xØ6",100,{"$f":"CEILING(SlimFix!$D$32*SlimFix!$J$44/1020,1)","v":0},{"$f":"CEILING(SlimFix!$D$50*SlimFix!$J$57/1020,1)","v":0},{"$f":"((H67*SlimFix!$D$35)+(I67*SlimFix!$D$52))*3","v":0},"Schroef 280xØ6",100,6,{"$f":"IF(calcu!$I$42<=0,0,calcu!$I$42)","v":{"$error":"#N/A"}},{"$f":"IF(calcu!$U$42<=0,0,calcu!$U$42)","v":{"$error":"#N/A"}},{"$error":"#N/A"},null,"Schroef 280xØ6",{"$error":"#N/A"},null,null,{"$error":"#N/A"},"Luchtdichte afdekprofielen",{"$f":"CEILING((H67*(SlimFix!$J$32/1000))+(I67*(SlimFix!$J$50/1000)),1)","v":0},"Door de tengel t.p.v. elke onderliggende gording/muurplaat:",3,{"$error":"#N/A"}]
["SlimFix-XT 3/3R",{"v":7,"d":"7.0"},"SlimFix-XT 3/3R 7",3,11.1,"Schroef 300xØ6",100,{"$f":"CEILING(SlimFix!$D$32*SlimFix!$J$44/1020,1)","v":0},{"$f":"CEILING(SlimFix!$D$50*SlimFix!$J$57/1020,1)","v":0},{"$f":"((H68*SlimFix!$D$35)+(I68*SlimFix!$D$52))*3","v":0},"Schroef 300xØ6",100,6,{"$f":"IF(calcu!$I$42<=0,0,calcu!$I$42)","v":{"$error":"#N/A"}},{"$f":"IF(calcu!$U$42<=0,0,calcu!$U$42)","v":{"$error":"#N/A"}},{"$error":"#N/A"},null,"Schroef 300xØ6",{"$error":"#N/A"},null,null,{"$error":"#N/A"},"Luchtdichte afdekprofielen",{"$f":"CEILING((H68*(SlimFix!$J$32/1000))+(I68*(SlimFix!$J$50/1000)),1)","v":0},"Door de tengel t.p.v. elke onderliggende gording/muurplaat:",3,{"$error":"#N/A"}]
["SlimFix-XT 8/8L",2.5,"SlimFix-XT 8/8L 2,5",8,17.2,"Schroef 160xØ6",100,{"$f":"CEILING(SlimFix!$D$32*SlimFix!$J$44/1020,1)","v":0},{"$f":"CEILING(SlimFix!$D$50*SlimFix!$J$57/1020,1)","v":0},{"$f":"((H69*SlimFix!$D$35)+(I69*SlimFix!$D$52))*3","v":0},"Schroef 160xØ6",100,6,{"$f":"IF(calcu!$I$34<=0,0,calcu!$I$34)","v":{"$error":"#N/A"}},{"$f":"IF(OR(I69=0,calcu!$U$34<=0),0,calcu!$U$34)","v":{"$error":"#N/A"}},{"$error":"#N/A"},null,"Schroef 160xØ6",{"$error":"#N/A"},null,null,{"$error":"#N/A"},"Luchtdichte afdekprofielen",{"$f":"CEILING((H69*(SlimFix!$J$32/1000))+(I69*(SlimFix!$J$50/1000)),1)","v":0},"Door de tengel t.p.v. elke onderliggende gording/muurplaat:",3,"Tussen de tengels t.p.v. de plaatvaste oplegging/muurplaat:"]
["SlimFix-XT 8/8L",{"v":3,"d":"3.0"},"SlimFix-XT 8/8L 3",8,17.8,"Schroef 180xØ6",100,{"$f":"CEILING(SlimFix!$D$32*SlimFix!$J$44/1020,1)","v":0},{"$f":"CEILING(SlimFix!$D$50*SlimFix!$J$57/1020,1)","v":0},{"$f":"((H70*SlimFix!$D$35)+(I70*SlimFix!$D$52))*3","v":0},"Schroef 180xØ6",100,6,{"$f":"IF(calcu!$I$34<=0,0,calcu!$I$34)","v":{"$error":"#N/A"}},{"$f":"IF(OR(I70=0,calcu!$U$34<=0),0,calcu!$U$34)","v":{"$error":"#N/A"}},{"$error":"#N/A"},null,"Schroef 180xØ6",{"$error":"#N/A"},null,null,{"$error":"#N/A"},"Luchtdichte afdekprofielen",{"$f":"CEILING((H70*(SlimFix!$J$32/1000))+(I70*(SlimFix!$J$50/1000)),1)","v":0},"Door de tengel t.p.v. elke onderliggende gording/muurplaat:",3,"Tussen de tengels t.p.v. de plaatvaste oplegging/muurplaat:"]
["SlimFix-XT 8/8L",3.5,{"$f":"A71&\" \"&B71","v":"SlimFix-XT 8/8L 3,5"},8,18.6,"Schroef 200xØ6",100,{"$f":"CEILING(SlimFix!$D$32*SlimFix!$J$44/1020,1)","v":0},{"$f":"CEILING(SlimFix!$D$50*SlimFix!$J$57/1020,1)","v":0},{"$f":"((H71*SlimFix!$D$35)+(I71*SlimFix!$D$52))*3","v":0},"Schroef 200xØ6",100,6,{"$f":"IF(calcu!$I$34<=0,0,calcu!$I$34)","v":{"$error":"#N/A"}},{"$f":"IF(OR(I71=0,calcu!$U$34<=0),0,calcu!$U$34)","v":{"$error":"#N/A"}},{"$f":"(H71*N71)+(I71*O71)","v":{"$error":"#N/A"}},null,"Schroef 200xØ6",{"$error":"#N/A"},null,null,{"$f":"CEILING(P71/100,1)","v":{"$error":"#N/A"}},"Luchtdichte afdekprofielen",{"$f":"CEILING((H71*(SlimFix!$J$32/1000))+(I71*(SlimFix!$J$50/1000)),1)","v":0},"Door de tengel t.p.v. elke onderliggende gording/muurplaat:",3,"Tussen de tengels t.p.v. de plaatvaste oplegging/muurplaat:"]
["SlimFix-XT 8/8L",{"v":4,"d":"4.0"},"SlimFix-XT 8/8L 4",8,19.2,"Schroef 220xØ6",100,{"$f":"CEILING(SlimFix!$D$32*SlimFix!$J$44/1020,1)","v":0},{"$f":"CEILING(SlimFix!$D$50*SlimFix!$J$57/1020,1)","v":0},{"$f":"((H72*SlimFix!$D$35)+(I72*SlimFix!$D$52))*3","v":0},"Schroef 220xØ6",100,6,{"$f":"IF(calcu!$I$34<=0,0,calcu!$I$34)","v":{"$error":"#N/A"}},{"$f":"IF(OR(I72=0,calcu!$U$34<=0),0,calcu!$U$34)","v":{"$error":"#N/A"}},{"$error":"#N/A"},null,"Schroef 220xØ6",{"$error":"#N/A"},null,null,{"$error":"#N/A"},"Luchtdichte afdekprofielen",{"$f":"CEILING((H72*(SlimFix!$J$32/1000))+(I72*(SlimFix!$J$50/1000)),1)","v":0},"Door de tengel t.p.v. elke onderliggende gording/muurplaat:",3,"Tussen de tengels t.p.v. de plaatvaste oplegging/muurplaat:"]
["SlimFix-XT 8/8L",4.5,"SlimFix-XT 8/8L 4,5",8,{"v":20,"d":"20.0"},"Schroef 240xØ6",100,{"$f":"CEILING(SlimFix!$D$32*SlimFix!$J$44/1020,1)","v":0},{"$f":"CEILING(SlimFix!$D$50*SlimFix!$J$57/1020,1)","v":0},{"$f":"((H73*SlimFix!$D$35)+(I73*SlimFix!$D$52))*3","v":0},"Schroef 240xØ6",100,6,{"$f":"IF(calcu!$I$34<=0,0,calcu!$I$34)","v":{"$error":"#N/A"}},{"$f":"IF(OR(I73=0,calcu!$U$34<=0),0,calcu!$U$34)","v":{"$error":"#N/A"}},{"$error":"#N/A"},null,"Schroef 240xØ6",{"$error":"#N/A"},null,null,{"$error":"#N/A"},"Luchtdichte afdekprofielen",{"$f":"CEILING((H73*(SlimFix!$J$32/1000))+(I73*(SlimFix!$J$50/1000)),1)","v":0},"Door de tengel t.p.v. elke onderliggende gording/muurplaat:",3,"Tussen de tengels t.p.v. de plaatvaste oplegging/muurplaat:"]
["SlimFix-XT 8/8L",{"v":5,"d":"5.0"},"SlimFix-XT 8/8L 5",8,20.6,"Schroef 260xØ6",100,{"$f":"CEILING(SlimFix!$D$32*SlimFix!$J$44/1020,1)","v":0},{"$f":"CEILING(SlimFix!$D$50*SlimFix!$J$57/1020,1)","v":0},{"$f":"((H74*SlimFix!$D$35)+(I74*SlimFix!$D$52))*3","v":0},"Schroef 260xØ6",100,6,{"$f":"IF(calcu!$I$34<=0,0,calcu!$I$34)","v":{"$error":"#N/A"}},{"$f":"IF(OR(I74=0,calcu!$U$34<=0),0,calcu!$U$34)","v":{"$error":"#N/A"}},{"$error":"#N/A"},null,"Schroef 260xØ6",{"$error":"#N/A"},null,null,{"$error":"#N/A"},"Luchtdichte afdekprofielen",{"$f":"CEILING((H74*(SlimFix!$J$32/1000))+(I74*(SlimFix!$J$50/1000)),1)","v":0},"Door de tengel t.p.v. elke onderliggende gording/muurplaat:",3,"Tussen de tengels t.p.v. de plaatvaste oplegging/muurplaat:"]
["SlimFix-XT 8/8L",5.5,"SlimFix-XT 8/8L 5,5",8,21.1,"Schroef 280xØ6",100,{"$f":"CEILING(SlimFix!$D$32*SlimFix!$J$44/1020,1)","v":0},{"$f":"CEILING(SlimFix!$D$50*SlimFix!$J$57/1020,1)","v":0},{"$f":"((H75*SlimFix!$D$35)+(I75*SlimFix!$D$52))*3","v":0},"Schroef 280xØ6",100,6,{"$f":"IF(calcu!$I$34<=0,0,calcu!$I$34)","v":{"$error":"#N/A"}},{"$f":"IF(OR(I75=0,calcu!$U$34<=0),0,calcu!$U$34)","v":{"$error":"#N/A"}},{"$error":"#N/A"},null,"Schroef 280xØ6",{"$error":"#N/A"},null,null,{"$error":"#N/A"},"Luchtdichte afdekprofielen",{"$f":"CEILING((H75*(SlimFix!$J$32/1000))+(I75*(SlimFix!$J$50/1000)),1)","v":0},"Door de tengel t.p.v. elke onderliggende gording/muurplaat:",3,"Tussen de tengels t.p.v. de plaatvaste oplegging/muurplaat:"]
["SlimFix-XT 8/8L",6.3,"SlimFix-XT 8/8L 6,3",8,22.2,"Schroef 300xØ6",100,{"$f":"CEILING(SlimFix!$D$32*SlimFix!$J$44/1020,1)","v":0},{"$f":"CEILING(SlimFix!$D$50*SlimFix!$J$57/1020,1)","v":0},{"$f":"((H76*SlimFix!$D$35)+(I76*SlimFix!$D$52))*3","v":0},"Schroef 300xØ6",100,6,{"$f":"IF(calcu!$I$34<=0,0,calcu!$I$34)","v":{"$error":"#N/A"}},{"$f":"IF(OR(I76=0,calcu!$U$34<=0),0,calcu!$U$34)","v":{"$error":"#N/A"}},{"$error":"#N/A"},null,"Schroef 300xØ6",{"$error":"#N/A"},null,null,{"$error":"#N/A"},"Luchtdichte afdekprofielen",{"$f":"CEILING((H76*(SlimFix!$J$32/1000))+(I76*(SlimFix!$J$50/1000)),1)","v":0},"Door de tengel t.p.v. elke onderliggende gording/muurplaat:",3,"Tussen de tengels t.p.v. de plaatvaste oplegging/muurplaat:"]
["SlimFix-XT 8/8L",{"v":7,"d":"7.0"},"SlimFix-XT 8/8L 7",8,23.1,"Schroef 300xØ6",100,{"$f":"CEILING(SlimFix!$D$32*SlimFix!$J$44/1020,1)","v":0},{"$f":"CEILING(SlimFix!$D$50*SlimFix!$J$57/1020,1)","v":0},{"$f":"((H77*SlimFix!$D$35)+(I77*SlimFix!$D$52))*2","v":0},"Schroef 300xØ6",100,6,{"$f":"IF(calcu!$I$34<=0,0,calcu!$I$34+1)","v":{"$error":"#N/A"}},{"$f":"IF(OR(I77=0,calcu!$U$34<=0),0,calcu!$U$34+1)","v":{"$error":"#N/A"}},{"$error":"#N/A"},null,"Schroef 300xØ6",null,{"$f":"K77","v":"Schroef 300xØ6"},{"$f":"CEILING((P77+J77)/L77,1)","v":{"$error":"#N/A"}},{"$f":"CEILING((P77+J77)/100,1)","v":{"$error":"#N/A"}},"Luchtdichte afdekprofielen",{"$f":"CEILING((H77*(SlimFix!$J$32/1000))+(I77*(SlimFix!$J$50/1000)),1)","v":0},"Tussen de tengel t.p.v. elke onderliggende gording/muurplaat:",2,"Tussen de tengels t.p.v. de plaatvaste oplegging/muurplaat:"]
["SlimFix-XT 8/8R",2.5,"SlimFix-XT 8/8R 2,5",8,15.8,"Schroef 160xØ6",100,{"$f":"CEILING(SlimFix!$D$32*SlimFix!$J$44/1020,1)","v":0},{"$f":"CEILING(SlimFix!$D$50*SlimFix!$J$57/1020,1)","v":0},{"$f":"((H78*SlimFix!$D$35)+(I78*SlimFix!$D$52))*3","v":0},"Schroef 160xØ6",100,6,{"$f":"IF(calcu!$I$43<=0,0,calcu!$I$43)","v":{"$error":"#N/A"}},{"$f":"IF(calcu!$U$43<=0,0,calcu!$U$43)","v":{"$error":"#N/A"}},{"$error":"#N/A"},null,"Schroef 160xØ6",{"$f":"CEILING((J78+P78)/G78,1)","v":{"$error":"#N/A"}},null,null,{"$f":"CEILING(P78/100,1)","v":{"$error":"#N/A"}},"Luchtdichte afdekprofielen",{"$f":"CEILING((H78*(SlimFix!$J$32/1000))+(I78*(SlimFix!$J$50/1000)),1)","v":0},"Door de tengel t.p.v. elke onderliggende gording/muurplaat:",3,{"$f":"IF(P78=0,\" \",\"Tussen de tengels t.p.v. muurplaat:\")","v":{"$error":"#N/A"}}]
["SlimFix-XT 8/8R",{"v":3,"d":"3.0"},"SlimFix-XT 8/8R 3",8,16.1,"Schroef 180xØ6",100,{"$f":"CEILING(SlimFix!$D$32*SlimFix!$J$44/1020,1)","v":0},{"$f":"CEILING(SlimFix!$D$50*SlimFix!$J$57/1020,1)","v":0},{"$f":"((H79*SlimFix!$D$35)+(I79*SlimFix!$D$52))*3","v":0},"Schroef 180xØ6",100,6,{"$f":"IF(calcu!$I$43<=0,0,calcu!$I$43)","v":{"$error":"#N/A"}},{"$f":"IF(calcu!$U$43<=0,0,calcu!$U$43)","v":{"$error":"#N/A"}},{"$error":"#N/A"},null,"Schroef 180xØ6",{"$error":"#N/A"},null,null,{"$error":"#N/A"},"Luchtdichte afdekprofielen",{"$f":"CEILING((H79*(SlimFix!$J$32/1000))+(I79*(SlimFix!$J$50/1000)),1)","v":0},"Door de tengel t.p.v. elke onderliggende gording/muurplaat:",3,{"$error":"#N/A"}]
["SlimFix-XT 8/8R",3.5,"SlimFix-XT 8/8R 3,5",8,16.4,"Schroef 200xØ6",100,{"$f":"CEILING(SlimFix!$D$32*SlimFix!$J$44/1020,1)","v":0},{"$f":"CEILING(SlimFix!$D$50*SlimFix!$J$57/1020,1)","v":0},{"$f":"((H80*SlimFix!$D$35)+(I80*SlimFix!$D$52))*3","v":0},"Schroef 200xØ6",100,6,{"$f":"IF(calcu!$I$43<=0,0,calcu!$I$43)","v":{"$error":"#N/A"}},{"$f":"IF(calcu!$U$43<=0,0,calcu!$U$43)","v":{"$error":"#N/A"}},{"$error":"#N/A"},null,"Schroef 200xØ6",{"$error":"#N/A"},null,null,{"$error":"#N/A"},"Luchtdichte afdekprofielen",{"$f":"CEILING((H80*(SlimFix!$J$32/1000))+(I80*(SlimFix!$J$50/1000)),1)","v":0},"Door de tengel t.p.v. elke onderliggende gording/muurplaat:",3,{"$f":"IF(P80=0,\" \",\"Tussen de tengels t.p.v. muurplaat:\")","v":{"$error":"#N/A"}}]
["SlimFix-XT 8/8R",{"v":4,"d":"4.0"},"SlimFix-XT 8/8R 4",8,16.7,"Schroef 220xØ6",100,{"$f":"CEILING(SlimFix!$D$32*SlimFix!$J$44/1020,1)","v":0},{"$f":"CEILING(SlimFix!$D$50*SlimFix!$J$57/1020,1)","v":0},{"$f":"((H81*SlimFix!$D$35)+(I81*SlimFix!$D$52))*3","v":0},"Schroef 220xØ6",100,6,{"$f":"IF(calcu!$I$43<=0,0,calcu!$I$43)","v":{"$error":"#N/A"}},{"$f":"IF(calcu!$U$43<=0,0,calcu!$U$43)","v":{"$error":"#N/A"}},{"$error":"#N/A"},null,"Schroef 220xØ6",{"$error":"#N/A"},null,null,{"$error":"#N/A"},"Luchtdichte afdekprofielen",{"$f":"CEILING((H81*(SlimFix!$J$32/1000))+(I81*(SlimFix!$J$50/1000)),1)","v":0},"Door de tengel t.p.v. elke onderliggende gording/muurplaat:",3,{"$error":"#N/A"}]
["SlimFix-XT 8/8R",4.5,"SlimFix-XT 8/8R 4,5",8,16.9,"Schroef 220xØ6",100,{"$f":"CEILING(SlimFix!$D$32*SlimFix!$J$44/1020,1)","v":0},{"$f":"CEILING(SlimFix!$D$50*SlimFix!$J$57/1020,1)","v":0},{"$f":"((H82*SlimFix!$D$35)+(I82*SlimFix!$D$52))*3","v":0},"Schroef 220xØ6",100,6,{"$f":"IF(calcu!$I$43<=0,0,calcu!$I$43)","v":{"$error":"#N/A"}},{"$f":"IF(calcu!$U$43<=0,0,calcu!$U$43)","v":{"$error":"#N/A"}},{"$error":"#N/A"},null,"Schroef 220xØ6",{"$error":"#N/A"},null,null,{"$error":"#N/A"},"Luchtdichte afdekprofielen",{"$f":"CEILING((H82*(SlimFix!$J$32/1000))+(I82*(SlimFix!$J$50/1000)),1)","v":0},"Door de tengel t.p.v. elke onderliggende gording/muurplaat:",3,{"$error":"#N/A"}]
["SlimFix-XT 8/8R",{"v":5,"d":"5.0"},"SlimFix-XT 8/8R 5",8,17.2,"Schroef 240xØ6",100,{"$f":"CEILING(SlimFix!$D$32*SlimFix!$J$44/1020,1)","v":0},{"$f":"CEILING(SlimFix!$D$50*SlimFix!$J$57/1020,1)","v":0},{"$f":"((H83*SlimFix!$D$35)+(I83*SlimFix!$D$52))*3","v":0},"Schroef 240xØ6",100,6,{"$f":"IF(calcu!$I$43<=0,0,calcu!$I$43)","v":{"$error":"#N/A"}},{"$f":"IF(calcu!$U$43<=0,0,calcu!$U$43)","v":{"$error":"#N/A"}},{"$error":"#N/A"},null,"Schroef 240xØ6",{"$error":"#N/A"},null,null,{"$error":"#N/A"},"Luchtdichte afdekprofielen",{"$f":"CEILING((H83*(SlimFix!$J$32/1000))+(I83*(SlimFix!$J$50/1000)),1)","v":0},"Door de tengel t.p.v. elke onderliggende gording/muurplaat:",3,{"$error":"#N/A"}]
["SlimFix-XT 8/8R",5.5,"SlimFix-XT 8/8R 5,5",8,17.5,"Schroef 260xØ6",100,{"$f":"CEILING(SlimFix!$D$32*SlimFix!$J$44/1020,1)","v":0},{"$f":"CEILING(SlimFix!$D$50*SlimFix!$J$57/1020,1)","v":0},{"$f":"((H84*SlimFix!$D$35)+(I84*SlimFix!$D$52))*3","v":0},"Schroef 260xØ6",100,6,{"$f":"IF(calcu!$I$43<=0,0,calcu!$I$43)","v":{"$error":"#N/A"}},{"$f":"IF(calcu!$U$43<=0,0,calcu!$U$43)","v":{"$error":"#N/A"}},{"$error":"#N/A"},null,"Schroef 260xØ6",{"$error":"#N/A"},null,null,{"$error":"#N/A"},"Luchtdichte afdekprofielen",{"$f":"CEILING((H84*(SlimFix!$J$32/1000))+(I84*(SlimFix!$J$50/1000)),1)","v":0},"Door de tengel t.p.v. elke onderliggende gording/muurplaat:",3,{"$error":"#N/A"}]
["SlimFix-XT 8/8R",6.3,"SlimFix-XT 8/8R 6,3",8,17.9,"Schroef 280xØ6",100,{"$f":"CEILING(SlimFix!$D$32*SlimFix!$J$44/1020,1)","v":0},{"$f":"CEILING(SlimFix!$D$50*SlimFix!$J$57/1020,1)","v":0},{"$f":"((H85*SlimFix!$D$35)+(I85*SlimFix!$D$52))*3","v":0},"Schroef 280xØ6",100,6,{"$f":"IF(calcu!$I$43<=0,0,calcu!$I$43)","v":{"$error":"#N/A"}},{"$f":"IF(calcu!$U$43<=0,0,calcu!$U$43)","v":{"$error":"#N/A"}},{"$error":"#N/A"},null,"Schroef 280xØ6",{"$error":"#N/A"},null,null,{"$error":"#N/A"},"Luchtdichte afdekprofielen",{"$f":"CEILING((H85*(SlimFix!$J$32/1000))+(I85*(SlimFix!$J$50/1000)),1)","v":0},"Door de tengel t.p.v. elke onderliggende gording/muurplaat:",3,{"$error":"#N/A"}]
["SlimFix-XT 8/8R",{"v":7,"d":"7.0"},"SlimFix-XT 8/8R 7",8,18.3,"Schroef 300xØ6",100,{"$f":"CEILING(SlimFix!$D$32*SlimFix!$J$44/1020,1)","v":0},{"$f":"CEILING(SlimFix!$D$50*SlimFix!$J$57/1020,1)","v":0},{"$f":"((H86*SlimFix!$D$35)+(I86*SlimFix!$D$52))*3","v":0},"Schroef 300xØ6",100,6,{"$f":"IF(calcu!$I$43<=0,0,calcu!$I$43)","v":{"$error":"#N/A"}},{"$f":"IF(calcu!$U$43<=0,0,calcu!$U$43)","v":{"$error":"#N/A"}},{"$error":"#N/A"},null,"Schroef 300xØ6",{"$error":"#N/A"},null,null,{"$error":"#N/A"},"Luchtdichte afdekprofielen",{"$f":"CEILING((H86*(SlimFix!$J$32/1000))+(I86*(SlimFix!$J$50/1000)),1)","v":0},"Door de tengel t.p.v. elke onderliggende gording/muurplaat:",3,{"$error":"#N/A"}]
["SlimFix-XT Passief",{"v":10,"d":"10.0"},"SlimFix-XT Passief 10",8,33,"Schroef 400xØ8",50,{"$f":"CEILING(SlimFix!$D$32*SlimFix!$J$44/1020,1)","v":0},{"$f":"CEILING(SlimFix!$D$50*SlimFix!$J$57/1020,1)","v":0},{"$f":"((H87*SlimFix!$D$35)+(I87*SlimFix!$D$52))*2","v":0},"Schroef 400xØ8",50,8,{"$f":"IF(calcu!$I$35<=0,0,calcu!$I$35)","v":{"$error":"#N/A"}},{"$f":"IF(OR(I87=0,calcu!$U$35<=0),0,calcu!$U$35)","v":{"$error":"#N/A"}},{"$f":"(H87*N87)+(I87*O87)","v":{"$error":"#N/A"}},{"$nulls":3},{"$f":"K87","v":"Schroef 400xØ8"},{"$f":"CEILING((P87+J87)/L87,1)","v":{"$error":"#N/A"}},{"$f":"CEILING((P87+J87)/100,1)","v":{"$error":"#N/A"}},"Luchtdichte afdekprofielen",{"$f":"CEILING((H87*(SlimFix!$J$32/1000))+(I87*(SlimFix!$J$50/1000)),1)","v":0},"Tussen de tengel t.p.v. elke onderliggende gording/muurplaat:",2,"Tussen de tengels t.p.v. de plaatvaste oplegging/muurplaat:"]
["SlimFix-XT Passief",{"v":9,"d":"9.0"},{"$f":"A88&\" \"&B88","v":"SlimFix-XT Passief 9"},8,32.5,"Schroef 380xØ8",50,{"$f":"CEILING(SlimFix!$D$32*SlimFix!$J$44/1020,1)","v":0},{"$f":"CEILING(SlimFix!$D$50*SlimFix!$J$57/1020,1)","v":0},{"$f":"((H88*SlimFix!$D$35)+(I88*SlimFix!$D$52))*2","v":0},"Schroef 380xØ8",50,8,{"$f":"IF(calcu!$I$35<=0,0,calcu!$I$35)","v":{"$error":"#N/A"}},{"$f":"IF(OR(I88=0,calcu!$U$35<=0),0,calcu!$U$35)","v":{"$error":"#N/A"}},{"$f":"(H88*N88)+(I88*O88)","v":{"$error":"#N/A"}},{"$nulls":3},{"$f":"K88","v":"Schroef 380xØ8"},{"$f":"CEILING((P88+J88)/L88,1)","v":{"$error":"#N/A"}},{"$f":"CEILING((P88+J88)/100,1)","v":{"$error":"#N/A"}},"Luchtdichte afdekprofielen",{"$f":"CEILING((H88*(SlimFix!$J$32/1000))+(I88*(SlimFix!$J$50/1000)),1)","v":0},"Tussen de tengel t.p.v. elke onderliggende gording/muurplaat:",2,"Tussen de tengels t.p.v. de plaatvaste oplegging/muurplaat:"]
["SlimFix-XT Passief M",{"v":8,"d":"8.0"},{"$f":"A89&\" \"&B89","v":"SlimFix-XT Passief M 8"},8,29,"Schroef 340xØ8",50,{"$f":"CEILING(SlimFix!$D$32*SlimFix!$J$44/1020,1)","v":0},{"$f":"CEILING(SlimFix!$D$50*SlimFix!$J$57/1020,1)","v":0},{"$f":"((H89*SlimFix!$D$35)+(I89*SlimFix!$D$52))*2","v":0},"Schroef 340xØ8",50,8,{"$f":"IF(calcu!$I$35<=0,0,calcu!$I$35)","v":{"$error":"#N/A"}},{"$f":"IF(OR(I89=0,calcu!$U$35<=0),0,calcu!$U$35)","v":{"$error":"#N/A"}},{"$f":"(H89*N89)+(I89*O89)","v":{"$error":"#N/A"}},{"$nulls":3},{"$f":"K89","v":"Schroef 340xØ8"},{"$f":"CEILING((P89+J89)/L89,1)","v":{"$error":"#N/A"}},{"$f":"CEILING((P89+J89)/100,1)","v":{"$error":"#N/A"}},"Max naadprofiel + Max luchtdicht afdekprofiel",{"$f":"CEILING((H89*(SlimFix!$J$32/1000))+(I89*(SlimFix!$J$50/1000)),1)","v":0},"Tussen de tengel t.p.v. elke onderliggende gording/muurplaat:",2,"Tussen de tengels t.p.v. de plaatvaste oplegging/muurplaat:"]
["SlimFix-XT Riet","2.5+4.0","SlimFix-XT Riet 2.5+4.0",3,14.1,"Schroef 140xØ6",100,{"$f":"CEILING(SlimFix!$D$32*SlimFix!$J$44/1020,1)","v":0},{"$f":"CEILING(SlimFix!$D$50*SlimFix!$J$57/1020,1)","v":0},{"$f":"((H90*(SlimFix!$D$35))+(I90*(SlimFix!$D$52)))*3","v":0},"Schroef 140xØ6",100,6,{"$f":"IF(calcu!$I$32<=0,0,calcu!$I$32)","v":{"$error":"#N/A"}},{"$f":"IF(OR(I90=0,calcu!$U$32<=0),0,calcu!$U$32)","v":{"$error":"#N/A"}},{"$error":"#N/A"},null,{"$f":"F90","v":"Schroef 140xØ6"},{"$f":"CEILING((J90+P90)/G90,1)","v":{"$error":"#N/A"}},{"$nulls":3},"Luchtdichte afdekprofielen",{"$f":"CEILING((H90*(SlimFix!$J$32/1000))+(I90*(SlimFix!$J$50/1000)),1)","v":0},"T.p.v. elke onderliggende gording/muurplaat:",3,"Extra t.p.v. de plaatvaste oplegging/muurplaat:"]
["SlimFix-XT Riet","3.0+4.0","SlimFix-XT Riet 3.0+4.0",3,14.7,"Schroef 160xØ6",100,{"$f":"CEILING(SlimFix!$D$32*SlimFix!$J$44/1020,1)","v":0},{"$f":"CEILING(SlimFix!$D$50*SlimFix!$J$57/1020,1)","v":0},{"$f":"((H91*(SlimFix!$D$35))+(I91*(SlimFix!$D$52)))*3","v":0},"Schroef 160xØ6",100,6,{"$f":"IF(calcu!$I$32<=0,0,calcu!$I$32)","v":{"$error":"#N/A"}},{"$f":"IF(OR(I91=0,calcu!$U$32<=0),0,calcu!$U$32)","v":{"$error":"#N/A"}},{"$f":"(H91*N91)+(I91*O91)","v":{"$error":"#N/A"}},null,"Schroef 160xØ6",{"$error":"#N/A"},{"$nulls":3},"Luchtdichte afdekprofielen",{"$f":"CEILING((H91*(SlimFix!$J$32/1000))+(I91*(SlimFix!$J$50/1000)),1)","v":0},"T.p.v. elke onderliggende gording/muurplaat:",3,"Extra t.p.v. de plaatvaste oplegging/muurplaat:"]
["SlimFix-XT Riet","3.5+4.0","SlimFix-XT Riet 3.5+4.0",3,15.5,"Schroef 180xØ8",50,{"$f":"CEILING(SlimFix!$D$32*SlimFix!$J$44/1020,1)","v":0},{"$f":"CEILING(SlimFix!$D$50*SlimFix!$J$57/1020,1)","v":0},{"$f":"((H92*(SlimFix!$D$35))+(I92*(SlimFix!$D$52)))*3","v":0},"Schroef 180xØ8",50,8,{"$f":"IF(calcu!$I$33<=0,0,calcu!$I$33)","v":{"$error":"#N/A"}},{"$f":"IF(OR(I92=0,calcu!$U$33<=0),0,calcu!$U$33)","v":{"$error":"#N/A"}},{"$error":"#N/A"},null,"Schroef 180xØ8",{"$error":"#N/A"},{"$nulls":3},"Luchtdichte afdekprofielen",{"$f":"CEILING((H92*(SlimFix!$J$32/1000))+(I92*(SlimFix!$J$50/1000)),1)","v":0},"T.p.v. elke onderliggende gording/muurplaat:",3,"Extra t.p.v. de plaatvaste oplegging/muurplaat:"]
["SlimFix-XT Riet","4.0+4.0","SlimFix-XT Riet 4.0+4.0",3,16.1,"Schroef 200xØ8",50,{"$f":"CEILING(SlimFix!$D$32*SlimFix!$J$44/1020,1)","v":0},{"$f":"CEILING(SlimFix!$D$50*SlimFix!$J$57/1020,1)","v":0},{"$f":"((H93*(SlimFix!$D$35))+(I93*(SlimFix!$D$52)))*3","v":0},"Schroef 200xØ8",50,8,{"$f":"IF(calcu!$I$33<=0,0,calcu!$I$33)","v":{"$error":"#N/A"}},{"$f":"IF(OR(I93=0,calcu!$U$33<=0),0,calcu!$U$33)","v":{"$error":"#N/A"}},{"$error":"#N/A"},null,"Schroef 200xØ8",{"$error":"#N/A"},{"$nulls":3},"Luchtdichte afdekprofielen",{"$f":"CEILING((H93*(SlimFix!$J$32/1000))+(I93*(SlimFix!$J$50/1000)),1)","v":0},"T.p.v. elke onderliggende gording/muurplaat:",3,"Extra t.p.v. de plaatvaste oplegging/muurplaat:"]
["SlimFix-XT Riet","4.5+4.0","SlimFix-XT Riet 4.5+4.0",3,16.8,"Schroef 220xØ8",50,{"$f":"CEILING(SlimFix!$D$32*SlimFix!$J$44/1020,1)","v":0},{"$f":"CEILING(SlimFix!$D$50*SlimFix!$J$57/1020,1)","v":0},{"$f":"((H94*(SlimFix!$D$35))+(I94*(SlimFix!$D$52)))*3","v":0},"Schroef 220xØ8",50,8,{"$f":"IF(calcu!$I$33<=0,0,calcu!$I$33)","v":{"$error":"#N/A"}},{"$f":"IF(OR(I94=0,calcu!$U$33<=0),0,calcu!$U$33)","v":{"$error":"#N/A"}},{"$error":"#N/A"},null,"Schroef 220xØ8",{"$error":"#N/A"},{"$nulls":3},"Luchtdichte afdekprofielen",{"$f":"CEILING((H94*(SlimFix!$J$32/1000))+(I94*(SlimFix!$J$50/1000)),1)","v":0},"T.p.v. elke onderliggende gording/muurplaat:",3,"Extra t.p.v. de plaatvaste oplegging/muurplaat:"]
["SlimFix-XT Riet","5.5+4.0","SlimFix-XT Riet 5.5+4.0",3,18,"Schroef 260xØ8",50,{"$f":"CEILING(SlimFix!$D$32*SlimFix!$J$44/1020,1)","v":0},{"$f":"CEILING(SlimFix!$D$50*SlimFix!$J$57/1020,1)","v":0},{"$f":"((H95*(SlimFix!$D$35))+(I95*(SlimFix!$D$52)))*3","v":0},"Schroef 260xØ8",50,8,{"$f":"IF(calcu!$I$33<=0,0,calcu!$I$33)","v":{"$error":"#N/A"}},{"$f":"IF(OR(I95=0,calcu!$U$33<=0),0,calcu!$U$33)","v":{"$error":"#N/A"}},{"$error":"#N/A"},null,"Schroef 260xØ8",{"$error":"#N/A"},{"$nulls":3},"Luchtdichte afdekprofielen",{"$f":"CEILING((H95*(SlimFix!$J$32/1000))+(I95*(SlimFix!$J$50/1000)),1)","v":0},"T.p.v. elke onderliggende gording/muurplaat:",3,"Extra t.p.v. de plaatvaste oplegging/muurplaat:"]
["SlimFix-XT Riet","6.3+4.0","SlimFix-XT Riet 6.3+4.0",3,18.9,"Schroef 280xØ8",50,{"$f":"CEILING(SlimFix!$D$32*SlimFix!$J$44/1020,1)","v":0},{"$f":"CEILING(SlimFix!$D$50*SlimFix!$J$57/1020,1)","v":0},{"$f":"((H96*(SlimFix!$D$35))+(I96*(SlimFix!$D$52)))*3","v":0},"Schroef 280xØ8",50,8,{"$f":"IF(calcu!$I$33<=0,0,calcu!$I$33)","v":{"$error":"#N/A"}},{"$f":"IF(OR(I96=0,calcu!$U$33<=0),0,calcu!$U$33)","v":{"$error":"#N/A"}},{"$error":"#N/A"},null,"Schroef 280xØ8",{"$error":"#N/A"},{"$nulls":3},"Luchtdichte afdekprofielen",{"$f":"CEILING((H96*(SlimFix!$J$32/1000))+(I96*(SlimFix!$J$50/1000)),1)","v":0},"T.p.v. elke onderliggende gording/muurplaat:",3,"Extra t.p.v. de plaatvaste oplegging/muurplaat:"]
["ATTENTIE: type op alfabetische volgorde"]
[]
[]
["_Type"]
["SlimFix 3/3"]
["SlimFix 3/3L",{"$nulls":18},2,3]
["SlimFix 8/8"]
["SlimFix 8/8L"]
["SlimFix-XT 3/3R"]
["SlimFix-XT 3/3L"]
["SlimFix-XT 8/8R"]
["SlimFix-XT 8/8L"]
["SlimFix-XT Passief"]
["SlimFix-XT PassiefM"]
["SlimFix-XT Riet"]
[]
[]
[2]
[3]
[4]
[5]
[6]
[]
[]
["1,2 of 3 bouwlagen (ééngezinswoning)"]
["Meer dan 3 bouwlagen (appartement, openbaar gebouw)"]

{"sheet":"lijst reno","index":7,"n_rows":15,"n_cols":13,"rows_kept":15,"hidden":true,"merged":[[0,0,2,2],[0,3,0,5],[1,3,1,5],[2,3,2,5],[14,0,18,9]]}
["Keuzevelden",null,null,"AANTAL BEVESTIGERS PER PLAAT"]
[]
[{"$nulls":3},"t.p.v. kruising tengel/gording",null,null,"dakvlak 1","dakvlak 2"]
["type","RC-waarde",null,"type","aantal","maat","aantal elem.","aantal elem.","schroef tot.",{"$nulls":3},"type"]
["SlimFix Reno+",2.5,{"$f":"A5&\" \"&B5","v":"SlimFix Reno+ 2,5"},"Schroef",6,"140xØ6",{"$f":"CEILING('SlimFix Reno+'!$D$29*'SlimFix Reno+'!$D$36/1000,1)","v":0},{"$f":"CEILING('SlimFix Reno+'!$D$40*'SlimFix Reno+'!$D$45/1000,1)","v":0},{"$f":"((G5*'SlimFix Reno+'!$D$32)+(H5*'SlimFix Reno+'!$D$42))*3","v":0},{"$nulls":3},{"$f":"'SlimFix Reno+'!D11&\" \"&'SlimFix Reno+'!J11","v":"SlimFix Reno+ "}]
["SlimFix Reno+",{"v":3,"d":"3.0"},{"$f":"A6&\" \"&B6","v":"SlimFix Reno+ 3"},"Schroef",6,"140xØ6",{"$nulls":3},"Horizontale RenoGoot S (1,95 m, RAL 7021)*","Verticale RenoGoot S (1,6 m, RAL 7021)"]
["SlimFix Reno+",3.5,"SlimFix Reno+ 3,5","Schroef",6,"160xØ6",{"$nulls":3},"Horizontale RenoGoot S (1,95 m, RAL 7021)*","Verticale RenoGoot S (1,6 m, RAL 7021)"]
["SlimFix Reno+",{"v":4,"d":"4.0"},"SlimFix Reno+ 4","Schroef",6,"180xØ6",{"$nulls":3},"Horizontale RenoGoot M (1,95 m, RAL 7021)*","Verticale RenoGoot M (1,6 m, RAL 7021)"]
["SlimFix Reno+",4.5,"SlimFix Reno+ 4,5","Schroef",6,"200xØ6",{"$nulls":3},"Horizontale RenoGoot M (1,95 m, RAL 7021)*","Verticale RenoGoot M (1,6 m, RAL 7021)"]
["SlimFix Reno+",{"v":5,"d":"5.0"},"SlimFix Reno+ 5","Schroef",6,"200xØ6",{"$nulls":3},"Horizontale RenoGoot M (1,95 m, RAL 7021)*","Verticale RenoGoot M (1,6 m, RAL 7021)"]
["SlimFix Reno+",6.3,"SlimFix Reno+ 6,3","Schroef",6,"260xØ6",{"$nulls":3},"Horizontale RenoGoot L (1,95 m, RAL 7021)*","Verticale RenoGoot L (1,6 m, RAL 7021)"]
["SlimFix Reno+",{"v":7,"d":"7.0"},"SlimFix Reno+ 7","Schroef",6,"280xØ6",{"$nulls":3},"Horizontale RenoGoot L (1,95 m, RAL 7021)*","Verticale RenoGoot L (1,6 m, RAL 7021)"]
["SlimFix Reno+",{"v":8,"d":"8.0"},"SlimFix Reno+ 8","Schroef",6,"300xØ6",{"$nulls":3},"Horizontale RenoGoot L (1,95 m, RAL 7021)*","Verticale RenoGoot L (1,6 m, RAL 7021)"]
[]
["* Het Horizontale RenoGoot-pakket bevat: 6x Horizontale RenoGoot (bestaande uit een kopplaat en een gootdeel), 14x brackets (ter versteviging\nen koppeling) en 30x RVS-schroeven met verzonken kop Ø4 mm x 32 mm TX.\n** Het Verticale RenoGoot-pakket bevat: 4x Verticale RenoGoot (bestaande uit een verholen goot en een afdekkap), 4x schuimrubberband (1,5 m) en 24x RVS-boorschroeven + rubberring Ø4.8 mm x 32 mm TX.\nAttentie: Bij gebruik van de RenoGoot altijd de SlimFix Reno+ platen met gootdetail bestellen."]

{"sheet":"lijst renotwin","index":8,"n_rows":326,"n_cols":14,"rows_kept":326,"hidden":true,"merged":[[17,0,21,10]]}
["Keuzevelden"]
[]
[{"$nulls":3},"dakvlak 1","dakvlak 2","dakvlak 1","dakvlak 2"]
["type","RC-waarde",null,"aantal elem.","aantal elem.","schroef tot.","schroef tot.",{"$nulls":3},"Afstand tussen schroeven in mm bij 67° bevestiging","Benodigde lengte in mm RenoTwin schroef",null,"type"]
["SlimFix RenoTwin",3.5,{"$f":"A5&\" \"&B5","v":"SlimFix RenoTwin 3,5"},{"$f":"CEILING('SlimFix RenoTwin'!$D$31*'SlimFix RenoTwin'!$J$41/1000,1)","v":0},{"$f":"CEILING('SlimFix RenoTwin'!$D$48*'SlimFix RenoTwin'!$J$54/1000,1)","v":0},{"$f":"((D5*'SlimFix RenoTwin'!$D$34))*3","v":0},{"$f":"((E5*'SlimFix RenoTwin'!D50))*3","v":0},"Horizontale RenoGoot S (1,95 m, RAL 7021)*","Verticale RenoGoot S (1,6 m, RAL 7021)",null,"(100","8x255",null,{"$f":"'SlimFix RenoTwin'!D11&\" \"&'SlimFix RenoTwin'!J11","v":"SlimFix RenoTwin "}]
["SlimFix RenoTwin",{"v":4,"d":"4.0"},"SlimFix RenoTwin 4",{"$nulls":4},"Horizontale RenoGoot M (1,95 m, RAL 7021)*","Verticale RenoGoot M (1,6 m, RAL 7021)",null,"(115","8x275"]
["SlimFix RenoTwin",4.5,"SlimFix RenoTwin 4,5",{"$nulls":4},"Horizontale RenoGoot M (1,95 m, RAL 7021)*","Verticale RenoGoot M (1,6 m, RAL 7021)",null,"(125","8x302"]
["SlimFix RenoTwin",{"v":5,"d":"5.0"},"SlimFix RenoTwin 5",{"$nulls":4},"Horizontale RenoGoot L (1,95 m, RAL 7021)*","Verticale RenoGoot L (1,6 m, RAL 7021)",null,"(125","8x302"]
["SlimFix RenoTwin",5.5,"SlimFix RenoTwin 5,5",{"$nulls":4},"Horizontale RenoGoot L (1,95 m, RAL 7021)*","Verticale RenoGoot L (1,6 m, RAL 7021)",null,"(140","8x335"]
["SlimFix RenoTwin",6.3,"SlimFix RenoTwin 6,3",{"$nulls":4},"Horizontale RenoGoot L (1,95 m, RAL 7021)*","Verticale RenoGoot L (1,6 m, RAL 7021)",null,"(140","8x365"]
["SlimFix RenoTwin",6.7,"SlimFix RenoTwin 6,7",{"$nulls":4},"Horizontale RenoGoot L (1,95 m, RAL 7021)*","Verticale RenoGoot L (1,6 m, RAL 7021)",null,"(150","8x365"]
["SlimFix RenoTwin",{"v":7,"d":"7.0"},"SlimFix RenoTwin 7",{"$nulls":4},"Horizontale RenoGoot L (1,95 m, RAL 7021)*","Verticale RenoGoot L (1,6 m, RAL 7021)",null,"(150","8x365"]
["SlimFix RenoTwin",{"v":8,"d":"8.0"},"SlimFix RenoTwin 8",{"$nulls":4},"Horizontale RenoGoot L (1,95 m, RAL 7021)*","Verticale RenoGoot L (1,6 m, RAL 7021)",null,"(160","8x397"]
["SlimFix RenoTwin",{"v":9,"d":"9.0"},"SlimFix RenoTwin 9",{"$nulls":4},"Horizontale RenoGoot L (1,95 m, RAL 7021)*","Verticale RenoGoot L (1,6 m, RAL 7021)",null,"(180","8x435"]
[]
[]
[]
["* Het Horizontale RenoGoot-pakket bevat: 6x Horizontale RenoGoot (bestaande uit een kopplaat en een gootdeel), 14x brackets (ter versteviging\nen koppeling) en 30x RVS-schroeven met verzonken kop Ø4 mm x 32 mm TX.\n** Het Verticale RenoGoot-pakket bevat: 4x Verticale RenoGoot (bestaande uit een verholen goot en een afdekkap), 4x schuimrubberband (1,5 m) en 24x RVS-boorschroeven + rubberring Ø4.8 mm x 32 mm TX.\nAttentie: Bij gebruik van de RenoGoot altijd de SlimFix Reno+ platen met gootdetail bestellen."]
{"$rows_empty":7}
["type",null,"doorbuiging","dakpakket","schroef",null,"doorbuiging","pakket",null,"schroef","eenheid"]
["SlimFix RenoTwin 3,5",{"$f":"CONCATENATE(A27&C27&D27)","v":"SlimFix RenoTwin 3,5022"},0,22,"8x195",null,"_kies","_kies",null,"8x195","50st./ds",50]
["SlimFix RenoTwin 3,5","SlimFix RenoTwin 3,5040",0,40,"8x195",null,0,22,null,"8x225","50st./ds",50]
["SlimFix RenoTwin 3,5","SlimFix RenoTwin 3,5050",0,50,"8x225",null,20,40,null,"8x235","50st./ds",50]
["SlimFix RenoTwin 3,5","SlimFix RenoTwin 3,5060",0,60,"8x225",null,30,50,null,"8x255","50st./ds",50]
["SlimFix RenoTwin 3,5","SlimFix RenoTwin 3,5070",0,70,"8x225",null,null,60,null,"8x275","50st./ds",50]
["SlimFix RenoTwin 3,5","SlimFix RenoTwin 3,52022",20,22,"8x195",null,null,70,null,"8x302","50st./ds",50]
["SlimFix RenoTwin 3,5","SlimFix RenoTwin 3,52040",20,40,"8x225",null,"_kies",null,null,"8x335","50st./ds",50]
["SlimFix RenoTwin 3,5","SlimFix RenoTwin 3,52050",20,50,"8x225",null,"Ja",null,null,"8x365","50st./ds",50]
["SlimFix RenoTwin 3,5","SlimFix RenoTwin 3,52060",20,60,"8x235",null,"Nee",null,null,"8x397","50st./ds",50]
["SlimFix RenoTwin 3,5","SlimFix RenoTwin 3,52070",20,70,"8x255",{"$nulls":4},"8x435","25st./ds",25]
["SlimFix RenoTwin 3,5","SlimFix RenoTwin 3,53022",30,22,"8x225",{"$nulls":4},"8x472","25st./ds",25]
["SlimFix RenoTwin 3,5","SlimFix RenoTwin 3,53040",30,40,"8x225",{"$nulls":4},"n.v.t."]
["SlimFix RenoTwin 3,5","SlimFix RenoTwin 3,53050",30,50,"8x235"]
["SlimFix RenoTwin 3,5","SlimFix RenoTwin 3,53060",30,60,"8x255"]
["SlimFix RenoTwin 3,5","SlimFix RenoTwin 3,53070",30,70,"8x255",{"$nulls":3},"dakvlak 1"]
["SlimFix RenoTwin 4,5","SlimFix RenoTwin 4,5022",0,22,"8x225",{"$nulls":3},{"$f":"'SlimFix RenoTwin'!D39","v":"_kies"},0,20,30]
["SlimFix RenoTwin 4,5","SlimFix RenoTwin 4,5040",0,40,"8x225",{"$nulls":3},"_kies"]
["SlimFix RenoTwin 4,5",{"$f":"CONCATENATE(A44&C44&D44)","v":"SlimFix RenoTwin 4,5050"},0,50,"8x235",{"$nulls":3},{"$f":"IF(HLOOKUP($I$42,$J$42:$L$48,3)>0,HLOOKUP($I$42,$J$42:$L$48,3),\" \")","v":{"$error":"#N/A"}},40,22,22]
["SlimFix RenoTwin 4,5","SlimFix RenoTwin 4,5060",0,60,"8x255",{"$nulls":3},{"$f":"IF(HLOOKUP($I$42,$J$42:$L$48,4)>0,HLOOKUP($I$42,$J$42:$L$48,4),\" \")","v":{"$error":"#N/A"}},50,40,40]
["SlimFix RenoTwin 4,5","SlimFix RenoTwin 4,5070",0,70,"8x255",{"$nulls":3},{"$f":"IF(HLOOKUP($I$42,$J$42:$L$48,5)>0,HLOOKUP($I$42,$J$42:$L$48,5),\" \")","v":{"$error":"#N/A"}},60,50,50]
["SlimFix RenoTwin 4,5","SlimFix RenoTwin 4,52022",20,22,"8x235",{"$nulls":3},{"$f":"IF(HLOOKUP($I$42,$J$42:$L$48,6)>0,HLOOKUP($I$42,$J$42:$L$48,6),\" \")","v":{"$error":"#N/A"}},70,60,60]
["SlimFix RenoTwin 4,5","SlimFix RenoTwin 4,52040",20,40,"8x255",{"$nulls":3},{"$f":"IF(HLOOKUP($I$42,$J$42:$L$48,7)>0,HLOOKUP($I$42,$J$42:$L$48,7),\" \")","v":{"$error":"#N/A"}},null,70,70]
["SlimFix RenoTwin 4,5","SlimFix RenoTwin 4,52050",20,50,"8x255",{"$nulls":3},"dakvlak 2"]
["SlimFix RenoTwin 4,5","SlimFix RenoTwin 4,52060",20,60,"8x275",{"$nulls":3},{"$f":"'SlimFix RenoTwin'!D52","v":"_kies"},0,20,30]
["SlimFix RenoTwin 4,5","SlimFix RenoTwin 4,52070",20,70,"8x275",{"$nulls":3},"_kies"]
["SlimFix RenoTwin 4,5","SlimFix RenoTwin 4,53022",30,22,"8x255",{"$nulls":3},{"$f":"IF(HLOOKUP($I$50,$J$50:$L$56,3)>0,HLOOKUP($I$50,$J$50:$L$56,3),\" \")","v":{"$error":"#N/A"}},40,22,22]
["SlimFix RenoTwin 4,5","SlimFix RenoTwin 4,53040",30,40,"8x255",{"$nulls":3},{"$f":"IF(HLOOKUP($I$50,$J$50:$L$56,4)>0,HLOOKUP($I$50,$J$50:$L$56,4),\" \")","v":{"$error":"#N/A"}},50,40,40]
["SlimFix RenoTwin 4,5","SlimFix RenoTwin 4,53050",30,50,"8x275",{"$nulls":3},{"$f":"IF(HLOOKUP($I$50,$J$50:$L$56,5)>0,HLOOKUP($I$50,$J$50:$L$56,5),\" \")","v":{"$error":"#N/A"}},60,50,50]
["SlimFix RenoTwin 4,5","SlimFix RenoTwin 4,53060",30,60,"8x275",{"$nulls":3},{"$f":"IF(HLOOKUP($I$50,$J$50:$L$56,6)>0,HLOOKUP($I$50,$J$50:$L$56,6),\" \")","v":{"$error":"#N/A"}},70,60,60]
["SlimFix RenoTwin 4,5","SlimFix RenoTwin 4,53070",30,70,"8x302",{"$nulls":3},{"$f":"IF(HLOOKUP($I$50,$J$50:$L$56,7)>0,HLOOKUP($I$50,$J$50:$L$56,7),\" \")","v":{"$error":"#N/A"}},null,70,70]
["SlimFix RenoTwin 4","SlimFix RenoTwin 4022",0,22,"8x195"]
["SlimFix RenoTwin 4","SlimFix RenoTwin 4040",0,40,"8x225"]
["SlimFix RenoTwin 4","SlimFix RenoTwin 4050",0,50,"8x225",{"$nulls":3},"Type","Afstand tussen schroeven in mm bij 67° bevestiging","Benodigde lengte in mm RenoTwin schroef"]
["SlimFix RenoTwin 4","SlimFix RenoTwin 4060",0,60,"8x235",{"$nulls":3},"RenoTwin 3.5","(100",255]
["SlimFix RenoTwin 4","SlimFix RenoTwin 4070",0,70,"8x255",{"$nulls":3},"RenoTwin 4.0","(115",275]
["SlimFix RenoTwin 4","SlimFix RenoTwin 42022",20,22,"8x225",{"$nulls":3},"RenoTwin 4.5","(125",302]
["SlimFix RenoTwin 4","SlimFix RenoTwin 42040",20,40,"8x235",{"$nulls":3},"RenoTwin 5.0","(125",302]
["SlimFix RenoTwin 4","SlimFix RenoTwin 42050",20,50,"8x255",{"$nulls":3},"RenoTwin 5.5","(140",335]
["SlimFix RenoTwin 4","SlimFix RenoTwin 42060",20,60,"8x255",{"$nulls":3},"RenoTwin 6.3",140,365]
["SlimFix RenoTwin 4","SlimFix RenoTwin 42070",20,70,"8x275",{"$nulls":3},"RenoTwin 6.7",150,365]
["SlimFix RenoTwin 4","SlimFix RenoTwin 43022",30,22,"8x225",{"$nulls":3},"RenoTwin 7.0",150,365]
["SlimFix RenoTwin 4","SlimFix RenoTwin 43040",30,40,"8x255",{"$nulls":3},"RenoTwin 8.0",160,397]
["SlimFix RenoTwin 4","SlimFix RenoTwin 43050",30,50,"8x255",{"$nulls":3},"RenoTwin 9.0",180,435]
["SlimFix RenoTwin 4","SlimFix RenoTwin 43060",30,60,"8x275"]
["SlimFix RenoTwin 4","SlimFix RenoTwin 43070",30,70,"8x275"]
["SlimFix RenoTwin 5,5","SlimFix RenoTwin 5,5022",0,22,"8x235"]
["SlimFix RenoTwin 5,5","SlimFix RenoTwin 5,5040",0,40,"8x255"]
["SlimFix RenoTwin 5,5","SlimFix RenoTwin 5,5050",0,50,"8x275"]
["SlimFix RenoTwin 5,5","SlimFix RenoTwin 5,5060",0,60,"8x275"]
["SlimFix RenoTwin 5,5",{"$f":"CONCATENATE(A76&C76&D76)","v":"SlimFix RenoTwin 5,5070"},0,70,"8x302"]
["SlimFix RenoTwin 5,5","SlimFix RenoTwin 5,52022",20,22,"8x255"]
["SlimFix RenoTwin 5,5","SlimFix RenoTwin 5,52040",20,40,"8x275"]
["SlimFix RenoTwin 5,5","SlimFix RenoTwin 5,52050",20,50,"8x302"]
["SlimFix RenoTwin 5,5","SlimFix RenoTwin 5,52060",20,60,"8x302"]
["SlimFix RenoTwin 5,5","SlimFix RenoTwin 5,52070",20,70,"8x302"]
["SlimFix RenoTwin 5,5","SlimFix RenoTwin 5,53022",30,22,"8x275"]
["SlimFix RenoTwin 5,5","SlimFix RenoTwin 5,53040",30,40,"8x302"]
["SlimFix RenoTwin 5,5","SlimFix RenoTwin 5,53050",30,50,"8x302"]
["SlimFix RenoTwin 5,5","SlimFix RenoTwin 5,53060",30,60,"8x302"]
["SlimFix RenoTwin 5,5","SlimFix RenoTwin 5,53070",30,70,"8x335"]
["SlimFix RenoTwin 5","SlimFix RenoTwin 5022",0,22,"8x225"]
["SlimFix RenoTwin 5","SlimFix RenoTwin 5040",0,40,"8x255"]
["SlimFix RenoTwin 5","SlimFix RenoTwin 5050",0,50,"8x255"]
["SlimFix RenoTwin 5","SlimFix RenoTwin 5060",0,60,"8x275"]
["SlimFix RenoTwin 5","SlimFix RenoTwin 5070",0,70,"8x275"]
["SlimFix RenoTwin 5","SlimFix RenoTwin 52022",20,22,"8x255"]
["SlimFix RenoTwin 5","SlimFix RenoTwin 52040",20,40,"8x275"]
["SlimFix RenoTwin 5","SlimFix RenoTwin 52050",20,50,"8x275"]
["SlimFix RenoTwin 5","SlimFix RenoTwin 52060",20,60,"8x302"]
["SlimFix RenoTwin 5","SlimFix RenoTwin 52070",20,70,"8x302"]
["SlimFix RenoTwin 5","SlimFix RenoTwin 53022",30,22,"8x255"]
["SlimFix RenoTwin 5","SlimFix RenoTwin 53040",30,40,"8x275"]
["SlimFix RenoTwin 5","SlimFix RenoTwin 53050",30,50,"8x302"]
["SlimFix RenoTwin 5","SlimFix RenoTwin 53060",30,60,"8x302"]
["SlimFix RenoTwin 5","SlimFix RenoTwin 53070",30,70,"8x302"]
["SlimFix RenoTwin 6,3","SlimFix RenoTwin 6,3022",0,22,"8x275"]
["SlimFix RenoTwin 6,3","SlimFix RenoTwin 6,3040",0,40,"8x302"]
["SlimFix RenoTwin 6,3","SlimFix RenoTwin 6,3050",0,50,"8x302"]
["SlimFix RenoTwin 6,3","SlimFix RenoTwin 6,3060",0,60,"8x302"]
["SlimFix RenoTwin 6,3","SlimFix RenoTwin 6,3070",0,70,"8x335"]
["SlimFix RenoTwin 6,3","SlimFix RenoTwin 6,32022",20,22,"8x302"]
["SlimFix RenoTwin 6,3",{"$f":"CONCATENATE(A108&C108&D108)","v":"SlimFix RenoTwin 6,32040"},20,40,"8x302"]
["SlimFix RenoTwin 6,3","SlimFix RenoTwin 6,32050",20,50,"8x335"]
["SlimFix RenoTwin 6,3","SlimFix RenoTwin 6,32060",20,60,"8x335"]
["SlimFix RenoTwin 6,3","SlimFix RenoTwin 6,32070",20,70,"8x335"]
["SlimFix RenoTwin 6,3","SlimFix RenoTwin 6,33022",30,22,"8x302"]
["SlimFix RenoTwin 6,3","SlimFix RenoTwin 6,33040",30,40,"8x335"]
["SlimFix RenoTwin 6,3","SlimFix RenoTwin 6,33050",30,50,"8x335"]
["SlimFix RenoTwin 6,3","SlimFix RenoTwin 6,33060",30,60,"8x335"]
["SlimFix RenoTwin 6,3","SlimFix RenoTwin 6,33070",30,70,"8x365"]
["SlimFix RenoTwin 6,7","SlimFix RenoTwin 6,7022",0,22,"8x275"]
["SlimFix RenoTwin 6,7","SlimFix RenoTwin 6,7040",0,40,"8x302"]
["SlimFix RenoTwin 6,7","SlimFix RenoTwin 6,7050",0,50,"8x302"]
["SlimFix RenoTwin 6,7","SlimFix RenoTwin 6,7060",0,60,"8x335"]
["SlimFix RenoTwin 6,7","SlimFix RenoTwin 6,7070",0,70,"8x335"]
["SlimFix RenoTwin 6,7","SlimFix RenoTwin 6,72022",20,22,"8x302"]
["SlimFix RenoTwin 6,7","SlimFix RenoTwin 6,72040",20,40,"8x335"]
["SlimFix RenoTwin 6,7","SlimFix RenoTwin 6,72050",20,50,"8x335"]
["SlimFix RenoTwin 6,7","SlimFix RenoTwin 6,72060",20,60,"8x335"]
["SlimFix RenoTwin 6,7","SlimFix RenoTwin 6,72070",20,70,"8x365"]
["SlimFix RenoTwin 6,7","SlimFix RenoTwin 6,73022",30,22,"8x302"]
["SlimFix RenoTwin 6,7","SlimFix RenoTwin 6,73040",30,40,"8x335"]
["SlimFix RenoTwin 6,7","SlimFix RenoTwin 6,73050",30,50,"8x335"]
["SlimFix RenoTwin 6,7","SlimFix RenoTwin 6,73060",30,60,"8x365"]
["SlimFix RenoTwin 6,7","SlimFix RenoTwin 6,73070",30,70,"8x365"]
["SlimFix RenoTwin 7","SlimFix RenoTwin 7022",0,22,"8x302"]
["SlimFix RenoTwin 7","SlimFix RenoTwin 7040",0,40,"8x302"]
["SlimFix RenoTwin 7","SlimFix RenoTwin 7050",0,50,"8x335"]
["SlimFix RenoTwin 7","SlimFix RenoTwin 7060",0,60,"8x335"]
["SlimFix RenoTwin 7","SlimFix RenoTwin 7070",0,70,"8x335"]
["SlimFix RenoTwin 7","SlimFix RenoTwin 72022",20,22,"8x302"]
["SlimFix RenoTwin 7","SlimFix RenoTwin 72040",20,40,"8x335"]
["SlimFix RenoTwin 7","SlimFix RenoTwin 72050",20,50,"8x335"]
["SlimFix RenoTwin 7",{"$f":"CONCATENATE(A140&C140&D140)","v":"SlimFix RenoTwin 72060"},20,60,"8x365"]
["SlimFix RenoTwin 7","SlimFix RenoTwin 72070",20,70,"8x365"]
["SlimFix RenoTwin 7","SlimFix RenoTwin 73022",30,22,"8x335"]
["SlimFix RenoTwin 7","SlimFix RenoTwin 73040",30,40,"8x335"]
["SlimFix RenoTwin 7","SlimFix RenoTwin 73050",30,50,"8x365"]
["SlimFix RenoTwin 7","SlimFix RenoTwin 73060",30,60,"8x365"]
["SlimFix RenoTwin 7","SlimFix RenoTwin 73070",30,70,"8x365"]
["SlimFix RenoTwin 8","SlimFix RenoTwin 8022",0,22,"8x335"]
["SlimFix RenoTwin 8","SlimFix RenoTwin 8040",0,40,"8x335"]
["SlimFix RenoTwin 8","SlimFix RenoTwin 8050",0,50,"8x365"]
["SlimFix RenoTwin 8","SlimFix RenoTwin 8060",0,60,"8x365"]
["SlimFix RenoTwin 8","SlimFix RenoTwin 8070",0,70,"8x365"]
["SlimFix RenoTwin 8","SlimFix RenoTwin 82022",20,22,"8x365"]
["SlimFix RenoTwin 8","SlimFix RenoTwin 82040",20,40,"8x365"]
["SlimFix RenoTwin 8","SlimFix RenoTwin 82050",20,50,"8x365"]
["SlimFix RenoTwin 8","SlimFix RenoTwin 82060",20,60,"8x397"]
["SlimFix RenoTwin 8","SlimFix RenoTwin 82070",20,70,"8x397"]
["SlimFix RenoTwin 8","SlimFix RenoTwin 83022",30,22,"8x365"]
["SlimFix RenoTwin 8","SlimFix RenoTwin 83040",30,40,"8x365"]
["SlimFix RenoTwin 8","SlimFix RenoTwin 83050",30,50,"8x397"]
["SlimFix RenoTwin 8","SlimFix RenoTwin 83060",30,60,"8x397"]
["SlimFix RenoTwin 8","SlimFix RenoTwin 83070",30,70,"8x397"]
["SlimFix RenoTwin 9","SlimFix RenoTwin 9022",0,22,"8x365"]
["SlimFix RenoTwin 9","SlimFix RenoTwin 9040",0,40,"8x397"]
["SlimFix RenoTwin 9","SlimFix RenoTwin 9050",0,50,"8x397"]
["SlimFix RenoTwin 9","SlimFix RenoTwin 9060",0,60,"8x397"]
["SlimFix RenoTwin 9","SlimFix RenoTwin 9070",0,70,"8x435"]
["SlimFix RenoTwin 9","SlimFix RenoTwin 92022",20,22,"8x397"]
["SlimFix RenoTwin 9","SlimFix RenoTwin 92040",20,40,"8x397"]
["SlimFix RenoTwin 9","SlimFix RenoTwin 92050",20,50,"8x435"]
["SlimFix RenoTwin 9","SlimFix RenoTwin 92060",20,60,"8x435"]
["SlimFix RenoTwin 9","SlimFix RenoTwin 92070",20,70,"8x435"]
["SlimFix RenoTwin 9",{"$f":"CONCATENATE(A172&C172&D172)","v":"SlimFix RenoTwin 93022"},30,22,"8x397"]
["SlimFix RenoTwin 9","SlimFix RenoTwin 93040",30,40,"8x435"]
["SlimFix RenoTwin 9","SlimFix RenoTwin 93050",30,50,"8x435"]
["SlimFix RenoTwin 9","SlimFix RenoTwin 93060",30,60,"8x435"]
["SlimFix RenoTwin 9","SlimFix RenoTwin 93070",30,70,"8x435"]
["SlimFix RenoTwin Solar 3.5",{"$f":"CONCATENATE(A177&C177&D177)","v":"SlimFix RenoTwin Solar 3.5022"},0,22,"8x195"]
["SlimFix RenoTwin Solar 3.5","SlimFix RenoTwin Solar 3.5040",0,40,"8x195"]
["SlimFix RenoTwin Solar 3.5","SlimFix RenoTwin Solar 3.5050",0,50,"8x225"]
["SlimFix RenoTwin Solar 3.5","SlimFix RenoTwin Solar 3.5060",0,60,"8x225"]
["SlimFix RenoTwin Solar 3.5","SlimFix RenoTwin Solar 3.5070",0,70,"8x225"]
["SlimFix RenoTwin Solar 3.5","SlimFix RenoTwin Solar 3.52022",20,22,"8x195"]
["SlimFix RenoTwin Solar 3.5","SlimFix RenoTwin Solar 3.52040",20,40,"8x225"]
["SlimFix RenoTwin Solar 3.5","SlimFix RenoTwin Solar 3.52050",20,50,"8x225"]
["SlimFix RenoTwin Solar 3.5","SlimFix RenoTwin Solar 3.52060",20,60,"8x235"]
["SlimFix RenoTwin Solar 3.5","SlimFix RenoTwin Solar 3.52070",20,70,"8x255"]
["SlimFix RenoTwin Solar 3.5","SlimFix RenoTwin Solar 3.53022",30,22,"8x225"]
["SlimFix RenoTwin Solar 3.5","SlimFix RenoTwin Solar 3.53040",30,40,"8x225"]
["SlimFix RenoTwin Solar 3.5",{"$f":"CONCATENATE(A189&C189&D189)","v":"SlimFix RenoTwin Solar 3.53050"},30,50,"8x235"]
["SlimFix RenoTwin Solar 3.5","SlimFix RenoTwin Solar 3.53060",30,60,"8x255"]
["SlimFix RenoTwin Solar 3.5","SlimFix RenoTwin Solar 3.53070",30,70,"8x255"]
["SlimFix RenoTwin Solar 4.0","SlimFix RenoTwin Solar 4.0022",0,22,"8x195"]
["SlimFix RenoTwin Solar 4.0","SlimFix RenoTwin Solar 4.0040",0,40,"8x225"]
["SlimFix RenoTwin Solar 4.0","SlimFix RenoTwin Solar 4.0050",0,50,"8x225"]
["SlimFix RenoTwin Solar 4.0","SlimFix RenoTwin Solar 4.0060",0,60,"8x235"]
["SlimFix RenoTwin Solar 4.0","SlimFix RenoTwin Solar 4.0070",0,70,"8x255"]
["SlimFix RenoTwin Solar 4.0","SlimFix RenoTwin Solar 4.02022",20,22,"8x225"]
["SlimFix RenoTwin Solar 4.0","SlimFix RenoTwin Solar 4.02040",20,40,"8x235"]
["SlimFix RenoTwin Solar 4.0","SlimFix RenoTwin Solar 4.02050",20,50,"8x255"]
["SlimFix RenoTwin Solar 4.0","SlimFix RenoTwin Solar 4.02060",20,60,"8x255"]
["SlimFix RenoTwin Solar 4.0","SlimFix RenoTwin Solar 4.02070",20,70,"8x275"]
["SlimFix RenoTwin Solar 4.0","SlimFix RenoTwin Solar 4.03022",30,22,"8x225"]
["SlimFix RenoTwin Solar 4.0","SlimFix RenoTwin Solar 4.03040",30,40,"8x255"]
["SlimFix RenoTwin Solar 4.0","SlimFix RenoTwin Solar 4.03050",30,50,"8x255"]
["SlimFix RenoTwin Solar 4.0","SlimFix RenoTwin Solar 4.03060",30,60,"8x275"]
["SlimFix RenoTwin Solar 4.0","SlimFix RenoTwin Solar 4.03070",30,70,"8x275"]
["SlimFix RenoTwin Solar 4.5","SlimFix RenoTwin Solar 4.5022",0,22,"8x225"]
["SlimFix RenoTwin Solar 4.5","SlimFix RenoTwin Solar 4.5040",0,40,"8x225"]
["SlimFix RenoTwin Solar 4.5","SlimFix RenoTwin Solar 4.5050",0,50,"8x235"]
["SlimFix RenoTwin Solar 4.5","SlimFix RenoTwin Solar 4.5060",0,60,"8x255"]
["SlimFix RenoTwin Solar 4.5","SlimFix RenoTwin Solar 4.5070",0,70,"8x255"]
["SlimFix RenoTwin Solar 4.5","SlimFix RenoTwin Solar 4.52022",20,22,"8x235"]
["SlimFix RenoTwin Solar 4.5","SlimFix RenoTwin Solar 4.52040",20,40,"8x255"]
["SlimFix RenoTwin Solar 4.5","SlimFix RenoTwin Solar 4.52050",20,50,"8x255"]
["SlimFix RenoTwin Solar 4.5","SlimFix RenoTwin Solar 4.52060",20,60,"8x275"]
["SlimFix RenoTwin Solar 4.5","SlimFix RenoTwin Solar 4.52070",20,70,"8x275"]
["SlimFix RenoTwin Solar 4.5","SlimFix RenoTwin Solar 4.53022",30,22,"8x255"]
["SlimFix RenoTwin Solar 4.5","SlimFix RenoTwin Solar 4.53040",30,40,"8x255"]
["SlimFix RenoTwin Solar 4.5","SlimFix RenoTwin Solar 4.53050",30,50,"8x275"]
["SlimFix RenoTwin Solar 4.5","SlimFix RenoTwin Solar 4.53060",30,60,"8x275"]
["SlimFix RenoTwin Solar 4.5","SlimFix RenoTwin Solar 4.53070",30,70,"8x302"]
["SlimFix RenoTwin Solar 5.0","SlimFix RenoTwin Solar 5.0022",0,22,"8x225"]
["SlimFix RenoTwin Solar 5.0","SlimFix RenoTwin Solar 5.0040",0,40,"8x255"]
["SlimFix RenoTwin Solar 5.0","SlimFix RenoTwin Solar 5.0050",0,50,"8x255"]
["SlimFix RenoTwin Solar 5.0","SlimFix RenoTwin Solar 5.0060",0,60,"8x275"]
["SlimFix RenoTwin Solar 5.0","SlimFix RenoTwin Solar 5.0070",0,70,"8x275"]
["SlimFix RenoTwin Solar 5.0","SlimFix RenoTwin Solar 5.02022",20,22,"8x255"]
["SlimFix RenoTwin Solar 5.0","SlimFix RenoTwin Solar 5.02040",20,40,"8x275"]
["SlimFix RenoTwin Solar 5.0","SlimFix RenoTwin Solar 5.02050",20,50,"8x275"]
["SlimFix RenoTwin Solar 5.0","SlimFix RenoTwin Solar 5.02060",20,60,"8x302"]
["SlimFix RenoTwin Solar 5.0","SlimFix RenoTwin Solar 5.02070",20,70,"8x302"]
["SlimFix RenoTwin Solar 5.0","SlimFix RenoTwin Solar 5.03022",30,22,"8x255"]
["SlimFix RenoTwin Solar 5.0","SlimFix RenoTwin Solar 5.03040",30,40,"8x275"]
["SlimFix RenoTwin Solar 5.0","SlimFix RenoTwin Solar 5.03050",30,50,"8x302"]
["SlimFix RenoTwin Solar 5.0","SlimFix RenoTwin Solar 5.03060",30,60,"8x302"]
["SlimFix RenoTwin Solar 5.0","SlimFix RenoTwin Solar 5.03070",30,70,"8x302"]
["SlimFix RenoTwin Solar 5.5","SlimFix RenoTwin Solar 5.5022",0,22,"8x235"]
["SlimFix RenoTwin Solar 5.5","SlimFix RenoTwin Solar 5.5040",0,40,"8x255"]
["SlimFix RenoTwin Solar 5.5","SlimFix RenoTwin Solar 5.5050",0,50,"8x275"]
["SlimFix RenoTwin Solar 5.5","SlimFix RenoTwin Solar 5.5060",0,60,"8x275"]
["SlimFix RenoTwin Solar 5.5","SlimFix RenoTwin Solar 5.5070",0,70,"8x302"]
["SlimFix RenoTwin Solar 5.5","SlimFix RenoTwin Solar 5.52022",20,22,"8x255"]
["SlimFix RenoTwin Solar 5.5","SlimFix RenoTwin Solar 5.52040",20,40,"8x275"]
["SlimFix RenoTwin Solar 5.5","SlimFix RenoTwin Solar 5.52050",20,50,"8x302"]
["SlimFix RenoTwin Solar 5.5","SlimFix RenoTwin Solar 5.52060",20,60,"8x302"]
["SlimFix RenoTwin Solar 5.5","SlimFix RenoTwin Solar 5.52070",20,70,"8x302"]
["SlimFix RenoTwin Solar 5.5","SlimFix RenoTwin Solar 5.53022",30,22,"8x275"]
["SlimFix RenoTwin Solar 5.5","SlimFix RenoTwin Solar 5.53040",30,40,"8x302"]
["SlimFix RenoTwin Solar 5.5","SlimFix RenoTwin Solar 5.53050",30,50,"8x302"]
["SlimFix RenoTwin Solar 5.5","SlimFix RenoTwin Solar 5.53060",30,60,"8x302"]
["SlimFix RenoTwin Solar 5.5","SlimFix RenoTwin Solar 5.53070",30,70,"8x335"]
["SlimFix RenoTwin Solar 6.3","SlimFix RenoTwin Solar 6.3022",0,22,"8x275"]
["SlimFix RenoTwin Solar 6.3",{"$f":"CONCATENATE(A253&C253&D253)","v":"SlimFix RenoTwin Solar 6.3040"},0,40,"8x302"]
["SlimFix RenoTwin Solar 6.3","SlimFix RenoTwin Solar 6.3050",0,50,"8x302"]
["SlimFix RenoTwin Solar 6.3","SlimFix RenoTwin Solar 6.3060",0,60,"8x302"]
["SlimFix RenoTwin Solar 6.3","SlimFix RenoTwin Solar 6.3070",0,70,"8x335"]
["SlimFix RenoTwin Solar 6.3","SlimFix RenoTwin Solar 6.32022",20,22,"8x302"]
["SlimFix RenoTwin Solar 6.3","SlimFix RenoTwin Solar 6.32040",20,40,"8x302"]
["SlimFix RenoTwin Solar 6.3","SlimFix RenoTwin Solar 6.32050",20,50,"8x335"]
["SlimFix RenoTwin Solar 6.3","SlimFix RenoTwin Solar 6.32060",20,60,"8x335"]
["SlimFix RenoTwin Solar 6.3","SlimFix RenoTwin Solar 6.32070",20,70,"8x335"]
["SlimFix RenoTwin Solar 6.3","SlimFix RenoTwin Solar 6.33022",30,22,"8x302"]
["SlimFix RenoTwin Solar 6.3","SlimFix RenoTwin Solar 6.33040",30,40,"8x335"]
["SlimFix RenoTwin Solar 6.3","SlimFix RenoTwin Solar 6.33050",30,50,"8x335"]
["SlimFix RenoTwin Solar 6.3","SlimFix RenoTwin Solar 6.33060",30,60,"8x335"]
["SlimFix RenoTwin Solar 6.3","SlimFix RenoTwin Solar 6.33070",30,70,"8x365"]
["SlimFix RenoTwin Solar 6.7","SlimFix RenoTwin Solar 6.7022",0,22,"8x275"]
["SlimFix RenoTwin Solar 6.7","SlimFix RenoTwin Solar 6.7040",0,40,"8x302"]
["SlimFix RenoTwin Solar 6.7","SlimFix RenoTwin Solar 6.7050",0,50,"8x302"]
["SlimFix RenoTwin Solar 6.7","SlimFix RenoTwin Solar 6.7060",0,60,"8x335"]
["SlimFix RenoTwin Solar 6.7","SlimFix RenoTwin Solar 6.7070",0,70,"8x335"]
["SlimFix RenoTwin Solar 6.7","SlimFix RenoTwin Solar 6.72022",20,22,"8x302"]
["SlimFix RenoTwin Solar 6.7","SlimFix RenoTwin Solar 6.72040",20,40,"8x335"]
["SlimFix RenoTwin Solar 6.7","SlimFix RenoTwin Solar 6.72050",20,50,"8x335"]
["SlimFix RenoTwin Solar 6.7","SlimFix RenoTwin Solar 6.72060",20,60,"8x335"]
["SlimFix RenoTwin Solar 6.7","SlimFix RenoTwin Solar 6.72070",20,70,"8x365"]
["SlimFix RenoTwin Solar 6.7","SlimFix RenoTwin Solar 6.73022",30,22,"8x302"]
["SlimFix RenoTwin Solar 6.7","SlimFix RenoTwin Solar 6.73040",30,40,"8x335"]
["SlimFix RenoTwin Solar 6.7","SlimFix RenoTwin Solar 6.73050",30,50,"8x335"]
["SlimFix RenoTwin Solar 6.7","SlimFix RenoTwin Solar 6.73060",30,60,"8x365"]
["SlimFix RenoTwin Solar 6.7","SlimFix RenoTwin Solar 6.73070",30,70,"8x365"]
["SlimFix RenoTwin Solar 7.0","SlimFix RenoTwin Solar 7.0022",0,22,"8x302"]
["SlimFix RenoTwin Solar 7.0","SlimFix RenoTwin Solar 7.0040",0,40,"8x302"]
["SlimFix RenoTwin Solar 7.0","SlimFix RenoTwin Solar 7.0050",0,50,"8x335"]
["SlimFix RenoTwin Solar 7.0","SlimFix RenoTwin Solar 7.0060",0,60,"8x335"]
["SlimFix RenoTwin Solar 7.0","SlimFix RenoTwin Solar 7.0070",0,70,"8x335"]
["SlimFix RenoTwin Solar 7.0","SlimFix RenoTwin Solar 7.02022",20,22,"8x302"]
["SlimFix RenoTwin Solar 7.0","SlimFix RenoTwin Solar 7.02040",20,40,"8x335"]
["SlimFix RenoTwin Solar 7.0","SlimFix RenoTwin Solar 7.02050",20,50,"8x335"]
["SlimFix RenoTwin Solar 7.0","SlimFix RenoTwin Solar 7.02060",20,60,"8x365"]
["SlimFix RenoTwin Solar 7.0","SlimFix RenoTwin Solar 7.02070",20,70,"8x365"]
["SlimFix RenoTwin Solar 7.0","SlimFix RenoTwin Solar 7.03022",30,22,"8x335"]
["SlimFix RenoTwin Solar 7.0","SlimFix RenoTwin Solar 7.03040",30,40,"8x335"]
["SlimFix RenoTwin Solar 7.0","SlimFix RenoTwin Solar 7.03050",30,50,"8x365"]
["SlimFix RenoTwin Solar 7.0","SlimFix RenoTwin Solar 7.03060",30,60,"8x365"]
["SlimFix RenoTwin Solar 7.0","SlimFix RenoTwin Solar 7.03070",30,70,"8x365"]
["SlimFix RenoTwin Solar 8.0","SlimFix RenoTwin Solar 8.0022",0,22,"8x335"]
["SlimFix RenoTwin Solar 8.0","SlimFix RenoTwin Solar 8.0040",0,40,"8x335"]
["SlimFix RenoTwin Solar 8.0","SlimFix RenoTwin Solar 8.0050",0,50,"8x365"]
["SlimFix RenoTwin Solar 8.0","SlimFix RenoTwin Solar 8.0060",0,60,"8x365"]
["SlimFix RenoTwin Solar 8.0","SlimFix RenoTwin Solar 8.0070",0,70,"8x365"]
["SlimFix RenoTwin Solar 8.0","SlimFix RenoTwin Solar 8.02022",20,22,"8x365"]
["SlimFix RenoTwin Solar 8.0","SlimFix RenoTwin Solar 8.02040",20,40,"8x365"]
["SlimFix RenoTwin Solar 8.0","SlimFix RenoTwin Solar 8.02050",20,50,"8x365"]
["SlimFix RenoTwin Solar 8.0","SlimFix RenoTwin Solar 8.02060",20,60,"8x397"]
["SlimFix RenoTwin Solar 8.0","SlimFix RenoTwin Solar 8.02070",20,70,"8x397"]
["SlimFix RenoTwin Solar 8.0","SlimFix RenoTwin Solar 8.03022",30,22,"8x365"]
["SlimFix RenoTwin Solar 8.0","SlimFix RenoTwin Solar 8.03040",30,40,"8x365"]
["SlimFix RenoTwin Solar 8.0","SlimFix RenoTwin Solar 8.03050",30,50,"8x397"]
["SlimFix RenoTwin Solar 8.0","SlimFix RenoTwin Solar 8.03060",30,60,"8x397"]
["SlimFix RenoTwin Solar 8.0","SlimFix RenoTwin Solar 8.03070",30,70,"8x397"]
["SlimFix RenoTwin Solar 9.0","SlimFix RenoTwin Solar 9.0022",0,22,"8x365"]
["SlimFix RenoTwin Solar 9.0","SlimFix RenoTwin Solar 9.0040",0,40,"8x397"]
["SlimFix RenoTwin Solar 9.0","SlimFix RenoTwin Solar 9.0050",0,50,"8x397"]
["SlimFix RenoTwin Solar 9.0","SlimFix RenoTwin Solar 9.0060",0,60,"8x397"]
["SlimFix RenoTwin Solar 9.0","SlimFix RenoTwin Solar 9.0070",0,70,"8x435"]
["SlimFix RenoTwin Solar 9.0",{"$f":"CONCATENATE(A317&C317&D317)","v":"SlimFix RenoTwin Solar 9.02022"},20,22,"8x397"]
["SlimFix RenoTwin Solar 9.0","SlimFix RenoTwin Solar 9.02040",20,40,"8x397"]
["SlimFix RenoTwin Solar 9.0","SlimFix RenoTwin Solar 9.02050",20,50,"8x435"]
["SlimFix RenoTwin Solar 9.0","SlimFix RenoTwin Solar 9.02060",20,60,"8x435"]
["SlimFix RenoTwin Solar 9.0","SlimFix RenoTwin Solar 9.02070",20,70,"8x435"]
["SlimFix RenoTwin Solar 9.0","SlimFix RenoTwin Solar 9.03022",30,22,"8x397"]
["SlimFix RenoTwin Solar 9.0","SlimFix RenoTwin Solar 9.03040",30,40,"8x435"]
["SlimFix RenoTwin Solar 9.0","SlimFix RenoTwin Solar 9.03050",30,50,"8x435"]
["SlimFix RenoTwin Solar 9.0","SlimFix RenoTwin Solar 9.03060",30,60,"8x435"]
["SlimFix RenoTwin Solar 9.0","SlimFix RenoTwin Solar 9.03070",30,70,"8x435"]